Workbook

Sheet OSNOVNO
A1: Osnovni podaci PRILOG 1.3.
A3: Naziv korisnika | D3: Konzultant
A4: MIBPG | D4: telefon
A5: telefon | D5: e-mail adresa
A6: e-mail adresa
A8: Ekonomski vijek projekta | C8: * vijek projekcije održivosti projekta
A9: Prva godina ulaganja | C9: * odaberite godinu početka ulaganja
A10: Ukupna aktiva/imovina: | C10: * unesite vrijednost ukupne aktive/imovine
A11: Iznos potpore: | B11: =ULAGANJE_IZVORI!I29 -> 0 | C11: * iznos potpore mora odgovarati iznosu iz tablice troškova i izračuna potpore
A12: Datum završetka investicije: | C12: * unesite očekivani datum završetka investicije
A16: UPUTE:
A17: * korisnik ima pravo podnijeti Zahtjev za isplatu potpore jednokratno ili u ratama. Zahtjev za isplatu se može podnijeti u najviše dvije rate.
A18: * razdoblje provedbe projekta je 24 mjeseca od sklapanja ugovora o financiranju.
A19: * korisnik je zahtjev za isplatu prve rate obvezan dostaviti u roku od 12 mjeseci od dana sklapanja ugovora o financiranju. Zahtjev za isplatu konačne rate/jednokratne isplate korisnik je obvezan dostaviti u roku 24 mjeseca od dana sklapanja ugovora o financiranju

Sheet ULAGANJE_IZVORI
A1: Plan ulaganja i izvori financiranja
A2: Plan ulaganja | C2: Planirane godine | F2: Ukupno | G2: PRIHVATLJIVI IZNOSI stavaka koje su predmet prijave za dodjelu sredstava potpore | H2: % POTPORE | I2: IZNOS POTPORE PO STAVCI
C3: 2026 | D3: 2027 | E3: 2028
C4: 1 | D4: 2 | E4: 3
A5: PLAN ULAGANJA
A6: 1. | B6: Građenje/rekonstukcija | C6: =SUM(C7:C11) -> 0 | D6: =SUM(D7:D11) -> 0 | E6: =SUM(E7:E11) -> 0 | F6: =SUM(C6:E6) -> 0 | G6: =SUM(C6:E6) -> 0 | I6: =SUM(I7:I11) -> 0
A7: 1.1. | F7: =SUM(C7:E7) -> 0 | G7: =SUM(C7:E7) -> 0 | H7: 0 | I7: =G7*H7 -> 0
A8: 2.1. | F8: =SUM(C8:E8) -> 0 | G8: =SUM(C8:E8) -> 0 | H8: 0 | I8: =G8*H8 -> 0
A9: 3.1. | F9: =SUM(C9:E9) -> 0 | G9: =SUM(C9:E9) -> 0 | H9: 0 | I9: =G9*H9 -> 0
A10: 4.1. | F10: =SUM(C10:E10) -> 0 | G10: =SUM(C10:E10) -> 0 | H10: 0 | I10: =G10*H10 -> 0
A11: 5.1. | F11: =SUM(C11:E11) -> 0 | G11: =SUM(C11:E11) -> 0 | H11: 0 | I11: =G11*H11 -> 0
A12: 2. | B12: Opremanje | C12: =SUM(C13:C22) -> 0 | D12: =SUM(D13:D22) -> 0 | E12: =SUM(E13:E22) -> 0 | F12: =SUM(C12:E12) -> 0 | G12: =SUM(C12:E12) -> 0 | I12: =SUM(I13:I22) -> 0
A13: 2.1. | F13: =SUM(C13:E13) -> 0 | G13: =SUM(C13:E13) -> 0 | H13: 0 | I13: =G13*H13 -> 0
A14: 2.2. | F14: =SUM(C14:E14) -> 0 | G14: =SUM(C14:E14) -> 0 | H14: 0 | I14: =G14*H14 -> 0
A15: 2.3. | F15: =SUM(C15:E15) -> 0 | G15: =SUM(C15:E15) -> 0 | H15: 0 | I15: =G15*H15 -> 0
A16: 2.4. | F16: =SUM(C16:E16) -> 0 | G16: =SUM(C16:E16) -> 0 | H16: 0 | I16: =G16*H16 -> 0
A17: 2.5. | F17: =SUM(C17:E17) -> 0 | G17: =SUM(C17:E17) -> 0 | H17: 0 | I17: =G17*H17 -> 0
A18: 2.6. | F18: =SUM(C18:E18) -> 0 | G18: =SUM(C18:E18) -> 0 | H18: 0 | I18: =G18*H18 -> 0
A19: 2.7. | F19: =SUM(C19:E19) -> 0 | G19: =SUM(C19:E19) -> 0 | H19: 0 | I19: =G19*H19 -> 0
A20: 2.8. | F20: =SUM(C20:E20) -> 0 | G20: =SUM(C20:E20) -> 0 | H20: 0 | I20: =G20*H20 -> 0
A21: 2.9. | F21: =SUM(C21:E21) -> 0 | G21: =SUM(C21:E21) -> 0 | H21: 0 | I21: =G21*H21 -> 0
A22: 2.10. | F22: =SUM(C22:E22) -> 0 | G22: =SUM(C22:E22) -> 0 | H22: 0 | I22: =G22*H22 -> 0
A23: 3. | B23: Ostalo | C23: =SUM(C24:C28) -> 0 | D23: =SUM(D24:D28) -> 0 | E23: =SUM(E24:E28) -> 0 | F23: =SUM(C23:E23) -> 0 | G23: 0 | I23: 0
A24: 3.1. | F24: =SUM(C24:E24) -> 0 | G24: 0 | H24: 0 | I24: =G24*H24 -> 0
A25: 3.2. | F25: =SUM(C25:E25) -> 0 | G25: 0 | H25: 0 | I25: =G25*H25 -> 0
A26: 3.3. | F26: =SUM(C26:E26) -> 0 | G26: 0 | H26: 0 | I26: =G26*H26 -> 0
A27: 3.4. | F27: =SUM(C27:E27) -> 0 | G27: 0 | H27: 0 | I27: =G27*H27 -> 0
A28: 3.5. | F28: =SUM(C28:E28) -> 0 | G28: 0 | H28: 0 | I28: =G28*H28 -> 0
A29: UKUPAN TROŠAK PROJEKTA | C29: =SUM(C6+C12+C23) -> 0 | D29: =SUM(D6+D12+D23) -> 0 | E29: =SUM(E6+E12+E23) -> 0 | F29: =SUM(C29:E29) -> 0 | G29: =SUM(G6+G12) -> 0 | I29: =MIN(SUM(I6+I12),500000) -> 0
A30: IZVORI FINANCIRANJA
A31: Plan izvora sredstava | C31: 2026 | D31: 2027 | E31: 2028 | F31: Ukupno
C32: 1 | D32: 2 | E32: 3
A33: 1. | B33: Vlastita sredstva | C33: =SUM(C34:C36) -> 0 | D33: =SUM(D34:D36) -> 0 | E33: =SUM(E34:E36) -> 0 | F33: =SUM(C33:E33) -> 0
A34: 1.1. | F34: =SUM(C34:E34) -> 0
A35: 1.2. | F35: =SUM(C35:E35) -> 0
A36: 1.3. | F36: =SUM(C36:E36) -> 0
A37: 2. | B37: Krediti | C37: =SUM(C38:C39) -> 0 | D37: =SUM(D38:D39) -> 0 | E37: =SUM(E38:E39) -> 0 | F37: =SUM(C37:E37) -> 0
A38: 2.1. | B38: Kredit - projekt 1 | C38: 0 | D38: 0 | E38: 0 | F38: =SUM(C38:E38) -> 0
A39: 2.2. | B39: Kredit - projekt 2 | C39: 0 | D39: 0 | E39: 0 | F39: =SUM(C39:E39) -> 0
A40: UKUPNI IZVORI FINANCIRANJA | C40: =SUM(C33+C37) -> 0 | D40: =SUM(D33+D37) -> 0 | E40: =SUM(E33+E37) -> 0 | F40: =SUM(C40:E40) -> 0
...

Sheet ZEMLJIŠTE
A1: Podaci o zemljištu
A2: Stavka | B2: Jedinica mjere | C2: Prethodna godina | D2: 2026 | E2: 2027 | F2: 2028 | G2: 2029 | H2: 2030 | I2: 2031 | J2: 2032 | K2: 2033 | L2: 2034 | M2: 2035
D3: 1 | E3: 2 | F3: 3 | G3: 4 | H3: 5 | I3: 6 | J3: 7 | K3: 8 | L3: 9 | M3: 10
A4: STATUS ZEMLJIŠTA
A5: Zemlja u vlasništvu | B5: ha | E5: 0 | F5: 0 | G5: 0 | H5: 0 | I5: 0 | J5: 0 | K5: 0 | L5: 0 | M5: 0
A6: Zakup | B6: ha | E6: 0 | F6: 0 | G6: 0 | H6: 0 | I6: 0 | J6: 0 | K6: 0 | L6: 0 | M6: 0
A7: Ostalo | B7: ha
A8: UKUPNO | B8: ha | C8: =SUM(C5:C7) -> 0 | D8: =SUM(D5:D7) -> 0 | E8: =SUM(E5:E7) -> 0 | F8: =SUM(F5:F7) -> 0 | G8: =SUM(G5:G7) -> 0 | H8: =SUM(H5:H7) -> 0 | I8: =SUM(I5:I7) -> 0 | J8: =SUM(J5:J7) -> 0 | ... M8: =SUM(M5:M7) -> 0
A9: KATEGORIJA ZEMLJIŠTA
A10: BILJNA PROIZVODNJA
A11: ŽITARICE | B11: ha | C11: =SUM(C12:C17) -> 0 | D11: =SUM(D12:D17) -> 0 | E11: =SUM(E12:E17) -> 0 | F11: =SUM(F12:F17) -> 0 | G11: =SUM(G12:G17) -> 0 | H11: =SUM(H12:H17) -> 0 | I11: =SUM(I12:I17) -> 0 | J11: =SUM(J12:J17) -> 0 | ... M11: =SUM(M12:M17) -> 0
A12: Pšenica | B12: ha
A13: Kukuruz | B13: ha
A14: Ječam | B14: ha
A15: Zob | B15: ha
A16: Raž | B16: ha
A17: Ostale žitarice | B17: ha

Sheet TROŠKOVI
A1: Struktura i dinamika operativnih troškova
A2: Stavka | B2: Prethodna godina | C2: 2026 | D2: 2027 | E2: 2028 | F2: 2029 | G2: 2030 | H2: 2031 | I2: 2032 | J2: 2033 | K2: 2034 | L2: 2035
C3: 1 | D3: 2 | E3: 3 | F3: 4 | G3: 5 | H3: 6 | I3: 7 | J3: 8 | K3: 9 | L3: 10
A4: Troškovi materijala i građenja
A5: Troškovi opreme
A6: Nematerijalni troškovi
A7: Ostali troškovi
A8: UKUPNO | B8: =SUM(B4:B7) -> 0 | C8: =SUM(C4:C7) -> 0 | D8: =SUM(D4:D7) -> 0 | E8: =SUM(E4:E7) -> 0 | F8: =SUM(F4:F7) -> 0 | G8: =SUM(G4:G7) -> 0 | H8: =SUM(H4:H7) -> 0 | I8: =SUM(I4:I7) -> 0 | ... L8: =SUM(L4:L7) -> 0
A10: UPUTE:
A11: * ukupan iznos troškova prethodne godine treba biti usklađen s podacima iz priloženih poslovnih knjiga; planiranje budućih troškova bi trebalo imati podlogu u troškovima ostvarenim prethodne godine
A12: a) obveznik poreza na dobit - ukupni operativni troškovi iz prethodne godine trebaju odgovarati istima iz službenog financijskog izvještaja "GFI -POD" (ukupni poslovni rashodi - amortizacija - troškovi osoblja) b) obveznik poreza na dohodak - ukupni operativni troškovi iz prethodne godine trebaju odgovarati istima iz obrasca P-PPI (ukupni izdaci - amortizacija - troškovi osoblja)

Sheet ZAPOSLENICI
A1: Zaposlenici i trošak rada
A2: Stavka | B2: 2025 | C2: 2026 | D2: 2027 | E2: 2028 | F2: 2029 | G2: 2030 | H2: 2031 | I2: 2032 | J2: 2033 | K2: 2034 | L2: 2035
C3: 1 | D3: 2 | E3: 3 | F3: 4 | G3: 5 | H3: 6 | I3: 7 | J3: 8 | K3: 9 | L3: 10
A4: Broj stalno zaposlenih
A5: Prosječna mjesečna bruto plaća
A6: Broj radnih mjeseci
A7: Trošak stalno zaposlenih | B7: =B4*B5*B6 -> 0 | C7: =C4*C5*C6 -> 0 | D7: =D4*D5*D6 -> 0 | E7: =E4*E5*E6 -> 0 | F7: =F4*F5*F6 -> 0 | G7: =G4*G5*G6 -> 0 | H7: =H4*H5*H6 -> 0 | I7: =I4*I5*I6 -> 0 | ... L7: =L4*L5*L6 -> 0
A8: Broj privremeno zaposlenih
A9: Prosječna bruto plaća
A10: Broj radnih mjeseci/dana/sati
A11: Trošak privremeno zaposlenih | M11: Redak unijeti ručno tako da se broj zaposlenih pomnoži s prosječnom bruto plaćom i brojem radnih mjeseci/dana/sati, ostaviti jednu od mjera (mjesec ili dane ili sate)
A12: UKUPAN TROŠAK PLAĆA | B12: =SUM(B7+B11) -> 0 | C12: =SUM(C7+C11) -> 0 | D12: =SUM(D7+D11) -> 0 | E12: =SUM(E7+E11) -> 0 | F12: =SUM(F7+F11) -> 0 | G12: =SUM(G7+G11) -> 0 | H12: =SUM(H7+H11) -> 0 | I12: =SUM(I7+I11) -> 0 | ... L12: =SUM(L7+L11) -> 0
A15: BROJ NOVOSTVORENIH RADNIH MJESTA
A18: UPUTE:
A19: * ispunite tablicu u skladu s planom zapošljavanja i prosječnim bruto plaćama; prilikom planiranja troška zaposlenih vodite računa o propisanom iznosu minimalne plaće
A20: * broj zaposlenih i ukupan trošak plaća u prethodnoj godini trebaju biti usklađeni s podacima iz priloženih poslovnih knjiga i/ili zakonom propisanih evidencija u godini za koju se unose

Sheet AMORTIZACIJA
A1: Amortizacija
A2: Novo kupljena imovina
A3: Otpis vrijednosti novokupljene imovine | C3: Nabavna vrijednost | D3: Stopa amortizacije (%) | E3: 2026 | F3: 2027 | G3: 2028 | H3: 2029 | I3: 2030 | J3: 2031 | K3: 2032 | L3: 2033 | M3: 2034 | N3: 2035 | O3: OSTATAK VRIJEDNOSTI
E4: 1 | F4: 2 | G4: 3 | H4: 4 | I4: 5 | J4: 6 | K4: 7 | L4: 8 | M4: 9 | N4: 10
C5: =SUM(C6+C12+C23) -> 0 | E5: =SUM(E6+E12+E23) -> 0 | F5: =SUM(F6+F12+F23) -> 0 | G5: =SUM(G6+G12+G23) -> 0 | H5: =SUM(H6+H12+H23) -> 0 | I5: =SUM(I6+I12+I23) -> 0 | J5: =SUM(J6+J12+J23) -> 0 | K5: =SUM(K6+K12+K23) -> 0 | L5: =SUM(L6+L12+L23) -> 0 | ... O5: =SUM(O6+O12+O23) -> 0
A6: Građenje | C6: =SUM(C7:C11) -> 0 | E6: =SUM(E7:E11) -> 0 | F6: =SUM(F7:F11) -> 0 | G6: =SUM(G7:G11) -> 0 | H6: =SUM(H7:H11) -> 0 | I6: =SUM(I7:I11) -> 0 | J6: =SUM(J7:J11) -> 0 | K6: =SUM(K7:K11) -> 0 | L6: =SUM(L7:L11) -> 0 | ... O6: =SUM(O7:O11) -> 0
A7: =ULAGANJE_IZVORI!B7 -> 0 | C7: =ULAGANJE_IZVORI!F7 -> 0 | D7: 0 | E7: =(C7*D7) -> 0 | F7: =IF($C7-SUM($E7:E7)<=0,0,MIN($C7*$D7,$C7-SUM($E7:E7))) -> 0 | G7: =IF($C7-SUM($E7:F7)<=0,0,MIN($C7*$D7,$C7-SUM($E7:F7))) -> 0 | H7: =IF($C7-SUM($E7:G7)<=0,0,MIN($C7*$D7,$C7-SUM($E7:G7))) -> 0 | I7: =IF($C7-SUM($E7:H7)<=0,0,MIN($C7*$D7,$C7-SUM($E7:H7))) -> 0 | J7: =IF($C7-SUM($E7:I7)<=0,0,MIN($C7*$D7,$C7-SUM($E7:I7))) -> 0 | K7: =IF($C7-SUM($E7:J7)<=0,0,MIN($C7*$D7,$C7-SUM($E7:J7))) -> 0 | L7: =IF($C7-SUM($E7:K7)<=0,0,MIN($C7*$D7,$C7-SUM($E7:K7))) -> 0 | M7: =IF($C7-SUM($E7:L7)<=0,0,MIN($C7*$D7,$C7-SUM($E7:L7))) -> 0 | N7: =IF($C7-SUM($E7:M7)<=0,0,MIN($C7*$D7,$C7-SUM($E7:M7))) -> 0 | O7: =C7-SUM(E7:N7) -> 0
A8: =ULAGANJE_IZVORI!B8 -> 0 | C8: =ULAGANJE_IZVORI!F8 -> 0 | D8: 0 | E8: =(C8*D8) -> 0 | F8: =IF($C8-SUM($E8:E8)<=0,0,MIN($C8*$D8,$C8-SUM($E8:E8))) -> 0 | G8: =IF($C8-SUM($E8:F8)<=0,0,MIN($C8*$D8,$C8-SUM($E8:F8))) -> 0 | H8: =IF($C8-SUM($E8:G8)<=0,0,MIN($C8*$D8,$C8-SUM($E8:G8))) -> 0 | I8: =IF($C8-SUM($E8:H8)<=0,0,MIN($C8*$D8,$C8-SUM($E8:H8))) -> 0 | J8: =IF($C8-SUM($E8:I8)<=0,0,MIN($C8*$D8,$C8-SUM($E8:I8))) -> 0 | K8: =IF($C8-SUM($E8:J8)<=0,0,MIN($C8*$D8,$C8-SUM($E8:J8))) -> 0 | L8: =IF($C8-SUM($E8:K8)<=0,0,MIN($C8*$D8,$C8-SUM($E8:K8))) -> 0 | M8: =IF($C8-SUM($E8:L8)<=0,0,MIN($C8*$D8,$C8-SUM($E8:L8))) -> 0 | N8: =IF($C8-SUM($E8:M8)<=0,0,MIN($C8*$D8,$C8-SUM($E8:M8))) -> 0 | O8: =C8-SUM(E8:N8) -> 0
A9: =ULAGANJE_IZVORI!B9 -> 0 | C9: =ULAGANJE_IZVORI!F9 -> 0 | D9: 0 | E9: =(C9*D9) -> 0 | F9: =IF($C9-SUM($E9:E9)<=0,0,MIN($C9*$D9,$C9-SUM($E9:E9))) -> 0 | G9: =IF($C9-SUM($E9:F9)<=0,0,MIN($C9*$D9,$C9-SUM($E9:F9))) -> 0 | H9: =IF($C9-SUM($E9:G9)<=0,0,MIN($C9*$D9,$C9-SUM($E9:G9))) -> 0 | I9: =IF($C9-SUM($E9:H9)<=0,0,MIN($C9*$D9,$C9-SUM($E9:H9))) -> 0 | J9: =IF($C9-SUM($E9:I9)<=0,0,MIN($C9*$D9,$C9-SUM($E9:I9))) -> 0 | K9: =IF($C9-SUM($E9:J9)<=0,0,MIN($C9*$D9,$C9-SUM($E9:J9))) -> 0 | L9: =IF($C9-SUM($E9:K9)<=0,0,MIN($C9*$D9,$C9-SUM($E9:K9))) -> 0 | M9: =IF($C9-SUM($E9:L9)<=0,0,MIN($C9*$D9,$C9-SUM($E9:L9))) -> 0 | N9: =IF($C9-SUM($E9:M9)<=0,0,MIN($C9*$D9,$C9-SUM($E9:M9))) -> 0 | O9: =C9-SUM(E9:N9) -> 0
A10: =ULAGANJE_IZVORI!B10 -> 0 | C10: =ULAGANJE_IZVORI!F10 -> 0 | D10: 0 | E10: =(C10*D10) -> 0 | F10: =IF($C10-SUM($E10:E10)<=0,0,MIN($C10*$D10,$C10-SUM($E10:E10))) -> 0 | G10: =IF($C10-SUM($E10:F10)<=0,0,MIN($C10*$D10,$C10-SUM($E10:F10))) -> 0 | H10: =IF($C10-SUM($E10:G10)<=0,0,MIN($C10*$D10,$C10-SUM($E10:G10))) -> 0 | I10: =IF($C10-SUM($E10:H10)<=0,0,MIN($C10*$D10,$C10-SUM($E10:H10))) -> 0 | J10: =IF($C10-SUM($E10:I10)<=0,0,MIN($C10*$D10,$C10-SUM($E10:I10))) -> 0 | K10: =IF($C10-SUM($E10:J10)<=0,0,MIN($C10*$D10,$C10-SUM($E10:J10))) -> 0 | L10: =IF($C10-SUM($E10:K10)<=0,0,MIN($C10*$D10,$C10-SUM($E10:K10))) -> 0 | M10: =IF($C10-SUM($E10:L10)<=0,0,MIN($C10*$D10,$C10-SUM($E10:L10))) -> 0 | N10: =IF($C10-SUM($E10:M10)<=0,0,MIN($C10*$D10,$C10-SUM($E10:M10))) -> 0 | O10: =C10-SUM(E10:N10) -> 0
A11: =ULAGANJE_IZVORI!B11 -> 0 | C11: =ULAGANJE_IZVORI!F11 -> 0 | D11: 0 | E11: =(C11*D11) -> 0 | F11: =IF($C11-SUM($E11:E11)<=0,0,MIN($C11*$D11,$C11-SUM($E11:E11))) -> 0 | G11: =IF($C11-SUM($E11:F11)<=0,0,MIN($C11*$D11,$C11-SUM($E11:F11))) -> 0 | H11: =IF($C11-SUM($E11:G11)<=0,0,MIN($C11*$D11,$C11-SUM($E11:G11))) -> 0 | I11: =IF($C11-SUM($E11:H11)<=0,0,MIN($C11*$D11,$C11-SUM($E11:H11))) -> 0 | J11: =IF($C11-SUM($E11:I11)<=0,0,MIN($C11*$D11,$C11-SUM($E11:I11))) -> 0 | K11: =IF($C11-SUM($E11:J11)<=0,0,MIN($C11*$D11,$C11-SUM($E11:J11))) -> 0 | L11: =IF($C11-SUM($E11:K11)<=0,0,MIN($C11*$D11,$C11-SUM($E11:K11))) -> 0 | M11: =IF($C11-SUM($E11:L11)<=0,0,MIN($C11*$D11,$C11-SUM($E11:L11))) -> 0 | N11: =IF($C11-SUM($E11:M11)<=0,0,MIN($C11*$D11,$C11-SUM($E11:M11))) -> 0 | O11: =C11-SUM(E11:N11) -> 0
A12: Oprema | C12: =SUM(C13:C22) -> 0 | E12: =SUM(E13:E22) -> 0 | F12: =SUM(F13:F22) -> 0 | G12: =SUM(G13:G22) -> 0 | H12: =SUM(H13:H22) -> 0 | I12: =SUM(I13:I22) -> 0 | J12: =SUM(J13:J22) -> 0 | K12: =SUM(K13:K22) -> 0 | L12: =SUM(L13:L22) -> 0 | ... O12: =SUM(O13:O22) -> 0
A13: =ULAGANJE_IZVORI!B13 -> 0 | C13: =ULAGANJE_IZVORI!F13 -> 0 | D13: 0 | E13: =(C13*D13) -> 0 | F13: =IF($C13-SUM($E13:E13)<=0,0,MIN($C13*$D13,$C13-SUM($E13:E13))) -> 0 | G13: =IF($C13-SUM($E13:F13)<=0,0,MIN($C13*$D13,$C13-SUM($E13:F13))) -> 0 | H13: =IF($C13-SUM($E13:G13)<=0,0,MIN($C13*$D13,$C13-SUM($E13:G13))) -> 0 | I13: =IF($C13-SUM($E13:H13)<=0,0,MIN($C13*$D13,$C13-SUM($E13:H13))) -> 0 | J13: =IF($C13-SUM($E13:I13)<=0,0,MIN($C13*$D13,$C13-SUM($E13:I13))) -> 0 | K13: =IF($C13-SUM($E13:J13)<=0,0,MIN($C13*$D13,$C13-SUM($E13:J13))) -> 0 | L13: =IF($C13-SUM($E13:K13)<=0,0,MIN($C13*$D13,$C13-SUM($E13:K13))) -> 0 | M13: =IF($C13-SUM($E13:L13)<=0,0,MIN($C13*$D13,$C13-SUM($E13:L13))) -> 0 | N13: =IF($C13-SUM($E13:M13)<=0,0,MIN($C13*$D13,$C13-SUM($E13:M13))) -> 0 | O13: =C13-SUM(E13:N13) -> 0
A14: =ULAGANJE_IZVORI!B14 -> 0 | C14: =ULAGANJE_IZVORI!F14 -> 0 | D14: 0 | E14: =(C14*D14) -> 0 | F14: =IF($C14-SUM($E14:E14)<=0,0,MIN($C14*$D14,$C14-SUM($E14:E14))) -> 0 | G14: =IF($C14-SUM($E14:F14)<=0,0,MIN($C14*$D14,$C14-SUM($E14:F14))) -> 0 | H14: =IF($C14-SUM($E14:G14)<=0,0,MIN($C14*$D14,$C14-SUM($E14:G14))) -> 0 | I14: =IF($C14-SUM($E14:H14)<=0,0,MIN($C14*$D14,$C14-SUM($E14:H14))) -> 0 | J14: =IF($C14-SUM($E14:I14)<=0,0,MIN($C14*$D14,$C14-SUM($E14:I14))) -> 0 | K14: =IF($C14-SUM($E14:J14)<=0,0,MIN($C14*$D14,$C14-SUM($E14:J14))) -> 0 | L14: =IF($C14-SUM($E14:K14)<=0,0,MIN($C14*$D14,$C14-SUM($E14:K14))) -> 0 | M14: =IF($C14-SUM($E14:L14)<=0,0,MIN($C14*$D14,$C14-SUM($E14:L14))) -> 0 | N14: =IF($C14-SUM($E14:M14)<=0,0,MIN($C14*$D14,$C14-SUM($E14:M14))) -> 0 | O14: =C14-SUM(E14:N14) -> 0
A15: =ULAGANJE_IZVORI!B15 -> 0 | C15: =ULAGANJE_IZVORI!F15 -> 0 | D15: 0 | E15: =(C15*D15) -> 0 | F15: =IF($C15-SUM($E15:E15)<=0,0,MIN($C15*$D15,$C15-SUM($E15:E15))) -> 0 | G15: =IF($C15-SUM($E15:F15)<=0,0,MIN($C15*$D15,$C15-SUM($E15:F15))) -> 0 | H15: =IF($C15-SUM($E15:G15)<=0,0,MIN($C15*$D15,$C15-SUM($E15:G15))) -> 0 | I15: =IF($C15-SUM($E15:H15)<=0,0,MIN($C15*$D15,$C15-SUM($E15:H15))) -> 0 | J15: =IF($C15-SUM($E15:I15)<=0,0,MIN($C15*$D15,$C15-SUM($E15:I15))) -> 0 | K15: =IF($C15-SUM($E15:J15)<=0,0,MIN($C15*$D15,$C15-SUM($E15:J15))) -> 0 | L15: =IF($C15-SUM($E15:K15)<=0,0,MIN($C15*$D15,$C15-SUM($E15:K15))) -> 0 | M15: =IF($C15-SUM($E15:L15)<=0,0,MIN($C15*$D15,$C15-SUM($E15:L15))) -> 0 | N15: =IF($C15-SUM($E15:M15)<=0,0,MIN($C15*$D15,$C15-SUM($E15:M15))) -> 0 | O15: =C15-SUM(E15:N15) -> 0
A16: =ULAGANJE_IZVORI!B16 -> 0 | C16: =ULAGANJE_IZVORI!F16 -> 0 | D16: 0 | E16: =(C16*D16) -> 0 | F16: =IF($C16-SUM($E16:E16)<=0,0,MIN($C16*$D16,$C16-SUM($E16:E16))) -> 0 | G16: =IF($C16-SUM($E16:F16)<=0,0,MIN($C16*$D16,$C16-SUM($E16:F16))) -> 0 | H16: =IF($C16-SUM($E16:G16)<=0,0,MIN($C16*$D16,$C16-SUM($E16:G16))) -> 0 | I16: =IF($C16-SUM($E16:H16)<=0,0,MIN($C16*$D16,$C16-SUM($E16:H16))) -> 0 | J16: =IF($C16-SUM($E16:I16)<=0,0,MIN($C16*$D16,$C16-SUM($E16:I16))) -> 0 | K16: =IF($C16-SUM($E16:J16)<=0,0,MIN($C16*$D16,$C16-SUM($E16:J16))) -> 0 | L16: =IF($C16-SUM($E16:K16)<=0,0,MIN($C16*$D16,$C16-SUM($E16:K16))) -> 0 | M16: =IF($C16-SUM($E16:L16)<=0,0,MIN($C16*$D16,$C16-SUM($E16:L16))) -> 0 | N16: =IF($C16-SUM($E16:M16)<=0,0,MIN($C16*$D16,$C16-SUM($E16:M16))) -> 0 | O16: =C16-SUM(E16:N16) -> 0
A17: =ULAGANJE_IZVORI!B17 -> 0 | C17: =ULAGANJE_IZVORI!F17 -> 0 | D17: 0 | E17: =(C17*D17) -> 0 | F17: =IF($C17-SUM($E17:E17)<=0,0,MIN($C17*$D17,$C17-SUM($E17:E17))) -> 0 | G17: =IF($C17-SUM($E17:F17)<=0,0,MIN($C17*$D17,$C17-SUM($E17:F17))) -> 0 | H17: =IF($C17-SUM($E17:G17)<=0,0,MIN($C17*$D17,$C17-SUM($E17:G17))) -> 0 | I17: =IF($C17-SUM($E17:H17)<=0,0,MIN($C17*$D17,$C17-SUM($E17:H17))) -> 0 | J17: =IF($C17-SUM($E17:I17)<=0,0,MIN($C17*$D17,$C17-SUM($E17:I17))) -> 0 | K17: =IF($C17-SUM($E17:J17)<=0,0,MIN($C17*$D17,$C17-SUM($E17:J17))) -> 0 | L17: =IF($C17-SUM($E17:K17)<=0,0,MIN($C17*$D17,$C17-SUM($E17:K17))) -> 0 | M17: =IF($C17-SUM($E17:L17)<=0,0,MIN($C17*$D17,$C17-SUM($E17:L17))) -> 0 | N17: =IF($C17-SUM($E17:M17)<=0,0,MIN($C17*$D17,$C17-SUM($E17:M17))) -> 0 | O17: =C17-SUM(E17:N17) -> 0
A18: =ULAGANJE_IZVORI!B18 -> 0 | C18: =ULAGANJE_IZVORI!F18 -> 0 | D18: 0 | E18: =(C18*D18) -> 0 | F18: =IF($C18-SUM($E18:E18)<=0,0,MIN($C18*$D18,$C18-SUM($E18:E18))) -> 0 | G18: =IF($C18-SUM($E18:F18)<=0,0,MIN($C18*$D18,$C18-SUM($E18:F18))) -> 0 | H18: =IF($C18-SUM($E18:G18)<=0,0,MIN($C18*$D18,$C18-SUM($E18:G18))) -> 0 | I18: =IF($C18-SUM($E18:H18)<=0,0,MIN($C18*$D18,$C18-SUM($E18:H18))) -> 0 | J18: =IF($C18-SUM($E18:I18)<=0,0,MIN($C18*$D18,$C18-SUM($E18:I18))) -> 0 | K18: =IF($C18-SUM($E18:J18)<=0,0,MIN($C18*$D18,$C18-SUM($E18:J18))) -> 0 | L18: =IF($C18-SUM($E18:K18)<=0,0,MIN($C18*$D18,$C18-SUM($E18:K18))) -> 0 | M18: =IF($C18-SUM($E18:L18)<=0,0,MIN($C18*$D18,$C18-SUM($E18:L18))) -> 0 | N18: =IF($C18-SUM($E18:M18)<=0,0,MIN($C18*$D18,$C18-SUM($E18:M18))) -> 0 | O18: =C18-SUM(E18:N18) -> 0
A19: =ULAGANJE_IZVORI!B19 -> 0 | C19: =ULAGANJE_IZVORI!F19 -> 0 | D19: 0 | E19: =(C19*D19) -> 0 | F19: =IF($C19-SUM($E19:E19)<=0,0,MIN($C19*$D19,$C19-SUM($E19:E19))) -> 0 | G19: =IF($C19-SUM($E19:F19)<=0,0,MIN($C19*$D19,$C19-SUM($E19:F19))) -> 0 | H19: =IF($C19-SUM($E19:G19)<=0,0,MIN($C19*$D19,$C19-SUM($E19:G19))) -> 0 | I19: =IF($C19-SUM($E19:H19)<=0,0,MIN($C19*$D19,$C19-SUM($E19:H19))) -> 0 | J19: =IF($C19-SUM($E19:I19)<=0,0,MIN($C19*$D19,$C19-SUM($E19:I19))) -> 0 | K19: =IF($C19-SUM($E19:J19)<=0,0,MIN($C19*$D19,$C19-SUM($E19:J19))) -> 0 | L19: =IF($C19-SUM($E19:K19)<=0,0,MIN($C19*$D19,$C19-SUM($E19:K19))) -> 0 | M19: =IF($C19-SUM($E19:L19)<=0,0,MIN($C19*$D19,$C19-SUM($E19:L19))) -> 0 | N19: =IF($C19-SUM($E19:M19)<=0,0,MIN($C19*$D19,$C19-SUM($E19:M19))) -> 0 | O19: =C19-SUM(E19:N19) -> 0
A20: =ULAGANJE_IZVORI!B20 -> 0 | C20: =ULAGANJE_IZVORI!F20 -> 0 | D20: 0 | E20: =(C20*D20) -> 0 | F20: =IF($C20-SUM($E20:E20)<=0,0,MIN($C20*$D20,$C20-SUM($E20:E20))) -> 0 | G20: =IF($C20-SUM($E20:F20)<=0,0,MIN($C20*$D20,$C20-SUM($E20:F20))) -> 0 | H20: =IF($C20-SUM($E20:G20)<=0,0,MIN($C20*$D20,$C20-SUM($E20:G20))) -> 0 | I20: =IF($C20-SUM($E20:H20)<=0,0,MIN($C20*$D20,$C20-SUM($E20:H20))) -> 0 | J20: =IF($C20-SUM($E20:I20)<=0,0,MIN($C20*$D20,$C20-SUM($E20:I20))) -> 0 | K20: =IF($C20-SUM($E20:J20)<=0,0,MIN($C20*$D20,$C20-SUM($E20:J20))) -> 0 | L20: =IF($C20-SUM($E20:K20)<=0,0,MIN($C20*$D20,$C20-SUM($E20:K20))) -> 0 | M20: =IF($C20-SUM($E20:L20)<=0,0,MIN($C20*$D20,$C20-SUM($E20:L20))) -> 0 | N20: =IF($C20-SUM($E20:M20)<=0,0,MIN($C20*$D20,$C20-SUM($E20:M20))) -> 0 | O20: =C20-SUM(E20:N20) -> 0
A21: =ULAGANJE_IZVORI!B21 -> 0 | C21: =ULAGANJE_IZVORI!F21 -> 0 | D21: 0 | E21: =(C21*D21) -> 0 | F21: =IF($C21-SUM($E21:E21)<=0,0,MIN($C21*$D21,$C21-SUM($E21:E21))) -> 0 | G21: =IF($C21-SUM($E21:F21)<=0,0,MIN($C21*$D21,$C21-SUM($E21:F21))) -> 0 | H21: =IF($C21-SUM($E21:G21)<=0,0,MIN($C21*$D21,$C21-SUM($E21:G21))) -> 0 | I21: =IF($C21-SUM($E21:H21)<=0,0,MIN($C21*$D21,$C21-SUM($E21:H21))) -> 0 | J21: =IF($C21-SUM($E21:I21)<=0,0,MIN($C21*$D21,$C21-SUM($E21:I21))) -> 0 | K21: =IF($C21-SUM($E21:J21)<=0,0,MIN($C21*$D21,$C21-SUM($E21:J21))) -> 0 | L21: =IF($C21-SUM($E21:K21)<=0,0,MIN($C21*$D21,$C21-SUM($E21:K21))) -> 0 | M21: =IF($C21-SUM($E21:L21)<=0,0,MIN($C21*$D21,$C21-SUM($E21:L21))) -> 0 | N21: =IF($C21-SUM($E21:M21)<=0,0,MIN($C21*$D21,$C21-SUM($E21:M21))) -> 0 | O21: =C21-SUM(E21:N21) -> 0
A22: =ULAGANJE_IZVORI!B22 -> 0 | C22: =ULAGANJE_IZVORI!F22 -> 0 | D22: 0 | E22: =(C22*D22) -> 0 | F22: =IF($C22-SUM($E22:E22)<=0,0,MIN($C22*$D22,$C22-SUM($E22:E22))) -> 0 | G22: =IF($C22-SUM($E22:F22)<=0,0,MIN($C22*$D22,$C22-SUM($E22:F22))) -> 0 | H22: =IF($C22-SUM($E22:G22)<=0,0,MIN($C22*$D22,$C22-SUM($E22:G22))) -> 0 | I22: =IF($C22-SUM($E22:H22)<=0,0,MIN($C22*$D22,$C22-SUM($E22:H22))) -> 0 | J22: =IF($C22-SUM($E22:I22)<=0,0,MIN($C22*$D22,$C22-SUM($E22:I22))) -> 0 | K22: =IF($C22-SUM($E22:J22)<=0,0,MIN($C22*$D22,$C22-SUM($E22:J22))) -> 0 | L22: =IF($C22-SUM($E22:K22)<=0,0,MIN($C22*$D22,$C22-SUM($E22:K22))) -> 0 | M22: =IF($C22-SUM($E22:L22)<=0,0,MIN($C22*$D22,$C22-SUM($E22:L22))) -> 0 | N22: =IF($C22-SUM($E22:M22)<=0,0,MIN($C22*$D22,$C22-SUM($E22:M22))) -> 0 | O22: =C22-SUM(E22:N22) -> 0
A23: Ostalo | C23: =SUM(C24:C28) -> 0 | E23: =SUM(E24:E28) -> 0 | F23: =SUM(F24:F28) -> 0 | G23: =SUM(G24:G28) -> 0 | H23: =SUM(H24:H28) -> 0 | I23: =SUM(I24:I28) -> 0 | J23: =SUM(J24:J28) -> 0 | K23: =SUM(K24:K28) -> 0 | L23: =SUM(L24:L28) -> 0 | ... O23: =SUM(O24:O28) -> 0
A24: =ULAGANJE_IZVORI!B24 -> 0 | C24: =ULAGANJE_IZVORI!F24 -> 0 | D24: 0 | E24: =(C24*D24) -> 0 | F24: =IF($C24-SUM($E24:E24)<=0,0,MIN($C24*$D24,$C24-SUM($E24:E24))) -> 0 | G24: =IF($C24-SUM($E24:F24)<=0,0,MIN($C24*$D24,$C24-SUM($E24:F24))) -> 0 | H24: =IF($C24-SUM($E24:G24)<=0,0,MIN($C24*$D24,$C24-SUM($E24:G24))) -> 0 | I24: =IF($C24-SUM($E24:H24)<=0,0,MIN($C24*$D24,$C24-SUM($E24:H24))) -> 0 | J24: =IF($C24-SUM($E24:I24)<=0,0,MIN($C24*$D24,$C24-SUM($E24:I24))) -> 0 | K24: =IF($C24-SUM($E24:J24)<=0,0,MIN($C24*$D24,$C24-SUM($E24:J24))) -> 0 | L24: =IF($C24-SUM($E24:K24)<=0,0,MIN($C24*$D24,$C24-SUM($E24:K24))) -> 0 | M24: =IF($C24-SUM($E24:L24)<=0,0,MIN($C24*$D24,$C24-SUM($E24:L24))) -> 0 | N24: =IF($C24-SUM($E24:M24)<=0,0,MIN($C24*$D24,$C24-SUM($E24:M24))) -> 0 | O24: =C24-SUM(E24:N24) -> 0
A25: =ULAGANJE_IZVORI!B25 -> 0 | C25: =ULAGANJE_IZVORI!F25 -> 0 | D25: 0 | E25: =(C25*D25) -> 0 | F25: =IF($C25-SUM($E25:E25)<=0,0,MIN($C25*$D25,$C25-SUM($E25:E25))) -> 0 | G25: =IF($C25-SUM($E25:F25)<=0,0,MIN($C25*$D25,$C25-SUM($E25:F25))) -> 0 | H25: =IF($C25-SUM($E25:G25)<=0,0,MIN($C25*$D25,$C25-SUM($E25:G25))) -> 0 | I25: =IF($C25-SUM($E25:H25)<=0,0,MIN($C25*$D25,$C25-SUM($E25:H25))) -> 0 | J25: =IF($C25-SUM($E25:I25)<=0,0,MIN($C25*$D25,$C25-SUM($E25:I25))) -> 0 | K25: =IF($C25-SUM($E25:J25)<=0,0,MIN($C25*$D25,$C25-SUM($E25:J25))) -> 0 | L25: =IF($C25-SUM($E25:K25)<=0,0,MIN($C25*$D25,$C25-SUM($E25:K25))) -> 0 | M25: =IF($C25-SUM($E25:L25)<=0,0,MIN($C25*$D25,$C25-SUM($E25:L25))) -> 0 | N25: =IF($C25-SUM($E25:M25)<=0,0,MIN($C25*$D25,$C25-SUM($E25:M25))) -> 0 | O25: =C25-SUM(E25:N25) -> 0
A26: =ULAGANJE_IZVORI!B26 -> 0 | C26: =ULAGANJE_IZVORI!F26 -> 0 | D26: 0 | E26: =(C26*D26) -> 0 | F26: =IF($C26-SUM($E26:E26)<=0,0,MIN($C26*$D26,$C26-SUM($E26:E26))) -> 0 | G26: =IF($C26-SUM($E26:F26)<=0,0,MIN($C26*$D26,$C26-SUM($E26:F26))) -> 0 | H26: =IF($C26-SUM($E26:G26)<=0,0,MIN($C26*$D26,$C26-SUM($E26:G26))) -> 0 | I26: =IF($C26-SUM($E26:H26)<=0,0,MIN($C26*$D26,$C26-SUM($E26:H26))) -> 0 | J26: =IF($C26-SUM($E26:I26)<=0,0,MIN($C26*$D26,$C26-SUM($E26:I26))) -> 0 | K26: =IF($C26-SUM($E26:J26)<=0,0,MIN($C26*$D26,$C26-SUM($E26:J26))) -> 0 | L26: =IF($C26-SUM($E26:K26)<=0,0,MIN($C26*$D26,$C26-SUM($E26:K26))) -> 0 | M26: =IF($C26-SUM($E26:L26)<=0,0,MIN($C26*$D26,$C26-SUM($E26:L26))) -> 0 | N26: =IF($C26-SUM($E26:M26)<=0,0,MIN($C26*$D26,$C26-SUM($E26:M26))) -> 0 | O26: =C26-SUM(E26:N26) -> 0
A27: =ULAGANJE_IZVORI!B27 -> 0 | C27: =ULAGANJE_IZVORI!F27 -> 0 | D27: 0 | E27: =(C27*D27) -> 0 | F27: =IF($C27-SUM($E27:E27)<=0,0,MIN($C27*$D27,$C27-SUM($E27:E27))) -> 0 | G27: =IF($C27-SUM($E27:F27)<=0,0,MIN($C27*$D27,$C27-SUM($E27:F27))) -> 0 | H27: =IF($C27-SUM($E27:G27)<=0,0,MIN($C27*$D27,$C27-SUM($E27:G27))) -> 0 | I27: =IF($C27-SUM($E27:H27)<=0,0,MIN($C27*$D27,$C27-SUM($E27:H27))) -> 0 | J27: =IF($C27-SUM($E27:I27)<=0,0,MIN($C27*$D27,$C27-SUM($E27:I27))) -> 0 | K27: =IF($C27-SUM($E27:J27)<=0,0,MIN($C27*$D27,$C27-SUM($E27:J27))) -> 0 | L27: =IF($C27-SUM($E27:K27)<=0,0,MIN($C27*$D27,$C27-SUM($E27:K27))) -> 0 | M27: =IF($C27-SUM($E27:L27)<=0,0,MIN($C27*$D27,$C27-SUM($E27:L27))) -> 0 | N27: =IF($C27-SUM($E27:M27)<=0,0,MIN($C27*$D27,$C27-SUM($E27:M27))) -> 0 | O27: =C27-SUM(E27:N27) -> 0
A28: =ULAGANJE_IZVORI!B28 -> 0 | C28: =ULAGANJE_IZVORI!F28 -> 0 | D28: 0 | E28: =(C28*D28) -> 0 | F28: =IF($C28-SUM($E28:E28)<=0,0,MIN($C28*$D28,$C28-SUM($E28:E28))) -> 0 | G28: =IF($C28-SUM($E28:F28)<=0,0,MIN($C28*$D28,$C28-SUM($E28:F28))) -> 0 | H28: =IF($C28-SUM($E28:G28)<=0,0,MIN($C28*$D28,$C28-SUM($E28:G28))) -> 0 | I28: =IF($C28-SUM($E28:H28)<=0,0,MIN($C28*$D28,$C28-SUM($E28:H28))) -> 0 | J28: =IF($C28-SUM($E28:I28)<=0,0,MIN($C28*$D28,$C28-SUM($E28:I28))) -> 0 | K28: =IF($C28-SUM($E28:J28)<=0,0,MIN($C28*$D28,$C28-SUM($E28:J28))) -> 0 | L28: =IF($C28-SUM($E28:K28)<=0,0,MIN($C28*$D28,$C28-SUM($E28:K28))) -> 0 | M28: =IF($C28-SUM($E28:L28)<=0,0,MIN($C28*$D28,$C28-SUM($E28:L28))) -> 0 | N28: =IF($C28-SUM($E28:M28)<=0,0,MIN($C28*$D28,$C28-SUM($E28:M28))) -> 0 | O28: =C28-SUM(E28:N28) -> 0
A29: Postojeća imovina | O29: OSTATAK VRIJEDNOSTI
A30: Otpis vrijednosti postojeće imovine | B30: Nabavna vrijednost | C30: Neto knjigovodstvena vrijednost | D30: Stopa amortizacije | E30: 2026 | F30: 2027 | G30: 2028 | H30: 2029 | I30: 2030 | J30: 2031 | K30: 2032 | L30: 2033 | M30: 2034 | N30: 2035
E31: =SUM(E32:E44) -> 0 | F31: =SUM(F32:F44) -> 0 | G31: =SUM(G32:G44) -> 0 | H31: =SUM(H32:H44) -> 0 | I31: =SUM(I32:I44) -> 0 | J31: =SUM(J32:J44) -> 0 | K31: =SUM(K32:K44) -> 0 | L31: =SUM(L32:L44) -> 0 | ... O31: =SUM(O32:O44) -> 0
D32: 0 | E32: =B32*D32 -> 0 | F32: =B32*D32 -> 0 | G32: =B32*D32 -> 0 | H32: =B32*D32 -> 0 | I32: =B32*D32 -> 0 | J32: =B32*D32 -> 0 | K32: =B32*D32 -> 0 | L32: =B32*D32 -> 0 | M32: =B32*D32 -> 0 | N32: =B32*D32 -> 0 | O32: =B32-SUM(E32:N32) -> 0
D33: 0 | E33: =B33*D33 -> 0 | F33: =B33*D33 -> 0 | G33: =B33*D33 -> 0 | H33: =B33*D33 -> 0 | I33: =B33*D33 -> 0 | J33: =B33*D33 -> 0 | K33: =B33*D33 -> 0 | L33: =B33*D33 -> 0 | M33: =B33*D33 -> 0 | N33: =B33*D33 -> 0 | O33: =B33-SUM(E33:N33) -> 0
D34: 0 | E34: =B34*D34 -> 0 | F34: =B34*D34 -> 0 | G34: =B34*D34 -> 0 | H34: =B34*D34 -> 0 | I34: =B34*D34 -> 0 | J34: =B34*D34 -> 0 | K34: =B34*D34 -> 0 | L34: =B34*D34 -> 0 | M34: =B34*D34 -> 0 | N34: =B34*D34 -> 0 | O34: =B34-SUM(E34:N34) -> 0
D35: 0 | E35: =B35*D35 -> 0 | F35: =B35*D35 -> 0 | G35: =B35*D35 -> 0 | H35: =B35*D35 -> 0 | I35: =B35*D35 -> 0 | J35: =B35*D35 -> 0 | K35: =B35*D35 -> 0 | L35: =B35*D35 -> 0 | M35: =B35*D35 -> 0 | N35: =B35*D35 -> 0 | O35: =B35-SUM(E35:N35) -> 0
D36: 0 | E36: =B36*D36 -> 0 | F36: =B36*D36 -> 0 | G36: =B36*D36 -> 0 | H36: =B36*D36 -> 0 | I36: =B36*D36 -> 0 | J36: =B36*D36 -> 0 | K36: =B36*D36 -> 0 | L36: =B36*D36 -> 0 | M36: =B36*D36 -> 0 | N36: =B36*D36 -> 0 | O36: =B36-SUM(E36:N36) -> 0
D37: 0 | E37: =B37*D37 -> 0 | F37: =B37*D37 -> 0 | G37: =B37*D37 -> 0 | H37: =B37*D37 -> 0 | I37: =B37*D37 -> 0 | J37: =B37*D37 -> 0 | K37: =B37*D37 -> 0 | L37: =B37*D37 -> 0 | M37: =B37*D37 -> 0 | N37: =B37*D37 -> 0 | O37: =B37-SUM(E37:N37) -> 0
D38: 0 | E38: =B38*D38 -> 0 | F38: =B38*D38 -> 0 | G38: =B38*D38 -> 0 | H38: =B38*D38 -> 0 | I38: =B38*D38 -> 0 | J38: =B38*D38 -> 0 | K38: =B38*D38 -> 0 | L38: =B38*D38 -> 0 | M38: =B38*D38 -> 0 | N38: =B38*D38 -> 0 | O38: =B38-SUM(E38:N38) -> 0
D39: 0 | E39: =B39*D39 -> 0 | F39: =B39*D39 -> 0 | G39: =B39*D39 -> 0 | H39: =B39*D39 -> 0 | I39: =B39*D39 -> 0 | J39: =B39*D39 -> 0 | K39: =B39*D39 -> 0 | L39: =B39*D39 -> 0 | M39: =B39*D39 -> 0 | N39: =B39*D39 -> 0 | O39: =B39-SUM(E39:N39) -> 0
D40: 0 | E40: =B40*D40 -> 0 | F40: =B40*D40 -> 0 | G40: =B40*D40 -> 0 | H40: =B40*D40 -> 0 | I40: =B40*D40 -> 0 | J40: =B40*D40 -> 0 | K40: =B40*D40 -> 0 | L40: =B40*D40 -> 0 | M40: =B40*D40 -> 0 | N40: =B40*D40 -> 0 | O40: =B40-SUM(E40:N40) -> 0
...

Sheet KREDIT
A1: Kreditne obveze
A2: Stavka | C2: 2026 | D2: 2027 | E2: 2028 | F2: 2029 | G2: 2030 | H2: 2031 | I2: 2032 | J2: 2033 | K2: 2034 | L2: 2035 | M2: 2036 | N2: 2037 | O2: 2038 | P2: 2039 | Q2: 2040 | R2: 2041 | S2: 2042 | T2: 2043 | U2: 2044 | V2: 2045
C3: 1 | D3: 2 | E3: 3 | F3: 4 | G3: 5 | H3: 6 | I3: 7 | J3: 8 | K3: 9 | L3: 10 | M3: 11 | N3: 12 | O3: 13 | P3: 14 | Q3: 15 | R3: 16 | S3: 17 | T3: 18 | U3: 19 | V3: 20
A4: Kredit -1 | B4: Anuitet/Rata | C4: =C5+C6 -> 0 | D4: =D5+D6 -> 0 | E4: 0 | F4: 0 | G4: =G5+G6 -> 0 | H4: =H5+H6 -> 0 | I4: =I5+I6 -> 0 | J4: =J5+J6 -> 0 | K4: =K5+K6 -> 0 | L4: =L5+L6 -> 0 | M4: =M5+M6 -> 0 | N4: =N5+N6 -> 0 | ... V4: =V5+V6 -> 0
B5: Kamata | C5: 0 | D5: 0 | E5: 0 | F5: 0 | G5: 0 | H5: 0 | I5: 0 | J5: 0 | K5: 0 | L5: 0 | M5: 0 | N5: 0 | O5: 0 | P5: 0 | Q5: 0 | R5: 0 | S5: 0 | T5: 0 | U5: 0 | V5: 0
B6: Otplatni dio glavnice | C6: 0 | D6: 0 | E6: 0 | F6: 0 | G6: 0 | H6: 0 | I6: 0 | J6: 0 | K6: 0 | L6: 0 | M6: 0 | N6: 0 | O6: 0 | P6: 0 | Q6: 0 | R6: 0 | S6: 0 | T6: 0 | U6: 0 | V6: 0
B7: Ostatak duga | C7: =ULAGANJE_IZVORI!C38 -> 0 | D7: =C7-D6+ULAGANJE_IZVORI!D38 -> 0 | E7: =D7-E6+ULAGANJE_IZVORI!E38 -> 0 | F7: =E7-F6 -> 0 | G7: =F7-G6 -> 0 | H7: =G7-H6 -> 0 | I7: =H7-I6 -> 0 | J7: =I7-J6 -> 0 | K7: =J7-K6 -> 0 | L7: =K7-L6 -> 0 | M7: =L7-M6 -> 0 | ... V7: =U7-V6 -> 0
A8: Kredit - 2 | B8: Anuitet/Rata | C8: =SUM(C9+C10) -> 0 | D8: =SUM(D9+D10) -> 0 | E8: =SUM(E9+E10) -> 0 | F8: =SUM(F9+F10) -> 0 | G8: =SUM(G9+G10) -> 0 | H8: =SUM(H9+H10) -> 0 | I8: =SUM(I9+I10) -> 0 | J8: =SUM(J9+J10) -> 0 | ... V8: =SUM(V9+V10) -> 0
B9: Kamata | C9: 0 | D9: 0 | E9: 0 | F9: 0 | G9: 0 | H9: 0 | I9: 0 | J9: 0 | K9: 0 | L9: 0 | M9: 0 | N9: 0 | O9: 0 | P9: 0 | Q9: 0 | R9: 0 | S9: 0 | T9: 0 | U9: 0 | V9: 0
B10: Otplatni dio glavnice | C10: 0 | D10: 0 | E10: 0 | F10: 0 | G10: 0 | H10: 0 | I10: 0 | J10: 0 | K10: 0 | L10: 0 | M10: 0 | N10: 0 | O10: 0 | P10: 0 | Q10: 0 | R10: 0 | S10: 0 | T10: 0 | U10: 0 | V10: 0
B11: Ostatak duga | C11: =ULAGANJE_IZVORI!C39 -> 0 | D11: =C11-D10+ULAGANJE_IZVORI!D39 -> 0 | E11: =D11-E10+ULAGANJE_IZVORI!E39 -> 0 | F11: =E11-F10 -> 0 | G11: =F11-G10 -> 0 | H11: =G11-H10 -> 0 | I11: =H11-I10 -> 0 | J11: =I11-J10 -> 0 | K11: =J11-K10 -> 0 | L11: =K11-L10 -> 0 | M11: =L11-M10 -> 0 | ... V11: =U11-V10 -> 0
A12: Postojeći krediti | B12: Anuitet/Rata | C12: =C13+C14 -> 0 | D12: =D13+D14 -> 0 | E12: =E13+E14 -> 0 | F12: =F13+F14 -> 0 | G12: =G13+G14 -> 0 | H12: =H13+H14 -> 0 | I12: =I13+I14 -> 0 | J12: =J13+J14 -> 0 | ... V12: =V13+V14 -> 0
B13: Kamata | C13: 0 | D13: 0 | E13: 0 | F13: 0 | G13: 0 | H13: 0 | I13: 0 | J13: 0 | K13: 0 | L13: 0 | M13: 0 | N13: 0 | O13: 0 | P13: 0 | Q13: 0 | R13: 0 | S13: 0 | T13: 0 | U13: 0 | V13: 0
B14: Otplatni dio glavnice | C14: 0 | D14: 0 | E14: 0 | F14: 0 | G14: 0 | H14: 0 | I14: 0 | J14: 0 | K14: 0 | L14: 0 | M14: 0 | N14: 0 | O14: 0 | P14: 0 | Q14: 0 | R14: 0 | S14: 0 | T14: 0 | U14: 0 | V14: 0
B15: Ostatak duga | C15: 0 | D15: =C15-D14 -> 0 | E15: =D15-E14 -> 0 | F15: =E15-F14 -> 0 | G15: =F15-G14 -> 0 | H15: =G15-H14 -> 0 | I15: =H15-I14 -> 0 | J15: =I15-J14 -> 0 | K15: =J15-K14 -> 0 | ... V15: =U15-V14 -> 0
A16: UKUPNE KREDITNE OBVEZE | B16: Anuitet/Rata | C16: =SUM(C4+C8+C12) -> 0 | D16: =SUM(D4+D8+D12) -> 0 | E16: =SUM(E4+E8+E12) -> 0 | F16: =SUM(F4+F8+F12) -> 0 | G16: =SUM(G4+G8+G12) -> 0 | H16: =SUM(H4+H8+H12) -> 0 | I16: =SUM(I4+I8+I12) -> 0 | J16: =SUM(J4+J8+J12) -> 0 | ... V16: =SUM(V4+V8+V12) -> 0
B17: Kamata | C17: =SUM(C5+C9+C13) -> 0 | D17: =SUM(D5+D9+D13) -> 0 | E17: =SUM(E5+E9+E13) -> 0 | F17: =SUM(F5+F9+F13) -> 0 | G17: =SUM(G5+G9+G13) -> 0 | H17: =SUM(H5+H9+H13) -> 0 | I17: =SUM(I5+I9+I13) -> 0 | J17: =SUM(J5+J9+J13) -> 0 | ... V17: =SUM(V5+V9+V13) -> 0
B18: Otplatni dio glavnice | C18: =SUM(C6+C10+C14) -> 0 | D18: =SUM(D6+D10+D14) -> 0 | E18: =SUM(E6+E10+E14) -> 0 | F18: =SUM(F6+F10+F14) -> 0 | G18: =SUM(G6+G10+G14) -> 0 | H18: =SUM(H6+H10+H14) -> 0 | I18: =SUM(I6+I10+I14) -> 0 | J18: =SUM(J6+J10+J14) -> 0 | ... V18: =SUM(V6+V10+V14) -> 0
B19: Ostatak duga | C19: =SUM(C7+C11+C15) -> 0 | D19: =SUM(D7+D11+D15) -> 0 | E19: =SUM(E7+E11+E15) -> 0 | F19: =SUM(F7+F11+F15) -> 0 | G19: =SUM(G7+G11+G15) -> 0 | H19: =SUM(H7+H11+H15) -> 0 | I19: =SUM(I7+I11+I15) -> 0 | J19: =SUM(J7+J11+J15) -> 0 | ... V19: =SUM(V7+V11+V15) -> 0
A21: Kreditni uvjeti za "KREDIT 1":
A22: Kreditni uvjeti za "KREDIT 2":
A23: Opis postojećih kredita:
A25: UPUTE:
A26: * popunite tablice sukladno kreditnim uvjetima navedenim u za to predviđenim retcima
A27: * opišite postojeće kredite i kredit kojim planirate financirati projekt (naziv financijske institucije, kamatnu stopu, rok otplate, period počeka, naknade za obradu kredita, interkalarne kamate i sl.). Ukoliko postoji ili ste ga pripremili, priložite plan otplate kredita.
A28: * za izračun kreditnih obveza uzima se najveća vrijednost iz raspona kamatnih stopa iz pisma namjere
A29: * ukoliko se sredstvima potpore namjerava umanjiti dug po predmetnom kreditu, planirani iznos potpore prikažite kroz otplatni dio glavnice, vodeći pritom računa o očekivanom datumu primitka potpore
A30: * postojeće kreditne obveze prikažite u dijelu tablice "Postojeći krediti"
A31: * naknadu za obradu kredita, interkalarne kamate i eventualne troškove rezervacija također je potrebno ukalkulirati u troškove kredita

Sheet PLAN_PRODAJE
A1: Plan prodaje
A2: Tablica prodajnih količina
A3: Naziv proizvoda | B3: Jedinica mjere | C3: Prethodna godina | D3: 2026 | E3: 2027 | F3: 2028 | G3: 2029 | H3: 2030 | I3: 2031 | J3: 2032 | K3: 2033 | L3: 2034 | M3: 2035
D4: 1 | E4: 2 | F4: 3 | G4: 4 | H4: 5 | I4: 6 | J4: 7 | K4: 8 | L4: 9 | M4: 10
A20: UPUTE:
A21: * popunite tablicu svim proizvodima koje prodajete/planirate prodavati
A22: * prilikom planiranja vodite računa o ostvarivim kapacitetima proizvodnje i datumu završetka planirane investicije
A23: * u slučaju većeg prodajnog asortimana, grupirajte proizvode po dostupnim retcima i priložite dodatnu tablicu s detaljnijim podacima
A25: Tablica prodajnih cijena
A26: Naziv proizvoda | C26: Prethodna godina | D26: 2026 | E26: 2027 | F26: 2028 | G26: 2029 | H26: 2030 | I26: 2031 | J26: 2032 | K26: 2033 | L26: 2034 | M26: 2035
D27: 1 | E27: 2 | F27: 3 | G27: 4 | H27: 5 | I27: 6 | J27: 7 | K27: 8 | L27: 9 | M27: 10
A28: =A5 -> 0
A29: =A6 -> 0
A30: =A7 -> 0
A31: =A8 -> 0
A32: =A9 -> 0
A33: =A10 -> 0
A34: =A11 -> 0
A35: =A12 -> 0
A36: =A13 -> 0
A37: =A14 -> 0
A38: =A15 -> 0
A39: =A16 -> 0
... A41: =A18 -> 0
A43: UPUTE:
A44: * unesite ostvarene i planirane prodajne cijene proizvoda
A45: * projekcija bi trebala biti temeljena na stalnim cijenama
A46: * prilikom planiranja prodajnih cijena vodite računa o trenutnom stanju tržišta

Sheet PRIHODI
A1: Ukupni prihodi
A2: Struktura prihoda | B2: Prethodna godina | C2: 2026 | D2: 2027 | E2: 2028 | F2: 2029 | G2: 2030 | H2: 2031 | I2: 2032 | J2: 2033 | K2: 2034 | L2: 2035
C3: 1 | D3: 2 | E3: 3 | F3: 4 | G3: 5 | H3: 6 | I3: 7 | J3: 8 | K3: 9 | L3: 10
A4: Prihodi od prodaje | B4: =SUM(B5:B18) -> 0 | C4: =SUM(C5:C18) -> 0 | D4: =SUM(D5:D18) -> 0 | E4: =SUM(E5:E18) -> 0 | F4: =SUM(F5:F18) -> 0 | G4: =SUM(G5:G18) -> 0 | H4: =SUM(H5:H18) -> 0 | I4: =SUM(I5:I18) -> 0 | ... L4: =SUM(L5:L18) -> 0
A5: =PLAN_PRODAJE!A5 -> 0 | B5: =PLAN_PRODAJE!C5*PLAN_PRODAJE!C28 -> 0 | C5: =PLAN_PRODAJE!D5*PLAN_PRODAJE!D28 -> 0 | D5: =PLAN_PRODAJE!E5*PLAN_PRODAJE!E28 -> 0 | E5: =PLAN_PRODAJE!F5*PLAN_PRODAJE!F28 -> 0 | F5: =PLAN_PRODAJE!G5*PLAN_PRODAJE!G28 -> 0 | G5: =PLAN_PRODAJE!H5*PLAN_PRODAJE!H28 -> 0 | H5: =PLAN_PRODAJE!I5*PLAN_PRODAJE!I28 -> 0 | I5: =PLAN_PRODAJE!J5*PLAN_PRODAJE!J28 -> 0 | ... L5: =PLAN_PRODAJE!M5*PLAN_PRODAJE!M28 -> 0
A6: =PLAN_PRODAJE!A6 -> 0 | B6: =PLAN_PRODAJE!C6*PLAN_PRODAJE!C29 -> 0 | C6: =PLAN_PRODAJE!D6*PLAN_PRODAJE!D29 -> 0 | D6: =PLAN_PRODAJE!E6*PLAN_PRODAJE!E29 -> 0 | E6: =PLAN_PRODAJE!F6*PLAN_PRODAJE!F29 -> 0 | F6: =PLAN_PRODAJE!G6*PLAN_PRODAJE!G29 -> 0 | G6: =PLAN_PRODAJE!H6*PLAN_PRODAJE!H29 -> 0 | H6: =PLAN_PRODAJE!I6*PLAN_PRODAJE!I29 -> 0 | I6: =PLAN_PRODAJE!J6*PLAN_PRODAJE!J29 -> 0 | ... L6: =PLAN_PRODAJE!M6*PLAN_PRODAJE!M29 -> 0
A7: =PLAN_PRODAJE!A7 -> 0 | B7: =PLAN_PRODAJE!C7*PLAN_PRODAJE!C30 -> 0 | C7: =PLAN_PRODAJE!D7*PLAN_PRODAJE!D30 -> 0 | D7: =PLAN_PRODAJE!E7*PLAN_PRODAJE!E30 -> 0 | E7: =PLAN_PRODAJE!F7*PLAN_PRODAJE!F30 -> 0 | F7: =PLAN_PRODAJE!G7*PLAN_PRODAJE!G30 -> 0 | G7: =PLAN_PRODAJE!H7*PLAN_PRODAJE!H30 -> 0 | H7: =PLAN_PRODAJE!I7*PLAN_PRODAJE!I30 -> 0 | I7: =PLAN_PRODAJE!J7*PLAN_PRODAJE!J30 -> 0 | ... L7: =PLAN_PRODAJE!M7*PLAN_PRODAJE!M30 -> 0
A8: =PLAN_PRODAJE!A8 -> 0 | B8: =PLAN_PRODAJE!C8*PLAN_PRODAJE!C31 -> 0 | C8: =PLAN_PRODAJE!D8*PLAN_PRODAJE!D31 -> 0 | D8: =PLAN_PRODAJE!E8*PLAN_PRODAJE!E31 -> 0 | E8: =PLAN_PRODAJE!F8*PLAN_PRODAJE!F31 -> 0 | F8: =PLAN_PRODAJE!G8*PLAN_PRODAJE!G31 -> 0 | G8: =PLAN_PRODAJE!H8*PLAN_PRODAJE!H31 -> 0 | H8: =PLAN_PRODAJE!I8*PLAN_PRODAJE!I31 -> 0 | I8: =PLAN_PRODAJE!J8*PLAN_PRODAJE!J31 -> 0 | ... L8: =PLAN_PRODAJE!M8*PLAN_PRODAJE!M31 -> 0
A9: =PLAN_PRODAJE!A9 -> 0 | B9: =PLAN_PRODAJE!C9*PLAN_PRODAJE!C32 -> 0 | C9: =PLAN_PRODAJE!D9*PLAN_PRODAJE!D32 -> 0 | D9: =PLAN_PRODAJE!E9*PLAN_PRODAJE!E32 -> 0 | E9: =PLAN_PRODAJE!F9*PLAN_PRODAJE!F32 -> 0 | F9: =PLAN_PRODAJE!G9*PLAN_PRODAJE!G32 -> 0 | G9: =PLAN_PRODAJE!H9*PLAN_PRODAJE!H32 -> 0 | H9: =PLAN_PRODAJE!I9*PLAN_PRODAJE!I32 -> 0 | I9: =PLAN_PRODAJE!J9*PLAN_PRODAJE!J32 -> 0 | ... L9: =PLAN_PRODAJE!M9*PLAN_PRODAJE!M32 -> 0
A10: =PLAN_PRODAJE!A10 -> 0 | B10: =PLAN_PRODAJE!C10*PLAN_PRODAJE!C33 -> 0 | C10: =PLAN_PRODAJE!D10*PLAN_PRODAJE!D33 -> 0 | D10: =PLAN_PRODAJE!E10*PLAN_PRODAJE!E33 -> 0 | E10: =PLAN_PRODAJE!F10*PLAN_PRODAJE!F33 -> 0 | F10: =PLAN_PRODAJE!G10*PLAN_PRODAJE!G33 -> 0 | G10: =PLAN_PRODAJE!H10*PLAN_PRODAJE!H33 -> 0 | H10: =PLAN_PRODAJE!I10*PLAN_PRODAJE!I33 -> 0 | I10: =PLAN_PRODAJE!J10*PLAN_PRODAJE!J33 -> 0 | ... L10: =PLAN_PRODAJE!M10*PLAN_PRODAJE!M33 -> 0
A11: =PLAN_PRODAJE!A11 -> 0 | B11: =PLAN_PRODAJE!C11*PLAN_PRODAJE!C34 -> 0 | C11: =PLAN_PRODAJE!D11*PLAN_PRODAJE!D34 -> 0 | D11: =PLAN_PRODAJE!E11*PLAN_PRODAJE!E34 -> 0 | E11: =PLAN_PRODAJE!F11*PLAN_PRODAJE!F34 -> 0 | F11: =PLAN_PRODAJE!G11*PLAN_PRODAJE!G34 -> 0 | G11: =PLAN_PRODAJE!H11*PLAN_PRODAJE!H34 -> 0 | H11: =PLAN_PRODAJE!I11*PLAN_PRODAJE!I34 -> 0 | I11: =PLAN_PRODAJE!J11*PLAN_PRODAJE!J34 -> 0 | ... L11: =PLAN_PRODAJE!M11*PLAN_PRODAJE!M34 -> 0
A12: =PLAN_PRODAJE!A12 -> 0 | B12: =PLAN_PRODAJE!C12*PLAN_PRODAJE!C35 -> 0 | C12: =PLAN_PRODAJE!D12*PLAN_PRODAJE!D35 -> 0 | D12: =PLAN_PRODAJE!E12*PLAN_PRODAJE!E35 -> 0 | E12: =PLAN_PRODAJE!F12*PLAN_PRODAJE!F35 -> 0 | F12: =PLAN_PRODAJE!G12*PLAN_PRODAJE!G35 -> 0 | G12: =PLAN_PRODAJE!H12*PLAN_PRODAJE!H35 -> 0 | H12: =PLAN_PRODAJE!I12*PLAN_PRODAJE!I35 -> 0 | I12: =PLAN_PRODAJE!J12*PLAN_PRODAJE!J35 -> 0 | ... L12: =PLAN_PRODAJE!M12*PLAN_PRODAJE!M35 -> 0
A13: =PLAN_PRODAJE!A13 -> 0 | B13: =PLAN_PRODAJE!C13*PLAN_PRODAJE!C36 -> 0 | C13: =PLAN_PRODAJE!D13*PLAN_PRODAJE!D36 -> 0 | D13: =PLAN_PRODAJE!E13*PLAN_PRODAJE!E36 -> 0 | E13: =PLAN_PRODAJE!F13*PLAN_PRODAJE!F36 -> 0 | F13: =PLAN_PRODAJE!G13*PLAN_PRODAJE!G36 -> 0 | G13: =PLAN_PRODAJE!H13*PLAN_PRODAJE!H36 -> 0 | H13: =PLAN_PRODAJE!I13*PLAN_PRODAJE!I36 -> 0 | I13: =PLAN_PRODAJE!J13*PLAN_PRODAJE!J36 -> 0 | ... L13: =PLAN_PRODAJE!M13*PLAN_PRODAJE!M36 -> 0
A14: =PLAN_PRODAJE!A14 -> 0 | B14: =PLAN_PRODAJE!C14*PLAN_PRODAJE!C37 -> 0 | C14: =PLAN_PRODAJE!D14*PLAN_PRODAJE!D37 -> 0 | D14: =PLAN_PRODAJE!E14*PLAN_PRODAJE!E37 -> 0 | E14: =PLAN_PRODAJE!F14*PLAN_PRODAJE!F37 -> 0 | F14: =PLAN_PRODAJE!G14*PLAN_PRODAJE!G37 -> 0 | G14: =PLAN_PRODAJE!H14*PLAN_PRODAJE!H37 -> 0 | H14: =PLAN_PRODAJE!I14*PLAN_PRODAJE!I37 -> 0 | I14: =PLAN_PRODAJE!J14*PLAN_PRODAJE!J37 -> 0 | ... L14: =PLAN_PRODAJE!M14*PLAN_PRODAJE!M37 -> 0
A15: =PLAN_PRODAJE!A15 -> 0 | B15: =PLAN_PRODAJE!C15*PLAN_PRODAJE!C38 -> 0 | C15: =PLAN_PRODAJE!D15*PLAN_PRODAJE!D38 -> 0 | D15: =PLAN_PRODAJE!E15*PLAN_PRODAJE!E38 -> 0 | E15: =PLAN_PRODAJE!F15*PLAN_PRODAJE!F38 -> 0 | F15: =PLAN_PRODAJE!G15*PLAN_PRODAJE!G38 -> 0 | G15: =PLAN_PRODAJE!H15*PLAN_PRODAJE!H38 -> 0 | H15: =PLAN_PRODAJE!I15*PLAN_PRODAJE!I38 -> 0 | I15: =PLAN_PRODAJE!J15*PLAN_PRODAJE!J38 -> 0 | ... L15: =PLAN_PRODAJE!M15*PLAN_PRODAJE!M38 -> 0
A16: =PLAN_PRODAJE!A16 -> 0 | B16: =PLAN_PRODAJE!C16*PLAN_PRODAJE!C39 -> 0 | C16: =PLAN_PRODAJE!D16*PLAN_PRODAJE!D39 -> 0 | D16: =PLAN_PRODAJE!E16*PLAN_PRODAJE!E39 -> 0 | E16: =PLAN_PRODAJE!F16*PLAN_PRODAJE!F39 -> 0 | F16: =PLAN_PRODAJE!G16*PLAN_PRODAJE!G39 -> 0 | G16: =PLAN_PRODAJE!H16*PLAN_PRODAJE!H39 -> 0 | H16: =PLAN_PRODAJE!I16*PLAN_PRODAJE!I39 -> 0 | I16: =PLAN_PRODAJE!J16*PLAN_PRODAJE!J39 -> 0 | ... L16: =PLAN_PRODAJE!M16*PLAN_PRODAJE!M39 -> 0
... A18: =PLAN_PRODAJE!A18 -> 0 | B18: =PLAN_PRODAJE!C18*PLAN_PRODAJE!C41 -> 0 | C18: =PLAN_PRODAJE!D18*PLAN_PRODAJE!D41 -> 0 | D18: =PLAN_PRODAJE!E18*PLAN_PRODAJE!E41 -> 0 | E18: =PLAN_PRODAJE!F18*PLAN_PRODAJE!F41 -> 0 | F18: =PLAN_PRODAJE!G18*PLAN_PRODAJE!G41 -> 0 | G18: =PLAN_PRODAJE!H18*PLAN_PRODAJE!H41 -> 0 | H18: =PLAN_PRODAJE!I18*PLAN_PRODAJE!I41 -> 0 | I18: =PLAN_PRODAJE!J18*PLAN_PRODAJE!J41 -> 0 | ... L18: =PLAN_PRODAJE!M18*PLAN_PRODAJE!M41 -> 0
A19: Ostali poslovni prihodi | B19: =SUM(B20:B23) -> 0 | C19: =SUM(C20:C23) -> 0 | D19: =SUM(D20:D23) -> 0 | E19: =SUM(E20:E23) -> 0 | F19: =SUM(F20:F23) -> 0 | G19: =SUM(G20:G23) -> 0 | H19: =SUM(H20:H23) -> 0 | I19: =SUM(I20:I23) -> 0 | ... L19: =SUM(L20:L23) -> 0
A20: Poticaji
A21: OBŽ potpora | C21: =ULAGANJE_IZVORI!I29/10 -> 0 | D21: =ULAGANJE_IZVORI!I29/10 -> 0 | E21: =ULAGANJE_IZVORI!I29/10 -> 0 | F21: =ULAGANJE_IZVORI!I29/10 -> 0 | G21: =ULAGANJE_IZVORI!I29/10 -> 0 | H21: =ULAGANJE_IZVORI!I29/10 -> 0 | I21: =ULAGANJE_IZVORI!I29/10 -> 0 | J21: =ULAGANJE_IZVORI!I29/10 -> 0 | K21: =ULAGANJE_IZVORI!I29/10 -> 0 | L21: =ULAGANJE_IZVORI!I29/10 -> 0
A22: Kapitalne potpore koje se planiraju ostvariti
A23: Ostali prihodi
A24: UKUPNI PRIHODI | B24: =SUM(B4+B19) -> 0 | C24: =SUM(C4+C19) -> 0 | D24: =SUM(D4+D19) -> 0 | E24: =SUM(E4+E19) -> 0 | F24: =SUM(F4+F19) -> 0 | G24: =SUM(G4+G19) -> 0 | H24: =SUM(H4+H19) -> 0 | I24: =SUM(I4+I19) -> 0 | ... L24: =SUM(L4+L19) -> 0
A25: OBŽ POTPORA UKUPNO | B25: =SUM(C21:L21) -> 0

Sheet RDG
A1: Račun dobiti i gubitka
A2: Stavka | C2: 2026 | D2: 2027 | E2: 2028 | F2: 2029 | G2: 2030 | H2: 2031 | I2: 2032 | J2: 2033 | K2: 2034 | L2: 2035
C3: 1 | D3: 2 | E3: 3 | F3: 4 | G3: 5 | H3: 6 | I3: 7 | J3: 8 | K3: 9 | L3: 10
A4: UKUPNI PRIHODI | C4: =SUM(C5:C6) -> 0 | D4: =SUM(D5:D6) -> 0 | E4: =SUM(E5:E6) -> 0 | F4: =SUM(F5:F6) -> 0 | G4: =SUM(G5:G6) -> 0 | H4: =SUM(H5:H6) -> 0 | I4: =SUM(I5:I6) -> 0 | J4: =SUM(J5:J6) -> 0 | ... L4: =SUM(L5:L6) -> 0
A5: Prihodi od prodaje | C5: =PRIHODI!C4 -> 0 | D5: =PRIHODI!D4 -> 0 | E5: =PRIHODI!E4 -> 0 | F5: =PRIHODI!F4 -> 0 | G5: =PRIHODI!G4 -> 0 | H5: =PRIHODI!H4 -> 0 | I5: =PRIHODI!I4 -> 0 | J5: =PRIHODI!J4 -> 0 | ... L5: =PRIHODI!L4 -> 0
A6: Ostali poslovni prihodi | C6: =PRIHODI!C19 -> 0 | D6: =PRIHODI!D19 -> 0 | E6: =PRIHODI!E19 -> 0 | F6: =PRIHODI!F19 -> 0 | G6: =PRIHODI!G19 -> 0 | H6: =PRIHODI!H19 -> 0 | I6: =PRIHODI!I19 -> 0 | J6: =PRIHODI!J19 -> 0 | ... L6: =PRIHODI!L19 -> 0
A7: UKUPNI RASHODI | C7: =SUM(C8+C12) -> 0 | D7: =SUM(D8+D12) -> 0 | E7: =SUM(E8+E12) -> 0 | F7: =SUM(F8+F12) -> 0 | G7: =SUM(G8+G12) -> 0 | H7: =SUM(H8+H12) -> 0 | I7: =SUM(I8+I12) -> 0 | J7: =SUM(J8+J12) -> 0 | ... L7: =SUM(L8+L12) -> 0
A8: Poslovni rashodi | C8: =SUM(C9:C11) -> 0 | D8: =SUM(D9:D11) -> 0 | E8: =SUM(E9:E11) -> 0 | F8: =SUM(F9:F11) -> 0 | G8: =SUM(G9:G11) -> 0 | H8: =SUM(H9:H11) -> 0 | I8: =SUM(I9:I11) -> 0 | J8: =SUM(J9:J11) -> 0 | ... L8: =SUM(L9:L11) -> 0
A9: Operativni troškovi | C9: =TROŠKOVI!C8 -> 0 | D9: =TROŠKOVI!D8 -> 0 | E9: =TROŠKOVI!E8 -> 0 | F9: =TROŠKOVI!F8 -> 0 | G9: =TROŠKOVI!G8 -> 0 | H9: =TROŠKOVI!H8 -> 0 | I9: =TROŠKOVI!I8 -> 0 | J9: =TROŠKOVI!J8 -> 0 | ... L9: =TROŠKOVI!L8 -> 0
A10: Troškovi osoblja | C10: =ZAPOSLENICI!C12 -> 0 | D10: =ZAPOSLENICI!D12 -> 0 | E10: =ZAPOSLENICI!E12 -> 0 | F10: =ZAPOSLENICI!F12 -> 0 | G10: =ZAPOSLENICI!G12 -> 0 | H10: =ZAPOSLENICI!H12 -> 0 | I10: =ZAPOSLENICI!I12 -> 0 | J10: =ZAPOSLENICI!J12 -> 0 | ... L10: =ZAPOSLENICI!L12 -> 0
A11: Amortizacija | C11: =AMORTIZACIJA!E46 -> 0 | D11: =AMORTIZACIJA!F46 -> 0 | E11: =AMORTIZACIJA!G46 -> 0 | F11: =AMORTIZACIJA!H46 -> 0 | G11: =AMORTIZACIJA!I46 -> 0 | H11: =AMORTIZACIJA!J46 -> 0 | I11: =AMORTIZACIJA!K46 -> 0 | J11: =AMORTIZACIJA!L46 -> 0 | ... L11: =AMORTIZACIJA!N46 -> 0
A12: Financijski rashodi | C12: =KREDIT!C17 -> 0 | D12: =KREDIT!D17 -> 0 | E12: =KREDIT!E17 -> 0 | F12: =KREDIT!F17 -> 0 | G12: =KREDIT!G17 -> 0 | H12: =KREDIT!H17 -> 0 | I12: =KREDIT!I17 -> 0 | J12: =KREDIT!J17 -> 0 | ... L12: =KREDIT!L17 -> 0
A13: Dohodak/dobit prije oporezivanja | C13: =C4-C7 -> 0 | D13: =D4-D7 -> 0 | E13: =E4-E7 -> 0 | F13: =F4-F7 -> 0 | G13: =G4-G7 -> 0 | H13: =H4-H7 -> 0 | I13: =I4-I7 -> 0 | J13: =J4-J7 -> 0 | ... L13: =L4-L7 -> 0
A14: Porez na dohodak/dobit | C14: =C13*C17 -> 0 | D14: =D13*D17 -> 0 | E14: =E13*E17 -> 0 | F14: =F13*F17 -> 0 | G14: =G13*G17 -> 0 | H14: =H13*H17 -> 0 | I14: =I13*I17 -> 0 | J14: =J13*J17 -> 0 | ... L14: =L13*L17 -> 0
A15: Dohodak/Dobit nakon oporezivanja | C15: =C13-C14 -> 0 | D15: =D13-D14 -> 0 | E15: =E13-E14 -> 0 | F15: =F13-F14 -> 0 | G15: =G13-G14 -> 0 | H15: =H13-H14 -> 0 | I15: =I13-I14 -> 0 | J15: =J13-J14 -> 0 | ... L15: =L13-L14 -> 0
A17: POREZNA STOPA | C17: 0 | D17: 0 | E17: 0 | F17: 0 | G17: 0 | H17: 0 | I17: 0 | J17: 0 | K17: 0 | L17: 0

Sheet FINANCIJSKI_TOK
A1: Financijski tok
A2: Stavka | B2: 2026 | C2: 2027 | D2: 2028 | E2: 2029 | F2: 2030 | G2: 2031 | H2: 2032 | I2: 2033 | J2: 2034 | K2: 2035
B3: 1 | C3: 2 | D3: 3 | E3: 4 | F3: 5 | G3: 6 | H3: 7 | I3: 8 | J3: 9 | K3: 10
A4: UKUPNI PRIMICI | B4: =SUM(B5+B6+B10+B11+B12) -> 0 | C4: =SUM(C5+C6+C10+C11+C12) -> 0 | D4: =SUM(D5+D6+D10+D11+D12) -> 0 | E4: =SUM(E5+E6+E10+E11+E12) -> 0 | F4: =SUM(F5+F6+F10+F11+F12) -> 0 | G4: =SUM(G5+G6+G10+G11+G12) -> 0 | H4: =SUM(H5+H6+H10+H11+H12) -> 0 | I4: =SUM(I5+I6+I10+I11+I12) -> 0 | ... K4: =SUM(K5+K6+K10+K11+K12) -> 0
A5: Ukupni prihodi bez razgraničenih potpora | B5: =PRIHODI!C24-PRIHODI!C21 -> 0 | C5: =PRIHODI!D24-PRIHODI!D21 -> 0 | D5: =PRIHODI!E24-PRIHODI!E21 -> 0 | E5: =PRIHODI!F24-PRIHODI!F21 -> 0 | F5: =PRIHODI!G24-PRIHODI!G21 -> 0 | G5: =PRIHODI!H24-PRIHODI!H21 -> 0 | H5: =PRIHODI!I24-PRIHODI!I21 -> 0 | I5: =PRIHODI!J24-PRIHODI!J21 -> 0 | ... K5: =PRIHODI!L24-PRIHODI!L21 -> 0
A6: Izvori financiranja | B6: =SUM(B7:B9) -> 0 | C6: =SUM(C7:C9) -> 0 | D6: =SUM(D7:D9) -> 0 | E6: =SUM(E7:E9) -> 0 | F6: =SUM(F7:F9) -> 0 | G6: =SUM(G7:G9) -> 0 | H6: =SUM(H7:H9) -> 0 | I6: =SUM(I7:I9) -> 0 | ... K6: =SUM(K7:K9) -> 0
A7: Prijenos postojećih izvora | B7: =OSNOVNO!B10 -> 0
A8: Vlastiti izvori | B8: =ULAGANJE_IZVORI!C33 -> 0 | C8: =ULAGANJE_IZVORI!D33 -> 0 | D8: =ULAGANJE_IZVORI!E33 -> 0
A9: Krediti | B9: =ULAGANJE_IZVORI!C37 -> 0 | C9: =ULAGANJE_IZVORI!D37 -> 0 | D9: =ULAGANJE_IZVORI!E37 -> 0
A10: Ostatak vrijednosti dugotrajne imovine | K10: =AMORTIZACIJA!O46 -> 0
A11: OBŽ potpora | B11: =PRIHODI!C21 -> 0 | C11: =PRIHODI!D21 -> 0 | D11: =PRIHODI!E21 -> 0 | E11: =PRIHODI!F21 -> 0 | F11: =PRIHODI!G21 -> 0 | G11: =PRIHODI!H21 -> 0 | H11: =PRIHODI!I21 -> 0 | I11: =PRIHODI!J21 -> 0 | ... K11: =PRIHODI!L21 -> 0
A12: Kapitalne potpore (planirane) | B12: =PRIHODI!C22 -> 0 | C12: =PRIHODI!D22 -> 0 | D12: =PRIHODI!E22 -> 0 | E12: =PRIHODI!F22 -> 0 | F12: =PRIHODI!G22 -> 0 | G12: =PRIHODI!H22 -> 0 | H12: =PRIHODI!I22 -> 0 | I12: =PRIHODI!J22 -> 0 | ... K12: =PRIHODI!L22 -> 0
A13: UKUPNI IZDACI | B13: =SUM(B14:B20) -> 0 | C13: =SUM(C14:C20) -> 0 | D13: =SUM(D14:D20) -> 0 | E13: =SUM(E14:E20) -> 0 | F13: =SUM(F14:F20) -> 0 | G13: =SUM(G14:G20) -> 0 | H13: =SUM(H14:H20) -> 0 | I13: =SUM(I14:I20) -> 0 | ... K13: =SUM(K14:K20) -> 0
A14: Prijenos postojeće imovine | B14: =OSNOVNO!B10 -> 0
A15: Ulaganja u dugotrajnu imovinu | B15: =ULAGANJE_IZVORI!C40 -> 0 | C15: =ULAGANJE_IZVORI!D40 -> 0 | D15: =ULAGANJE_IZVORI!E40 -> 0
A16: Operativni troškovi | B16: =RDG!C9 -> 0 | C16: =RDG!D9 -> 0 | D16: =RDG!E9 -> 0 | E16: =RDG!F9 -> 0 | F16: =RDG!G9 -> 0 | G16: =RDG!H9 -> 0 | H16: =RDG!I9 -> 0 | I16: =RDG!J9 -> 0 | ... K16: =RDG!L9 -> 0
A17: Troškovi zaposlenih | B17: =RDG!C10 -> 0 | C17: =RDG!D10 -> 0 | D17: =RDG!E10 -> 0 | E17: =RDG!F10 -> 0 | F17: =RDG!G10 -> 0 | G17: =RDG!H10 -> 0 | H17: =RDG!I10 -> 0 | I17: =RDG!J10 -> 0 | ... K17: =RDG!L10 -> 0
A18: Financijski rashodi | B18: =RDG!C12 -> 0 | C18: =RDG!D12 -> 0 | D18: =RDG!E12 -> 0 | E18: =RDG!F12 -> 0 | F18: =RDG!G12 -> 0 | G18: =RDG!H12 -> 0 | H18: =RDG!I12 -> 0 | I18: =RDG!J12 -> 0 | ... K18: =RDG!L12 -> 0
A19: Porez na dohodak/dobit | B19: =RDG!C14 -> 0 | C19: =RDG!D14 -> 0 | D19: =RDG!E14 -> 0 | E19: =RDG!F14 -> 0 | F19: =RDG!G14 -> 0 | G19: =RDG!H14 -> 0 | H19: =RDG!I14 -> 0 | I19: =RDG!J14 -> 0 | ... K19: =RDG!L14 -> 0
A20: Trošak glavnice kredita | B20: =KREDIT!C18 -> 0 | C20: =KREDIT!D18 -> 0 | D20: =KREDIT!E18 -> 0 | E20: =KREDIT!F18 -> 0 | F20: =KREDIT!G18 -> 0 | G20: =KREDIT!H18 -> 0 | H20: =KREDIT!I18 -> 0 | I20: =KREDIT!J18 -> 0 | ... K20: =KREDIT!L18 -> 0
A21: Neto primici | B21: =B4-B13 -> 0 | C21: =C4-C13 -> 0 | D21: =D4-D13 -> 0 | E21: =E4-E13 -> 0 | F21: =F4-F13 -> 0 | G21: =G4-G13 -> 0 | H21: =H4-H13 -> 0 | I21: =I4-I13 -> 0 | ... K21: =K4-K13 -> 0
A22: KUMULATIV | B22: =B21 -> 0 | C22: =C21+B22 -> 0 | D22: =D21+C22 -> 0 | E22: =E21+D22 -> 0 | F22: =F21+E22 -> 0 | G22: =G21+F22 -> 0 | H22: =H21+G22 -> 0 | I22: =I21+H22 -> 0 | J22: =J21+I22 -> 0 | K22: =K21+J22 -> 0
A23: Ukupni iznos OBŽ potpore | B23: =SUM(PRIHODI!C21:'PRIHODI'!L21) -> 0
A25: UPUTE:
A26: * kako bi se dokazala financijska održivost projekta, kumulativ financijskog toka mora biti pozitivan kroz cijeli vijek projekta

Sheet EKONOMSKI_TOK
A1: Ekonomski tok
A2: Stavka | B2: 2026 | C2: 2027 | D2: 2028 | E2: 2029 | F2: 2030 | G2: 2031 | H2: 2032 | I2: 2033 | J2: 2034 | K2: 2035
B3: 1 | C3: 2 | D3: 3 | E3: 4 | F3: 5 | G3: 6 | H3: 7 | I3: 8 | J3: 9 | K3: 10
A4: UKUPNI PRIMICI | B4: =SUM(B5:B8) -> 0 | C4: =SUM(C5:C8) -> 0 | D4: =SUM(D5:D8) -> 0 | E4: =SUM(E5:E8) -> 0 | F4: =SUM(F5:F8) -> 0 | G4: =SUM(G5:G8) -> 0 | H4: =SUM(H5:H8) -> 0 | I4: =SUM(I5:I8) -> 0 | ... K4: =SUM(K5:K8) -> 0
A5: Ukupni prihodi | B5: =RDG!C4 -> 0 | C5: =RDG!D4 -> 0 | D5: =RDG!E4 -> 0 | E5: =RDG!F4 -> 0 | F5: =RDG!G4 -> 0 | G5: =RDG!H4 -> 0 | H5: =RDG!I4 -> 0 | I5: =RDG!J4 -> 0 | ... K5: =RDG!L4 -> 0
A6: Ostatak vrijednosti dugotrajne imovine | K6: =AMORTIZACIJA!O46 -> 0
A7: OBŽ potpora | B7: =PRIHODI!C21 -> 0 | C7: =PRIHODI!D21 -> 0 | D7: =PRIHODI!E21 -> 0 | E7: =PRIHODI!F21 -> 0 | F7: =PRIHODI!G21 -> 0 | G7: =PRIHODI!H21 -> 0 | H7: =PRIHODI!I21 -> 0 | I7: =PRIHODI!J21 -> 0 | ... K7: =PRIHODI!L21 -> 0
A8: Kapitalne potpore (koje se planiraju) | B8: =PRIHODI!C22 -> 0 | C8: =PRIHODI!D22 -> 0 | D8: =PRIHODI!E22 -> 0 | E8: =PRIHODI!F22 -> 0 | F8: =PRIHODI!G22 -> 0 | G8: =PRIHODI!H22 -> 0 | H8: =PRIHODI!I22 -> 0 | I8: =PRIHODI!J22 -> 0 | ... K8: =PRIHODI!L22 -> 0
A9: UKUPNI IZDACI | B9: =SUM(B10:B14) -> 0 | C9: =SUM(C10:C14) -> 0 | D9: =SUM(D10:D14) -> 0 | E9: =SUM(E10:E14) -> 0 | F9: =SUM(F10:F14) -> 0 | G9: =SUM(G10:G14) -> 0 | H9: =SUM(H10:H14) -> 0 | I9: =SUM(I10:I14) -> 0 | ... K9: =SUM(K10:K14) -> 0
A10: Prijenos postojeće imovine | B10: =OSNOVNO!B10 -> 0
A11: Ulaganja u dugotrajnu imovinu | B11: =ULAGANJE_IZVORI!C40 -> 0 | C11: =ULAGANJE_IZVORI!D40 -> 0 | D11: =ULAGANJE_IZVORI!E40 -> 0
A12: Operativni troškovi | B12: =RDG!C9 -> 0 | C12: =RDG!D9 -> 0 | D12: =RDG!E9 -> 0 | E12: =RDG!F9 -> 0 | F12: =RDG!G9 -> 0 | G12: =RDG!H9 -> 0 | H12: =RDG!I9 -> 0 | I12: =RDG!J9 -> 0 | ... K12: =RDG!L9 -> 0
A13: Troškovi zaposlenih | B13: =RDG!C10 -> 0 | C13: =RDG!D10 -> 0 | D13: =RDG!E10 -> 0 | E13: =RDG!F10 -> 0 | F13: =RDG!G10 -> 0 | G13: =RDG!H10 -> 0 | H13: =RDG!I10 -> 0 | I13: =RDG!J10 -> 0 | ... K13: =RDG!L10 -> 0
A14: Porez na dohodak/dobit | B14: =RDG!C14 -> 0 | C14: =RDG!D14 -> 0 | D14: =RDG!E14 -> 0 | E14: =RDG!F14 -> 0 | F14: =RDG!G14 -> 0 | G14: =RDG!H14 -> 0 | H14: =RDG!I14 -> 0 | I14: =RDG!J14 -> 0 | ... K14: =RDG!L14 -> 0
A15: Neto primici | B15: =B4-B9 -> 0 | C15: =C4-C9 -> 0 | D15: =D4-D9 -> 0 | E15: =E4-E9 -> 0 | F15: =F4-F9 -> 0 | G15: =G4-G9 -> 0 | H15: =H4-H9 -> 0 | I15: =I4-I9 -> 0 | ... K15: =K4-K9 -> 0
A16: KUMULATIV | B16: =B15 -> 0 | C16: =C15+B16 -> 0 | D16: =D15+C16 -> 0 | E16: =E15+D16 -> 0 | F16: =F15+E16 -> 0 | G16: =G15+F16 -> 0 | H16: =H15+G16 -> 0 | I16: =I15+H16 -> 0 | J16: =J15+I16 -> 0 | K16: =K15+J16 -> 0
A17: ISR PO GODINAMA | B17: =IRR($B$15:B15) -> #NUM! | C17: =IRR($B$15:C15) -> #NUM! | D17: =IRR($B$15:D15) -> #NUM! | E17: =IRR($B$15:E15) -> #NUM! | F17: =IRR($B$15:F15) -> #NUM! | G17: =IRR($B$15:G15) -> #NUM! | H17: =IRR($B$15:H15) -> #NUM! | I17: =IRR($B$15:I15) -> #NUM! | ... K17: =IRR($B$15:K15) -> #NUM!
A18: GODINA POVRATA ULAGANJA | B18: {=IFERROR(INDEX(B2:K2,MATCH(TRUE,B16:K16>0,0)),"")}
A20: UPUTE:
A21: * godina povrata ulaganja mora biti unutar odabranog vijeka projekta, to je prva godina u kojoj je kumulativ pozitivan
A22: * u zadnjoj godini vijeka projekta kumulativ umanjen za ostatak vrijednosti dugotrajne imovine mora biti pozitivan
A25: Neto sadašnja vrijednost i interna stopa rentabilnosti
A26: Diskontna stopa | B26: 0 | C26: * unesite diskontnu stopu
A27: godina | B27: 0 | C27: 1 | D27: 2 | E27: 3 | F27: 4 | G27: 5 | H27: 6 | I27: 7 | J27: 8 | K27: 9
B28: 1 | C28: 2 | D28: 3 | E28: 4 | F28: 5 | G28: 6 | H28: 7 | I28: 8 | J28: 9 | K28: 10
A29: diskontni faktori | B29: 1 | C29: =1/(1+$B$26)^C27 -> 1 | D29: =1/(1+$B$26)^D27 -> 1 | E29: =1/(1+$B$26)^E27 -> 1 | F29: =1/(1+$B$26)^F27 -> 1 | G29: =1/(1+$B$26)^G27 -> 1 | H29: =1/(1+$B$26)^H27 -> 1 | I29: =1/(1+$B$26)^I27 -> 1 | J29: =1/(1+$B$26)^J27 -> 1 | K29: =1/(1+$B$26)^K27 -> 1
A30: diskontirani neto primici | B30: =B15*B29 -> 0 | C30: =C15*C29 -> 0 | D30: =D15*D29 -> 0 | E30: =E15*E29 -> 0 | F30: =F15*F29 -> 0 | G30: =G15*G29 -> 0 | H30: =H15*H29 -> 0 | I30: =I15*I29 -> 0 | ... K30: =K15*K29 -> 0
A31: ISR | B31: =IRR(B15:K15) -> #NUM!
A32: NSV | B32: =SUM(B30:K30) -> 0
B33: 0
A34: UPUTE:
A35: * diskontna stopa ne smije biti niža od kamatne stope kredita za realizaciju projekta i ne niža od 5%
A36: * uvjet prihvatljivosti i ekonomske održivosti projekta je ISR (interna stopa rentabilnosti) veća od odabrane diskontne stope
A37: * drugi uvjet prihvatljivosti projekta je NSV (neto sadašnja vrijednost) veća od nule
