Workbook
Name REALIZACIJA_1997: '[1]Osn-Pod'!$E$5

Sheet Naslovna
A2: Građevina: | B2: Rekonstrukcija (pruređenje prostora) doma za starije i nemoćne osobe
A3: Investitor: | B3: Dom za starije i nemoćne osobe Beli Manastir, OIB: 34580944535, Bana Jelačića 108, 31300 Beli Manastir
A4: Lokacija: | B4: Bana Jelačića 108, 31300 Beli Manastir k.č.br. 2807/1, k.o. Beli Manastir
A29: TROŠKOVNIK
A47: Troškovnik izradio: | C47: Planum projekt d.o.o.
A49: Glavni projektant: | C49: Valentino Liović, mag.ing.aedif.
A51: Beli Manastir, prosinac 2020. godine

Sheet Opći uvjeti
B2: OPĆI UVJETI UZ TROŠKOVNIK
B3: OPĆENITO
B4: Izvođaču se uz troškovnik radova stavljaju na uvid kompletni
B5: glavni projekti svih struka koji su sastavni dio ponudbene
B6: dokumentacije. Upisom jedinične cijene pojedine stavke
B7: podrazumijeva se da je izvođač proučio cjelokupnu dokumentaciju i
B8: da je jediničnom cijenom obuhvaćeno sve navedeno troškovničkom
B9: stavkom i sve navedeno u nacrtima i tekstu glavnog
B10: projekta.
B11: Ovi opći tehnički uvjeti se dopunjuju opisima stavaka troškovnika i
B12: posebnim tehničkim uvjetima za pojedine vrste radova. Sve što je
B13: navedeno u njima, a nije u pojedinačnom opisu stavke smatra se
... B440: Prije ugradnje mlaznica paziti na minimalno zahtijevane udaljenosti mlaznica od stropa.Raspored mlaznica izvesti u skladu sa projektom i propisima,pokojima je instalacija projektirana.

Sheet Građ.-obrt. radovi
A1: GRAĐEVINSKO - OBRTNIČKI RADOVI RADOVI
A3: NAPOMENA: Ove stavke troškovnika su sastavni dio općih uvjeta
A5: Kako se velika većina radova izvodi na katu, u stavke je potrebno uračunati i cijenu transporta i premještanja materijala i alata na istu, a sve u cilju zaštite radnika i trećih osoba.
A7: Sav demontirani materijal kojeg korisnik prostora odluči zadržati pažljivo deponirati na gradilištu, a materijal koji se ne zadržava zbrinuti na pripadajučoj javnoj deponiji.
A8: 1. Rušenje i demontaža
A10: R. Br. | B10: Opis stavke | F10: J.M. | G10: Količina | H10: Jedinična cijena | I10: Ukupno
A12: 1.1. | B12: Čišćenje kompletnog prostora u potkrovlju. U cijenu stavke je potrebno uračunati kompletno račišćavanje prostora od nakupljenog materijala koji se nalazi na postojećem podu. Stavkom je potrebno obuhvatiti i prebacivanje nakupljenog otpada na tlo, uz dužnu pažnju, kako ne bi došlo do ozljeda radnika ili trećih osoba. Stavka obuhvaća i skidanje zavjesa s drvenom konstrukcijom u prizemlju, na mjestu izvođenja radova. Napomena: Stavkom je potrebno obuhvatiti i odvoz otpadnog materijala na deponiju udaljenu do 10,0 km. | F12: m2 | G12: 230 | I12: =G12*H12 -> 0
A14: 1.2. | B14: Demontaža postojećeg crijepa. Stavkom su obuhvaćeni svi radovi potrebni za demontažu crijepa s krova, zajedno sa sljemenjacima i rubnim crijepovima krova. Demontirani crijep, potrebno je složiti na pod tavanskog prostora te s dužnom pažnjom premjestiti na tlo kako ne bi došlo do ozljeda radnika ili trećih osoba. Napomena: Stavkom je potrebno obuhvatiti i odvoz crijepa na deponiju udaljenu do 10,0 km. | F14: m2 | G14: 295.49 | I14: =G14*H14 -> 0
A16: 1.3. | B16: Demontaža postojećeih limenih opšava i oluka. Stavkom su obuhvaćeni svi radovi potrebni za demontažu oluka. Demontirane opšave i oluke, potrebno je složiti na pod tavanskog prostora te s dužnom pažnjom premjestiti na tlo kako ne bi došlo do ozljeda radnika ili trećih osoba. Napomena: Stavkom je potrebno obuhvatiti i odvoz opšava i oluka na deponiju udaljenu do 10,0 km. | F16: m' | G16: 146.8 | I16: =G16*H16 -> 0
A18: 1.4. | B18: Demontaža postojećeih letvi i kontraletvi, vodonepropusne paropropusne folije i toplinske izolacije na krovu. Stavkom su obuhvaćeni svi radovi potrebni za demontažu istih. Demontirane letve, potrebno je složiti na pod tavanskog prostora te s dužnom pažnjom premjestiti na tlo kako ne bi došlo do ozljeda radnika ili trećih osoba. Napomena: Stavkom je potrebno obuhvatiti i odvoz na deponiju udaljenu do 10,0 km. | F18: m2 | G18: 295.49 | I18: =G18*H18 -> 0
A20: 1.5. | B20: Demontaža postojeće krovne konstrukcije. Stavkom su obuhvaćeni svi radovi potrebni za demontažu istie. Demontirana konstrukcija (rogovi, nazidnice, podrožnice i sl.), potrebno je složiti na pod tavanskog prostora te s dužnom pažnjom premjestiti na tlo kako ne bi došlo do ozljeda radnika ili trećih osoba. Napomena: Stavkom je potrebno obuhvatiti i odvoz na deponiju udaljenu do 10,0 km. | F20: m2 | G20: 295.49 | I20: =G20*H20 -> 0
A22: 1.6. | B22: Rušenje postojećih stupova od armiranog betona. U stavku je uključen sav rad i materijal. Rušenje je potrebno obaviti s dužnom pažnjom, kako ne bi došlo do ozljeda radnika ili trećih osoba uzrokovanih rušenjem. Stavkom je potrebno uračunati i premještanje šute s tavanskog prostora na tlo. Napomena: Stavkom je potrebno obuhvatiti i odvoz na deponiju udaljenu do 10,0 km. | F22: m3 | G22: 2 | I22: =G22*H22 -> 0
A24: 1.7. | B24: Rušenje postojećih zidova od pune opeke. U stavku je uključen sav rad i materijal. Rušenje je potrebno obaviti s dužnom pažnjom, kako ne bi došlo do ozljeda radnika ili trećih osoba uzrokovanih rušenjem. Stavkom je potrebno uračunati i premještanje šute s tavanskog prostora na tlo. Napomena: Stavkom je potrebno obuhvatiti i odvoz na deponiju udaljenu do 10,0 km. | F24: m3 | G24: 45.52 | I24: =G24*H24 -> 0
A26: 1.8. | B26: Demontaža potojećih krovnih prozora i kupola. Demontažu je potrebno obaviti s dužnom pažnjom, kako ne bi došlo do ozljeda radnika ili trećih osoba uzrokovanih rušenjem. Stavkom je potrebno uračunati i premještanje demontiranih prozora s tavanskog prostora na tlo. Napomena: Stavkom je potrebno obuhvatiti i odvoz na deponiju udaljenu do 10,0 km. | F26: kom | G26: 14 | I26: =G26*H26 -> 0
A28: 1.9. | B28: Demontaža potojećih unutarnjih vrata na tavanu. Demontažu je potrebno obaviti s dužnom pažnjom, kako ne bi došlo do ozljeda radnika ili trećih osoba uzrokovanih demontažom. Stavkom je potrebno uračunati i premještanje demontiranih vrata s tavanskog prostora na tlo. Napomena: Stavkom je potrebno obuhvatiti i odvoz na deponiju udaljenu do 10,0 km. | F28: kom | G28: 10 | I28: =G28*H28 -> 0
A30: 1.10. | B30: Rušenje postojećih dimnjaka od pune opeke. U stavku je uključen sav rad i materijal. Rušenje je potrebno obaviti s dužnom pažnjom, kako ne bi došlo do ozljeda radnika ili trećih osoba uzrokovanih rušenjem. Napomena: Stavkom je potrebno obuhvatiti i odvoz na deponiju udaljenu do 10,0 km. | F30: kom | G30: 6 | I30: =G30*H30 -> 0
A32: 1.11. | B32: Demontaža potojećeg finalnog sloja poda od PVCa. Demontažu je potrebno obaviti s dužnom pažnjom, kako ne bi došlo do ozljeda radnika ili trećih osoba uzrokovanih demontažom. Napomena: Stavkom je potrebno obuhvatiti i odvoz na deponiju udaljenu do 10,0 km. | F32: m2 | G32: 140 | I32: =G32*H32 -> 0
A34: 1.12. | B34: Demontaža potojećih sanitarija u toaletu. Stavka obuhvaća sanitarija, sa svim sastavnim dijelovima, te brtvljenje i blindiranje instalacija vodovoda i kanalizacije, sa svim materijalom. Demontažu je potrebno obaviti s dužnom pažnjom, kako ne bi došlo do ozljeda radnika ili trećih osoba uzrokovanih demontažom. Napomena: Stavkom je potrebno obuhvatiti i odvoz na deponiju udaljenu do 10,0 km. | F34: kom | G34: 14 | I34: =G34*H34 -> 0
... A38: 1.14. | B38: Demontaža instalacija vodovoda i kanalizacije. U cijenu uključen kompletan materijal i rad. Napomena: Stavkom je potrebno obuhvatiti i odvoz na deponiju udaljenu do 10,0 km. | F38: kpl | G38: 1 | I38: =G38*H38 -> 0
A40: 1.15. | B40: Dobava i ugradnja zaštite od atmosferskih utjecaja na mjestima demontiranih slojeva iz pripremnih radova za cijeli period izvođenja radova, odnosno do ugradnje novo projektirane završne obloge. | F40: kpl | G40: 1 | I40: =H40*G40 -> 0
F42: 1. Rušenje i demontaža | H42: UKUPNO: | I42: =SUM(I12:I40) -> 0
A44: 2. Tesarski radovi
A46: R. Br. | B46: Opis stavke | F46: J.M. | G46: Količina | H46: Jedinična cijena | I46: Ukupno
A48: 2.1. | B48: Nabava, doprema, izrada, postavljanje i skidanje glatke daščane oplate za vertikalne serklaže, presjeka 30/30 cm i visine do 3,00 m, sa svim potrebnim ukrutama i razuporama i podupiranjem. VERTIKALNI SERKLAŽI. | F48: m2 | G48: 9.36 | I48: =G48*H48 -> 0
A50: 2.2. | B50: Nabava, doprema, izrada, postavljanje i skidanje dvostrane glatke daščane oplate za horizontalne i kose serklaže, presjeka 30/20 cm, sa svim potrebnim ukrutama i razuporama. HORIZONTALNI I KOSI SERKLAŽI. | F50: m2 | G50: 22.8 | I50: =G50*H50 -> 0
F52: 2. Tesarski radovi | H52: UKUPNO: | I52: =SUM(I48:I50) -> 0
A55: 3. Betonski radovi
A57: R. Br. | B57: Opis stavke | F57: J.M. | G57: Količina | H57: Jedinična cijena | I57: Ukupno
A59: 3.1. | B59: Nabava, doprema i ugradnja betona C25/30 u vertikalne serklaže presjeka 30/30 cm i visine do max. 3,0 u glatkoj oplati. Stavkom je obuhvaćena doprema betona iz tvornice betona, ugradba i njega betona nakon ugradbe. VERTIKALNI SERKLAŽI | C59: Betoniranje armiranih vertikalnih serklaža presjeka 25/25 cm i visine do max 3,50 m, betonom C25/30 u glatkoj oplati. Stavkom je obuhvaćena doprema betona iz tvornice betona, ugradba i njega betona nakon ugradbe. | D59: Betoniranje armiranih vertikalnih serklaža presjeka 25/25 cm i visine do max 3,50 m, betonom C25/30 u glatkoj oplati. Stavkom je obuhvaćena doprema betona iz tvornice betona, ugradba i njega betona nakon ugradbe. | E59: Betoniranje armiranih vertikalnih serklaža presjeka 25/25 cm i visine do max 3,50 m, betonom C25/30 u glatkoj oplati. Stavkom je obuhvaćena doprema betona iz tvornice betona, ugradba i njega betona nakon ugradbe. | F59: m3 | G59: 0.98 | I59: =G59*H59 -> 0
A61: 3.2. | B61: Nabava, doprema i ugradnja betona C25/30 u horizontalne serklaže presjeka 30/20 cm u glatkoj oplati. Stavkom je obuhvaćena doprema betona iz tvornice betona, ugradba i njega betona nakon ugradbe. HORIZONTALNI SERKLAŽI. | C61: Betoniranje armiranih vertikalnih serklaža presjeka 25/25 cm i visine do max 3,50 m, betonom C25/30 u glatkoj oplati. Stavkom je obuhvaćena doprema betona iz tvornice betona, ugradba i njega betona nakon ugradbe. | D61: Betoniranje armiranih vertikalnih serklaža presjeka 25/25 cm i visine do max 3,50 m, betonom C25/30 u glatkoj oplati. Stavkom je obuhvaćena doprema betona iz tvornice betona, ugradba i njega betona nakon ugradbe. | E61: Betoniranje armiranih vertikalnih serklaža presjeka 25/25 cm i visine do max 3,50 m, betonom C25/30 u glatkoj oplati. Stavkom je obuhvaćena doprema betona iz tvornice betona, ugradba i njega betona nakon ugradbe. | F61: m3 | G61: 3 | I61: =G61*H61 -> 0
F63: 3. Betonski radovi | H63: UKUPNO: | I63: =SUM(I59:I61) -> 0
A66: 4. Armirački radovi
A68: R. Br. | B68: Opis stavke | F68: J.M. | G68: Količina | H68: Jedinična cijena | I68: Ukupno
A70: 4.1. | B70: Nabava, dobava, sječenje, savijanje, ugradnja i postavljanje rebraste armature svih profila vertikalnih i horizontalnih serklaža, greda, nadvoja i sl. Armatura B500B. Stavkom obuhvatiti spoj postojeće i nove armature. | C70: Nabava, doprema, sječenje, savijanje, ugradnja i postavljanje rebraste armature svih profila trakastih temelja, nadtemeljnih zidova, vertikalnih,horizontalnih serklaža,greda i ukrutnih greda stropa. | D70: Nabava, doprema, sječenje, savijanje, ugradnja i postavljanje rebraste armature svih profila trakastih temelja, nadtemeljnih zidova, vertikalnih,horizontalnih serklaža,greda i ukrutnih greda stropa. | E70: Nabava, doprema, sječenje, savijanje, ugradnja i postavljanje rebraste armature svih profila trakastih temelja, nadtemeljnih zidova, vertikalnih,horizontalnih serklaža,greda i ukrutnih greda stropa. | F70: kg | G70: 796 | I70: =G70*H70 -> 0
F72: 4. Armirački radovi | H72: UKUPNO: | I72: =SUM(I70:I70) -> 0
A75: 5. Bravarski radovi
A77: R. Br. | B77: Opis stavke | F77: J.M. | G77: Količina | H77: Jedinična cijena | I77: Ukupno
A79: 5.1. | B79: Nabava, dobava i ugradnja svog potrebnog materijala, kao i izrada čelične nosive konstrukcije prema Glavnom projektu konstrukcije. U cijenu stavke uračunati sva spojna sredstva, podne ploče, papuče, zavare, vijke te ostali potrebani materijal, alat i rad, do izrade konstrukcije do potpune gotovosti. Izvođač je dužan izraditi radioničke nacrte te za iste zatražiti odobrenje i ovjeru nadzornog inženjera prije početka izvođenja bravarskih radova. | C79: Doprema, istovar i ugradnja svog potrebnog materijala, spravljanje vapneno-cementnog morta i zidanje nosivih zidova glinenom blok opekom d=25 cm. | D79: Doprema, istovar i ugradnja svog potrebnog materijala, spravljanje vapneno-cementnog morta i zidanje nosivih zidova glinenom blok opekom d=25 cm. | E79: Doprema, istovar i ugradnja svog potrebnog materijala, spravljanje vapneno-cementnog morta i zidanje nosivih zidova glinenom blok opekom d=25 cm. | F79: kg | G79: 5300 | I79: =G79*H79 -> 0
F81: 5. Bravarski radovi | H81: UKUPNO: | I81: =SUM(I79:I79) -> 0
A84: 6. Zidarski radovi
...

Sheet Vanjsko stubište
A1: VANJSKO STUBIŠTE
A3: NAPOMENA: Ove stavke troškovnika su sastavni dio općih uvjeta
A5: Kako se velika većina radova izvodi na katu, u stavke je potrebno uračunati i cijenu transporta i premještanja materijala i alata na istu, a sve u cilju zaštite radnika i trećih osoba.
A8: 1. Zemljani radovi
A10: R. Br. | B10: Opis stavke | F10: J.M. | G10: Količina | H10: Jedinična cijena | I10: Ukupno
A12: 1.1. | B12: Kombinirani strojno-ručni iskop tla za temelje stubišta, dimenzija prema projektu, do projektirane kote iskopa. TEMELJI STUBIŠTA. | C12: Kombinirani strojno-ručni iskop zemljišta za trakaste temelje do projektirane kote iskopa, utovar iskopane zemlje u kamion, prijevoz i privremeno odlaganje na lokaciji gradilišta. | D12: Kombinirani strojno-ručni iskop zemljišta za trakaste temelje do projektirane kote iskopa, utovar iskopane zemlje u kamion, prijevoz i privremeno odlaganje na lokaciji gradilišta. | E12: Kombinirani strojno-ručni iskop zemljišta za trakaste temelje do projektirane kote iskopa, utovar iskopane zemlje u kamion, prijevoz i privremeno odlaganje na lokaciji gradilišta. | F12: m3 | G12: 6.4 | I12: =G12*H12 -> 0
F14: 1. Zemljani radovi | H14: UKUPNO: | I14: =SUM(I6:I12) -> 0
A16: 2. Tesarski radovi
A18: R. Br. | B18: Opis stavke | F18: J.M. | G18: Količina | H18: Jedinična cijena | I18: Ukupno
A20: 2.1. | B20: Nabava, dobava, izrada, postavljanje i skidanje glatke daščane oplate za temelje, sa svim potrebnim ukrutama i razuporama. TEMELJI | C20: Doprema, izrada, postavljanje i skidanje jednostrane glatke daščane oplate za podnu ploču, visine 16 cm, sa svim potrebnim ukrutama i razuporama. | D20: Doprema, izrada, postavljanje i skidanje jednostrane glatke daščane oplate za podnu ploču, visine 16 cm, sa svim potrebnim ukrutama i razuporama. | E20: Doprema, izrada, postavljanje i skidanje jednostrane glatke daščane oplate za podnu ploču, visine 16 cm, sa svim potrebnim ukrutama i razuporama. | F20: m2 | G20: 6.98 | I20: =G20*H20 -> 0
F22: 2. Tesarski radovi | H22: UKUPNO: | I22: =SUM(I20:I20) -> 0
A25: 3. Betonski radovi
A27: R. Br. | B27: Opis stavke | F27: J.M. | G27: Količina | H27: Jedinična cijena | I27: Ukupno
A29: 3.1. | B29: Nabava, dobava i ugradnja betona C25/30 u trakaste temelje, širine 40,0 cm i visine cca. 90,0 cm. Stavkom je obuhvaćena doprema betona iz tvornice betona, ugradba i njega betona nakon ugradbe. TRAKASTI TEMELJI. | C29: Betoniranje trakastih temelja C25/30 visine do 90 cm. Stavkom je obuhvaćena doprema betona iz tvornice betona, ugradba i njega betona nakon ugradbe. | D29: Betoniranje trakastih temelja C25/30 visine do 90 cm. Stavkom je obuhvaćena doprema betona iz tvornice betona, ugradba i njega betona nakon ugradbe. | E29: Betoniranje trakastih temelja C25/30 visine do 90 cm. Stavkom je obuhvaćena doprema betona iz tvornice betona, ugradba i njega betona nakon ugradbe. | F29: m3 | G29: 5.94 | I29: =G29*H29 -> 0
F31: 3. Betonski radovi | H31: UKUPNO: | I31: =SUM(I29:I29) -> 0
A34: 4. Armirački radovi
A36: R. Br. | B36: Opis stavke | F36: J.M. | G36: Količina | H36: Jedinična cijena | I36: Ukupno
A38: 4.1. | B38: Nabava, dobava, sječenje, savijanje, ugradnja i postavljanje rebraste armature svih profila za temelje. Armatura B500B. | C38: Nabava, doprema, sječenje, savijanje, ugradnja i postavljanje rebraste armature svih profila trakastih temelja, nadtemeljnih zidova, vertikalnih,horizontalnih serklaža,greda i ukrutnih greda stropa. | D38: Nabava, doprema, sječenje, savijanje, ugradnja i postavljanje rebraste armature svih profila trakastih temelja, nadtemeljnih zidova, vertikalnih,horizontalnih serklaža,greda i ukrutnih greda stropa. | E38: Nabava, doprema, sječenje, savijanje, ugradnja i postavljanje rebraste armature svih profila trakastih temelja, nadtemeljnih zidova, vertikalnih,horizontalnih serklaža,greda i ukrutnih greda stropa. | F38: kg | G38: 950 | I38: =G38*H38 -> 0
F40: 4. Armirački radovi | H40: UKUPNO: | I40: =SUM(I38:I38) -> 0
A46: 5. Bravarski radovi
A48: R. Br. | B48: Opis stavke | F48: J.M. | G48: Količina | H48: Jedinična cijena | I48: Ukupno
A50: 5.1. | B50: Nabava, dobava i ugradnja svog potrebnog materijala, kao i izrada čelične nosive konstrukcije prema Glavnom projektu konstrukcije. U cijenu stavke uračunati sva spojna sredstva, podne ploče, papuče, zavare, vijke te ostali potrebani materijal, alat i rad, do izrade konstrukcije do potpune gotovosti. Izvođač je dužan izraditi radionički nacrt te za isti zatražiti odobrenje i ovjeru nadzornog inženjera prije početka izvođenja radova. | C50: Doprema, istovar i ugradnja svog potrebnog materijala, spravljanje vapneno-cementnog morta i zidanje nosivih zidova glinenom blok opekom d=25 cm. | D50: Doprema, istovar i ugradnja svog potrebnog materijala, spravljanje vapneno-cementnog morta i zidanje nosivih zidova glinenom blok opekom d=25 cm. | E50: Doprema, istovar i ugradnja svog potrebnog materijala, spravljanje vapneno-cementnog morta i zidanje nosivih zidova glinenom blok opekom d=25 cm. | F50: kg | G50: 1350 | I50: =G50*H50 -> 0
F52: 5. Bravarski radovi | H52: UKUPNO: | I52: =SUM(I50:I50) -> 0
A54: 6. Ostali radovi
A56: R. Br. | B56: Opis stavke | F56: J.M. | G56: Količina | H56: Jedinična cijena | I56: Ukupno
A58: 6.1. | B58: Nabava, dobava i ugradnja svog potrebnog materijala, kao i izrada čelične konstrukcije ograde s rukohvatom. Ukupna visina ograde je 1,1 m s vertikalnim ispunama na razmaku od 14,0 cm, profila 50*50 mm i ispune 25*25 mm. U cijenu stavke uračunati sva spojna sredstva, podne ploče, papuče, zavare, vijke te ostali potrebani materijal, alat i rad, do izrade konstrukcije do potpune gotovosti. Izvođač je dužan izraditi radionički nacrt te za isti zatražiti odobrenje i ovjeru nadzornog inženjera prije početka izvođenja radova. | C58: Doprema, istovar i ugradnja svog potrebnog materijala, spravljanje vapneno-cementnog morta i zidanje nosivih zidova glinenom blok opekom d=25 cm. | D58: Doprema, istovar i ugradnja svog potrebnog materijala, spravljanje vapneno-cementnog morta i zidanje nosivih zidova glinenom blok opekom d=25 cm. | E58: Doprema, istovar i ugradnja svog potrebnog materijala, spravljanje vapneno-cementnog morta i zidanje nosivih zidova glinenom blok opekom d=25 cm. | F58: m' | G58: 25 | I58: =G58*H58 -> 0
A60: 6.2. | B60: Nabava, dobava i ugradnja protukliznog gazišta, rešetkaste stepenice izrađene iz vruće pocinčanog materijala d=30/3 mm, otvori 33x33 mm, nosiva traka 30/2 mm, poprečna traka 8/2 mm. Gazište dimenzija 25*100 cm). Broj gazišta 35 komada. U cijenu uračunati sav rad i sredstva za rad. | C60: Doprema, postavljanje i skidanje montažne fasadne skele za vrijeme izvođenja zidarskih i fasaderskih radova. | D60: Doprema, postavljanje i skidanje montažne fasadne skele za vrijeme izvođenja zidarskih i fasaderskih radova. | E60: Doprema, postavljanje i skidanje montažne fasadne skele za vrijeme izvođenja zidarskih i fasaderskih radova. | F60: kpl | G60: 1 | I60: =G60*H60 -> 0
F62: 6. Ostali radovi | H62: UKUPNO: | I62: =SUM(I58:I60) -> 0
A82: REKAPITULACIJA
A84: 1. Zemljani radovi | I84: =I14 -> 0
A85: 2. Tesarski radovi | I85: =I22 -> 0
A86: 3. Betonski radovi | I86: =I31 -> 0
A87: 4. Armirački radovi | I87: =I40 -> 0
A88: 5. Bravarski radovi | I88: =I52 -> 0
A89: 6. Ostali radovi | I89: =I62 -> 0
H91: UKUPNO: | I91: =SUM(I84:I89) -> 0

Sheet Vodovod i kanalizacija
A1: VODOVOD I KANALIZACIJA
A3: NAPOMENA: Ove stavke troškovnika su sastavni dio općih uvjeta
A5: Kako se velika većina radova izvodi na katu, u stavke je potrebno uračunati i cijenu transporta i premještanja materijala i alata na istu, a sve u cilju zaštite radnika i trećih osoba.
A7: 1. Montažni radovi
A9: R. Br. | B9: Opis stavke | F9: J.M. | G9: Količina | H9: Jedinična cijena | I9: Ukupno
A11: 1.1. | B11: Nabava, dobava i ugradnja PP-R cijevi sa svim potrebnim fazonskim i spojnim elementima i brtvenim materijalom te izrada instalacije u građevini za radni tlak do 10 bara - hladna voda. U mjernu jedinicu stavke je potrebno uračunati i sve fazonske komade, koljena, spojeve i ostale dijelove koji nastaju spajanjem cijevi, kao i sam rad na spajanju dijelova cijevovoda do potpune gotovosti istog. Stavkom obuhvatiti i spoj na postojeću instalaicju vode. Dani su unutarnji promjeri cijevi.
B12: - PP-R cijevi fi 15 mm | F12: m' | G12: 24.6 | I12: =G12*H12 -> 0
B13: - PP-R cijevi fi 20 mm | F13: m' | G13: 20 | I13: =G13*H13 -> 0
A15: 1.2. | B15: Nabava, dobava i ugradnja PP-R cijevi sa svim potrebnim fazonskim i spojnim elementima i brtvenim materijalom te izrada instalacije u građevini za radni tlak do 10 bara - topla voda. U mjernu jedinicu stavke je potrebno uračunati i sve fazonske komade, koljena, spojeve i ostale dijelove koji nastaju spajanjem cijevi, kao i sam rad na spajanju dijelova cijevovoda do potpune gotovosti istog. Stavkom obuhvatiti i spoj na postojeću instalaicju vode. Dani su unutarnji promjeri cijevi.
B16: - PP-R cijevi fi 15 mm | F16: m' | G16: 24.6 | I16: =G16*H16 -> 0
B17: - PP-R cijevi fi 20 mm | F17: m' | G17: 20 | I17: =G17*H17 -> 0
A19: 1.3. | B19: Nabava, doprema i montaža podžbuknog ventila sa metalnom kromiranom kapom i metalnom kromiranom rozetom. U stavku je potrebno uračunati sav materijal i rad do gotovosti stavke.
B20: - nabava i ugradnja PP-R cijevi fi 15 mm | F20: kom | G20: 8 | I20: =G20*H20 -> 0
B21: - nabava i ugradnja PP-R cijevi fi 20 mm | F21: kom | G21: 8 | I21: =G21*H21 -> 0
A23: 1.4. | B23: Tlačna proba izvedene vodovodne instalacije sa osiguranjem potrebne količine vode za punjenje cjevovoda. Kontrola s radnim i kontrolnim manometrom, te ispuštanje vode po završenoj probi. Obuhvaćeno ispitivanje vanjske i unutarnje vodovodne mreže te izrada zapisnika o tlačnoj probi. Rezultate ispitivanja evidentirati kroz građevinski dnevnik. | F23: kom | G23: 2 | I23: =G23*H23 -> 0
A25: 1.5. | B25: Nabava, doprema na gradilište i montaža zidnih protupožarnih hidranata komplet s pripadajućom opremom: - tlačna cijev Ø 25 dužine 15 m sa spojnicama - kutni ventil Ms 2" sa stabilnom spojnicom (Al) Ø 25 mm - mlaznica Ø 25 mm Al sa zasunom - okretni nastavak Ms2" Obračun po kompletno ugrađenom hidrantu i ormarićem. | F25: kom | G25: 1 | I25: =G25*H25 -> 0
A27: 1.6. | B27: Nabava, doprema na gradilište i montaža vatrogasnih aparata. Obračun po kompletno ugrađenom aparatu. Tip S-6. | F27: kom | G27: 3 | I27: =G27*H27 -> 0
A29: 1.7. | B29: Ispiranje i dezinficiranje cjevovoda te pribavljanje sve atestne dokumentacije o ispitivanju vode. Vodu je potrebnu uzeti na 5 izljevnih mjesta, od strane nadležne ustanove, s ciljem dobivanja isprave o kvaliteti vode za piće. U stavku je uključena dezinfekcija i ispiranje cjevovoda do potpune ispravnosti vode prema ispitivanju i atestna dokumentacija. Rezultate ispitivanja evidentirati kroz građevinski dnevnik. | F29: kpl | G29: 1 | I29: =G29*H29 -> 0
F31: Instalacija vodovoda - 1. Montažni radovi | H31: UKUPNO: | I31: =SUM(I11:I29) -> 0
A34: 2. Sanitarna oprema
A36: R. Br. | B36: Opis stavke | F36: J.M. | G36: Količina | H36: Jedinična cijena | I36: Ukupno
A38: 2.1. | B38: Nabava, dobava i ugradnja kompletnog umivaonika. Komplet se sastoji od keramičkog umivaonika sa sifonom s ispustom d32 mm te ručne mješalice. Dimnezije umivaonika 50*42 cm, otvor dimnezija 47*27.5 cm, s odmakom od zida od 6,0 cm (mogućnost odstupanja svih dimenzija +/- 5 cm od zadanih vrijednosti). Montaža umivaonika na zid. Oblik pravokutni, boja bijela. Na umivaoniku s gornje strane otvor za mješalicu. Sav materijal s montažno instalacijskim elementima za umivaonik visine ugradnje 112 cm. Instalacijski element samonosiv za ugradnju u suhomontažnu zidnu ili predzidnu konstrukciju obloženu gipskartonskim pločama/žbukano, komplet s odvodnim koljenom d50 mm (sifon sive boje) i sifonskom brtvom 44/32 mm, pločom s armaturnim priključcima ½" s uključenom zvučnom izolacijom, vijcima za učvršćenje keramike i svim potrebnim pričvrsnim priborom i spojnim materijalom; Mješalica za umivaonik krom/sive boje, izljevna visina 6,7 cm ,ugradnja stojeća, izljevna dužina 10,7 cm, visina 13,8 cm, dubina 10,0 cm. Obračun po kompletno ugrađenoj i ispitanoj opremi, sa svim potrebnim materijalom i radom, u punoj funkcionalnosti. | F38: kom | G38: 2 | I38: =G38*H38 -> 0
A40: 2.2. | B40: Nabava, dobava i ugradnja štednih vodokotlića s wc školjkom. Komplet se sastoji od: -konzolne keramičke WC školjke I klase, za 6+3l ispiranje, odignute od poda 6 cm, - daska s poklopcem bijele boje od kvalitetne plastike, - zidnog nosača od inoxa s WC četkom, - zidnog držača toalet papira od inoxa. Sav materijal s montažno instalacijskim elementima za WC školjku visine ugradnje 112 cm s niskošumnim ugradbenim vodokotlićem za 6/3l ispiranje. Instalacijski element je samonosiv za ugradnju u suhomontažnu zidnu ili predzidnu konstrukciju obloženu gipskartonskim pločama/žbukano, komplet s integriranim kutnim ventilom priključka vode ½", niskošumnim uljevnim ventilom, odvodnim koljenom d90/110 mm sa zvučno izoliranom ubujmicom, spojnim komadom za WC školjku s brtvenim manžetama i setom zvučne izolacije, vijcima za učvršćenje keramike i svim potrebnim priborom za ugradnju prema uputama proizvođača i odgovarajuća tipka za dvokoličinsko ispiranje. Kotlić se oblaže keramikom. Mogućnost odstupanja svih dimenzija +/- 5 cm od zadanih vrijednosti. Obračun po kompletno ugrađenoj i ispitanoj opremi, sa svim potrebnim materijalom i radom, u punoj funkcionalnosti. | F40: kom | G40: 2 | I40: =G40*H40 -> 0
A42: 2.3. | B42: Nabava, dobava i ugradnja mješalice vode sa sudoperom, aktiviranje s prednje strane na pokret ruku, s mogućnošću promjene duljine toka vode, komplet s priključnim ventilom za vodu od 1/2", Mješalica za sudoper krom/sive boje, izljevna visina 6,7 cm ,ugradnja stojeća, izljevna dužina 10,7 cm, visina 13,8 cm, dubina 10,0 cm. Komplet čini i sudoper. Obračun po kompletno ugrađenoj i ispitanoj opremi, sa svim potrebnim materijalom i radom, u punoj funkcionalnosti. | F42: kom | G42: 1 | I42: =G42*H42 -> 0
F44: Instalacija vodovoda - 2. Sanitarna oprema | H44: UKUPNO: | I44: =SUM(I38:I42) -> 0
A47: INSTALACIJA KANALIZACIJE
A49: 3. Montažni radovi
A51: R. Br. | B51: Opis stavke | F51: J.M. | G51: Količina | H51: Jedinična cijena | I51: Ukupno
A53: 4.1. | B53: Nabava, dobava i ugradnja PVC kanalizacijskih cijevi s naglavnim spojevima i svim potrebnim fazonskim komadima koji nisu posebno specificirani, spojnim i brtvenim materijalom, materijalom za pričvršćenje i zavješenje, svi radovi i radna skela ukoliko je potrebna. Stavkom obuhvatiti i spoj na postojeću instalaicju vode. Stavka uključuje i izrada šliceva u zidovima i podovima, te popravke istih nakon ugradnje cijevi.
B54: - PVC DN 50 | F54: m' | G54: 5 | I54: =G54*H54 -> 0
B55: - PVC DN 70 | F55: m' | G55: 7.8 | I55: =G55*H55 -> 0
B56: - PVC DN 110 | F56: m' | G56: 9 | I56: =G56*H56 -> 0
B57: - revizijski komad fi 110 | F57: kom | G57: 3 | I57: =G57*H57 -> 0
A59: 4.2. | B59: Nabava, doprema na gradilište i ugradnja ventilacijskih kapa od PVC-a na završecima kanala vertikala (0,5 m od krova). U cijenu uključiti vrijednosti svih radova i materijal. | F59: kom | G59: 1 | I59: =G59*H59 -> 0
A61: 4.3. | B61: Nabava, doprema na gradilište i ugradnja kromiranih vratašaca 30x30 cm za reviziju kanalizacije unutar objekta. U cijenu uključiti vrijednost svih radova, materijala, do potpune gotovosti. | F61: kom | G61: 3 | I61: =G61*H61 -> 0
A65: 4.4. | B65: Ispitivanje vertikalne i horizontalne kanalizacije na protočnost i nepropusnost, te ispiranje kanalizacije. Rezultate ispitivanja evidentirati kroz građevinski dnevnik. | F65: kpl | G65: 1 | I65: =G65*H65 -> 0
F67: Instalacija kanalizacije - 4. Montažni radovi | H67: UKUPNO: | I67: =SUM(I53:I65) -> 0
A72: REKAPITULACIJA
A74: INSTALACIJA VODOVODA
A76: 1. Montažni radovi | I76: =I31 -> 0
...

Sheet Elektroinstalacije
A2: ELEKTROTEHNIČKI RADOVI
A4: NAPOMENA: Ove stavke troškovnika su sastavni dio općih uvjeta
A6: Kako se velika većina radova izvodi na katu, u stavke je potrebno uračunati i cijenu transporta i premještanja materijala i alata na istu, a sve u cilju zaštite radnika i trećih osoba.
A7: Sav demontirani materijal kojeg korisnik prostora odluči zadržati pažljivo deponirati na gradilištu, a materijal koji se ne zadržava zbrinuti na pripadajučoj javnoj deponiji.
A9: redni | B9: opis opreme | C9: jed. | E9: jed. | F9: ukupna
A10: broj | B10: i radova | C10: mjera | D10: količina | E10: cijena | F10: cijena
B12: Građevina: Rekonstrukcija (nadogradnja i pruređenje prostora) doma za starije i nemoćne osobe
B13: Investitor: Dom za starije i nemoćne osobe Beli Manastir, OIB: 34580944535,
B14: Lokacija: Bana Jelačića 108, 31300 Beli Manastir, k.č.br. 2807/1, k.o. Beli Manastir
B16: NAPOMENA: Cijena za svaku točku ovog troškovnika mora obuhvatiti dobavu, montažu, spajanje, te dovođenje stavke u stanje potpune funkcionalnosti. U cijenu treba ukalkulirati sav spojni, montažni, pridržni i ostali materijal potreban za potpuno funkcioniranje pojedine stavke. Prilikom izrada ponude treba imati u vidu najnovije važeće propise za pojedine vrste instalacije. Izvođač je dužan prijenos, ugradnju i montažu opreme, kao i svu građevinsku pomoć izvesti o svom trošku, te sve radove nuditi u jediničnim cijenama predmetnog troškovnika. Svi razdjelnici trebaju biti sastavljeni, ispitani i isporučeni s natpisnom pločicom. Za potrebe priključenja uključiti radove spajanja na najbliži postojeći, razvodni ormar objekta.
A17: 1. | B17: NISKONAPONSKI PRIKLJUČAK I RAZVOD ELEKTRIČNE ENERGIJE
A19: 1. | B19: Napajanje razvodnog ormara oznake 'Rp' izvesti kabelom NYY-J 5x6 mm2 iz postojećeg ormara GRO. Izvršiti rekonstrukciju postojećeg ormara te ugraditi odlazni osigurač C20/3 A.
A20: 1.1. | B20: NYY-J 5x6 mm2 | C20: m | D20: 50 | E20: 0 | F20: =D20*E20 -> 0
A21: 1.2. | B21: CSS Φ 40 mm | C21: m | D21: 60 | E21: 0 | F21: =D21*E21 -> 0
A22: 1.3. | B22: automatski zaštitni prekidač C20/3 A | C22: kom | D22: 1 | E22: 0 | F22: =D22*E22 -> 0
A24: 2. | B24: Napajanje razvodnog ormara 'Rk' izvesti kabelom NYY-J 5x10 mm2 iz postojećeg ormara GRO. U ormar ugraditi odlazni osigurač C32/3 A.
A25: 2.1. | B25: NYY-J 5x10 mm2 | C25: m | D25: 50 | E25: 0 | F25: =D25*E25 -> 0
A26: 2.2. | B26: CSS Φ50 mm | C26: m | D26: 60 | E26: 0 | F26: =D26*E26 -> 0
A27: 2.3. | B27: automatski zaštitni prekidač C32/3 A | C27: kom | D27: 1 | E27: 0 | F27: =D27*E27 -> 0
A29: 3. | B29: Dobava, montaža, ugradnja u zid i spajanje zidnog plastičnog, razdjelnog ormara prizemlja 'Rp' s neprozirnim vratima, 3 reda x 18 modula, komplet sa svim potrebnim montažnim i spojnim priborom.
A30: 3.1. | B30: Rastavna sklopka 4P, 32 A, prekidna moć 15 kA | C30: kom | D30: 1 | E30: 0 | F30: =D30*E30 -> 0
A31: 3.2. | B31: RCD strujna zaštitna sklopka 40 A / 30 mA / 4P | C31: kom | D31: 1 | E31: 0 | F31: =D31*E31 -> 0
A32: 3.3. | B32: RCD strujna zaštitna sklopka 25 A / 30 mA / 4P | C32: kom | D32: 1 | E32: 0 | F32: =D32*E32 -> 0
A33: 3.4. | B33: Katodni odvodnik prenapona 3P+N, sa signalizacijom stanja, 15kA/20kA, tip 2 | C33: kom | D33: 1 | E33: 0 | F33: =D33*E33 -> 0
A34: 3.5. | B34: automatski zaštitni prekidači:
A35: 3.5.1. | B35: C16 A, prekidna moć 10 kA, 1P | C35: kom | D35: 10 | E35: 0 | F35: =D35*E35 -> 0
A36: 3.5.2. | B36: C10 A, prekidna moć 10 kA, 1P | C36: kom | D36: 5 | E36: 0 | F36: =D36*E36 -> 0
A37: 3.5.3. | B37: C6 A, prekidna moć 10 kA, 1P | C37: kom | D37: 2 | E37: 0 | F37: =D37*E37 -> 0
A38: 3.6. | B38: Impulsni relej 16A, 230 V | C38: kom | D38: 1 | E38: 0 | F38: =D38*E38 -> 0
A39: 3.7. | B39: Naponski okidač za rastavnu sklopku 220-240V 50/60Hz | C39: kom | D39: 1 | E39: 0 | F39: =D39*E39 -> 0
A40: 3.8. | B40: zidni razdjeli ormar Rp | C40: kom | D40: 1 | E40: 0 | F40: =D40*E40 -> 0
B42: Napomena: Sve komplet sa rednim stezaljkama, sabirnicama, kabelskim uvodnicama, spojnim vodičima P/F odgovarajućeg presjeka i boje izolacije, kabelskim kanalicama, natpisnim i upozornim pločicama, te ostalim sitnim materijalom i priključnim priborom. Pristupačne dijelove pod naponom prekriti izolacijskom pločom. Ugraditi džep za dokumentaciju. U cijenu uključiti vrijednost svih potrebnih radova i materijala
A45: 4. | B45: Dobava, montaža, ugradnja u zid i spajanje zidnog, plastičnog razdjelnog ormara potkrovlja oznake 'Rk' s neprozirnim vratima, 4 reda x 18 modula, komplet sa svim potrebnim montažnim i spojnim priborom.
A46: 4.1. | B46: Rastavna sklopka 4P, 32 A, prekidna moć 15 kA | C46: kom | D46: 1 | E46: 0 | F46: =D46*E46 -> 0
A47: 4.2. | B47: RCD strujna zaštitna sklopka 40 A / 30 mA / 4P | C47: kom | D47: 2 | E47: 0 | F47: =D47*E47 -> 0
A48: 4.3. | B48: RCD strujna zaštitna sklopka 25 A / 30 mA / 4P | C48: kom | D48: 1 | E48: 0 | F48: =D48*E48 -> 0
A49: 4.4. | B49: Katodni odvodnik prenapona 3P+N, sa signalizacijom stanja, 15kA/20kA, tip 2 | C49: kom | D49: 1 | E49: 0 | F49: =D49*E49 -> 0
A50: 4.5. | B50: automatski zaštitni prekidači:
A51: 4.5.1. | B51: C16 A, prekidna moć 10 kA, 1P | C51: kom | D51: 22 | E51: 0 | F51: =D51*E51 -> 0
A52: 4.5.2. | B52: C10 A, prekidna moć 10 kA, 1P | C52: kom | D52: 8 | E52: 0 | F52: =D52*E52 -> 0
...

Sheet Strojarske instalacije
A1: Strojarski radovi
A3: NAPOMENA: Ove stavke troškovnika su sastavni dio općih uvjeta
A5: Sav demontirani materijal kojeg korisnik prostora odluči zadržati pažljivo deponirati na gradilištu, a materijal koji se ne zadržava zbrinuti na pripadajučoj javnoj deponiji.
A7: Cijena za svaku točku ovog troškovnika mora obuhvatiti dobavu, montažu, spajanje, te dovođenje stavke u stanje potpune funkcionalnosti. U cijenu treba ukalkulirati sav spojni, montažni, pridržni i ostali materijal potreban za potpuno funkcioniranje pojedine stavke. Izvođač je dužan prijenos, ugradnju i montažu opreme, kao i svu građevinsku pomoć izvesti o svom trošku, te sve radove nuditi u jediničnim cijenama predmetnog troškovnika
A8: redni | B8: opis opreme | C8: jed. | E8: jed. | F8: ukupna
A9: broj | B9: i radova | C9: mjera | D9: količina | E9: cijena | F9: cijena
A11: A MULTI SPLIT SUSTAV HLAĐENJA
A13: 1.0.0. | B13: Vanjske jedinice
A16: 1.1.1.
B17: Vanjska jedinica multi split sustava, s radnom tvari R-32, za spajanje do 4 unutarnje jedinice, namjenjena za vanjsku montažu - zaštićena od vremenskih utjecaja, s ugrađenim inverter kompresorom, zrakom hlađenim kondenzatorom i svim potrebnim elementima za zaštitu i kontrolu. Napomena: navedene vrijednosti opreme mogu odstupati do 10%
B18: Slijedećih tehničkih karakteristika:
B19: Hlađenje:
B20: Qh (maks./nom.) = 8,9/6,8 kW
B21: SEER= 8,54/7,29
B22: Grijanje:
B23: Qg (maks./nom.) = 11,10/8,6 kW
B24: SCOP= 4,65/3,83
C25: kom | D25: 1 | F25: =D25*E25 -> 0
A34: 1.1.2.
B35: Vanjska jedinica multi split sustava, s radnom tvari R-32, za spajanje do 2 unutarnje jedinice, namjenjena za vanjsku montažu - zaštićena od vremenskih utjecaja, s ugrađenim inverter kompresorom, zrakom hlađenim kondenzatorom i svim potrebnim elementima za zaštitu i kontrolu. Napomena: navedene vrijednosti opreme mogu odstupati do 10%
B37: Slijedećih tehničkih karakteristika:
B38: Hlađenje:
B39: Qh (maks./nom.) = 5,5/5,00 kW
B40: SEER= 8,80/8,51
B41: Grijanje:
B42: Qg (maks./nom.)= 6,3/5,6 kW
B43: SCOP= 4,79/4,61
C44: kom | D44: 1 | F44: =D44*E44 -> 0
A46: 2.0.0. | B46: Unutarnje jedinice
A47: 2.1.0. | B47: Profesionalna unutarnja zidna jedinica s maskom predviđena za montažu na zid, opremljena ventilatorom, 5-brzinskim elektromotorom, izmjenjivačem topline s direktnom ekspanzijom freona, te svim potrebnim elementima za filtriranje, zaštitu, kontrolu i regulaciju uređaja i temperature. Stavkom obuhvatiti sav potreban materijal i rad za odvoz kondenzata PVC cijevima fi 20 mm, do vanjske površine terasa. Napomena: navedene vrijednosti opreme mogu odstupati do 10%.
A49: 2.1.1. | B49: Tehničke karakteristike uređaja:
B50: Qh= 1,7 kW
B51: Qg= 1,9 kW
B52: N = 0,023 / 0,029 kW - 230 V - 50 Hz
B53: Stavka uključuje bežični daljinski upravljač sa 7-dnevnim timerom i ugrađenim WiFi sučeljem.
C54: kom | D54: 4 | F54: =D54*E54 -> 0
A59: 2.1.2. | B59: Tehničke karakteristike uređaja:
B60: Qh = 2,0 kW (1,3-2,6)
B61: Qg = 2,5 kW (1,3-3,5)
B62: N = 0,023 / 0,029 kW - 230 V - 50 Hz
...

Sheet Rekapitulacija
A1: REKAPITULACIJA
A3: 1. Građevinsko - obrtnički radovi | I3: ='Građ.-obrt. radovi'!I288 -> 0
A4: 2. Vanjsko stubište | I4: ='Vanjsko stubište'!I91 -> 0
A5: 3. Vodovod i kanalizacija | I5: ='Vodovod i kanalizacija'!I83 -> 0
A6: 4. Elektro instalacije | I6: =Elektroinstalacije!E238 -> 0
A7: 5. Strojarske instalacije | I7: ='Strojarske instalacije'!F104 -> 0
H9: UKUPNO: | I9: =SUM(I3:I7) -> 0
H10: PDV: | I10: =0.25*I9 -> 0
H11: UKUPNO S PDV-om: | I11: =I9+I10 -> 0
