Workbook
Name REALIZACIJA_1997: '[1]Osn-Pod'!$E$5

Sheet Naslovna
A2: Građevina: | B2: Rekonstrukcija (pruređenje prostora) doma za starije i nemoćne osobe
A3: Investitor: | B3: Dom za starije i nemoćne osobe Beli Manastir, OIB: 34580944535, Bana Jelačića 108, 31300 Beli Manastir
A4: Lokacija: | B4: Bana Jelačića 108, 31300 Beli Manastir k.č.br. 2807/1, k.o. Beli Manastir
A29: TROŠKOVNIK
A47: Troškovnik izradio: | C47: Planum projekt d.o.o.
A49: Glavni projektant: | C49: Valentino Liović, mag.ing.aedif.
A51: Beli Manastir, prosinac 2020. godine

Sheet Opći uvjeti
B2: OPĆI UVJETI UZ TROŠKOVNIK
B3: OPĆENITO
B4: Izvođaču se uz troškovnik radova stavljaju na uvid kompletni
B5: glavni projekti svih struka koji su sastavni dio ponudbene
B6: dokumentacije. Upisom jedinične cijene pojedine stavke
B7: podrazumijeva se da je izvođač proučio cjelokupnu dokumentaciju i
B8: da je jediničnom cijenom obuhvaćeno sve navedeno troškovničkom
B9: stavkom i sve navedeno u nacrtima i tekstu glavnog
B10: projekta.
B11: Ovi opći tehnički uvjeti se dopunjuju opisima stavaka troškovnika i
B12: posebnim tehničkim uvjetima za pojedine vrste radova. Sve što je
B13: navedeno u njima, a nije u pojedinačnom opisu stavke smatra se
... B440: Prije ugradnje mlaznica paziti na minimalno zahtijevane udaljenosti mlaznica od stropa.Raspored mlaznica izvesti u skladu sa projektom i propisima,pokojima je instalacija projektirana.

Sheet Građ.-obrt. radovi
A1: GRAĐEVINSKO - OBRTNIČKI RADOVI RADOVI
A3: NAPOMENA: Ove stavke troškovnika su sastavni dio općih uvjeta
A5: Kako se velika većina radova izvodi na katu, u stavke je potrebno uračunati i cijenu transporta i premještanja materijala i alata na istu, a sve u cilju zaštite radnika i trećih osoba.
A7: Sav demontirani materijal kojeg korisnik prostora odluči zadržati pažljivo deponirati na gradilištu, a materijal koji se ne zadržava zbrinuti na pripadajučoj javnoj deponiji.
A8: 1. Rušenje i demontaža
A10: R. Br. | B10: Opis stavke | F10: J.M. | G10: Količina | H10: Jedinična cijena | I10: Ukupno
A12: 1.1. | B12: Čišćenje kompletnog prostora u potkrovlju. U cijenu stavke je potrebno uračunati kompletno račišćavanje prostora od nakupljenog materijala koji se nalazi na postojećem podu. Stavkom je potrebno obuhvatiti i prebacivanje nakupljenog otpada na tlo, uz dužnu pažnju, kako ne bi došlo do ozljeda radnika ili trećih osoba. Stavka obuhvaća i skidanje zavjesa s drvenom konstrukcijom u prizemlju, na mjestu izvođenja radova. Napomena: Stavkom je potrebno obuhvatiti i odvoz otpadnog materijala na deponiju udaljenu do 10,0 km. | F12: m2 | G12: 230 | I12: =G12*H12 -> 0
A14: 1.2. | B14: Demontaža postojećeg crijepa. Stavkom su obuhvaćeni svi radovi potrebni za demontažu crijepa s krova, zajedno sa sljemenjacima i rubnim crijepovima krova. Demontirani crijep, potrebno je složiti na pod tavanskog prostora te s dužnom pažnjom premjestiti na tlo kako ne bi došlo do ozljeda radnika ili trećih osoba. Napomena: Stavkom je potrebno obuhvatiti i odvoz crijepa na deponiju udaljenu do 10,0 km. | F14: m2 | G14: 295.49 | I14: =G14*H14 -> 0
A16: 1.3. | B16: Demontaža postojećeih limenih opšava i oluka. Stavkom su obuhvaćeni svi radovi potrebni za demontažu oluka. Demontirane opšave i oluke, potrebno je složiti na pod tavanskog prostora te s dužnom pažnjom premjestiti na tlo kako ne bi došlo do ozljeda radnika ili trećih osoba. Napomena: Stavkom je potrebno obuhvatiti i odvoz opšava i oluka na deponiju udaljenu do 10,0 km. | F16: m' | G16: 146.8 | I16: =G16*H16 -> 0
A18: 1.4. | B18: Demontaža postojećeih letvi i kontraletvi, vodonepropusne paropropusne folije i toplinske izolacije na krovu. Stavkom su obuhvaćeni svi radovi potrebni za demontažu istih. Demontirane letve, potrebno je složiti na pod tavanskog prostora te s dužnom pažnjom premjestiti na tlo kako ne bi došlo do ozljeda radnika ili trećih osoba. Napomena: Stavkom je potrebno obuhvatiti i odvoz na deponiju udaljenu do 10,0 km. | F18: m2 | G18: 295.49 | I18: =G18*H18 -> 0
A20: 1.5. | B20: Demontaža postojeće krovne konstrukcije. Stavkom su obuhvaćeni svi radovi potrebni za demontažu istie. Demontirana konstrukcija (rogovi, nazidnice, podrožnice i sl.), potrebno je složiti na pod tavanskog prostora te s dužnom pažnjom premjestiti na tlo kako ne bi došlo do ozljeda radnika ili trećih osoba. Napomena: Stavkom je potrebno obuhvatiti i odvoz na deponiju udaljenu do 10,0 km. | F20: m2 | G20: 295.49 | I20: =G20*H20 -> 0
A22: 1.6. | B22: Rušenje postojećih stupova od armiranog betona. U stavku je uključen sav rad i materijal. Rušenje je potrebno obaviti s dužnom pažnjom, kako ne bi došlo do ozljeda radnika ili trećih osoba uzrokovanih rušenjem. Stavkom je potrebno uračunati i premještanje šute s tavanskog prostora na tlo. Napomena: Stavkom je potrebno obuhvatiti i odvoz na deponiju udaljenu do 10,0 km. | F22: m3 | G22: 2 | I22: =G22*H22 -> 0
A24: 1.7. | B24: Rušenje postojećih zidova od pune opeke. U stavku je uključen sav rad i materijal. Rušenje je potrebno obaviti s dužnom pažnjom, kako ne bi došlo do ozljeda radnika ili trećih osoba uzrokovanih rušenjem. Stavkom je potrebno uračunati i premještanje šute s tavanskog prostora na tlo. Napomena: Stavkom je potrebno obuhvatiti i odvoz na deponiju udaljenu do 10,0 km. | F24: m3 | G24: 45.52 | I24: =G24*H24 -> 0
A26: 1.8. | B26: Demontaža potojećih krovnih prozora i kupola. Demontažu je potrebno obaviti s dužnom pažnjom, kako ne bi došlo do ozljeda radnika ili trećih osoba uzrokovanih rušenjem. Stavkom je potrebno uračunati i premještanje demontiranih prozora s tavanskog prostora na tlo. Napomena: Stavkom je potrebno obuhvatiti i odvoz na deponiju udaljenu do 10,0 km. | F26: kom | G26: 14 | I26: =G26*H26 -> 0
A28: 1.9. | B28: Demontaža potojećih unutarnjih vrata na tavanu. Demontažu je potrebno obaviti s dužnom pažnjom, kako ne bi došlo do ozljeda radnika ili trećih osoba uzrokovanih demontažom. Stavkom je potrebno uračunati i premještanje demontiranih vrata s tavanskog prostora na tlo. Napomena: Stavkom je potrebno obuhvatiti i odvoz na deponiju udaljenu do 10,0 km. | F28: kom | G28: 10 | I28: =G28*H28 -> 0
A30: 1.10. | B30: Rušenje postojećih dimnjaka od pune opeke. U stavku je uključen sav rad i materijal. Rušenje je potrebno obaviti s dužnom pažnjom, kako ne bi došlo do ozljeda radnika ili trećih osoba uzrokovanih rušenjem. Napomena: Stavkom je potrebno obuhvatiti i odvoz na deponiju udaljenu do 10,0 km. | F30: kom | G30: 6 | I30: =G30*H30 -> 0
A32: 1.11. | B32: Demontaža potojećeg finalnog sloja poda od PVCa. Demontažu je potrebno obaviti s dužnom pažnjom, kako ne bi došlo do ozljeda radnika ili trećih osoba uzrokovanih demontažom. Napomena: Stavkom je potrebno obuhvatiti i odvoz na deponiju udaljenu do 10,0 km. | F32: m2 | G32: 140 | I32: =G32*H32 -> 0
A34: 1.12. | B34: Demontaža potojećih sanitarija u toaletu. Stavka obuhvaća sanitarija, sa svim sastavnim dijelovima, te brtvljenje i blindiranje instalacija vodovoda i kanalizacije, sa svim materijalom. Demontažu je potrebno obaviti s dužnom pažnjom, kako ne bi došlo do ozljeda radnika ili trećih osoba uzrokovanih demontažom. Napomena: Stavkom je potrebno obuhvatiti i odvoz na deponiju udaljenu do 10,0 km. | F34: kom | G34: 14 | I34: =G34*H34 -> 0
... A38: 1.14. | B38: Demontaža instalacija vodovoda i kanalizacije. U cijenu uključen kompletan materijal i rad. Napomena: Stavkom je potrebno obuhvatiti i odvoz na deponiju udaljenu do 10,0 km. | F38: kpl | G38: 1 | I38: =G38*H38 -> 0
A40: 1.15. | B40: Dobava i ugradnja zaštite od atmosferskih utjecaja na mjestima demontiranih slojeva iz pripremnih radova za cijeli period izvođenja radova, odnosno do ugradnje novo projektirane završne obloge. | F40: kpl | G40: 1 | I40: =H40*G40 -> 0
F42: 1. Rušenje i demontaža | H42: UKUPNO: | I42: =SUM(I12:I40) -> 0
A44: 2. Tesarski radovi
A46: R. Br. | B46: Opis stavke | F46: J.M. | G46: Količina | H46: Jedinična cijena | I46: Ukupno
A48: 2.1. | B48: Nabava, doprema, izrada, postavljanje i skidanje glatke daščane oplate za vertikalne serklaže, presjeka 30/30 cm i visine do 3,00 m, sa svim potrebnim ukrutama i razuporama i podupiranjem. VERTIKALNI SERKLAŽI. | F48: m2 | G48: 9.36 | I48: =G48*H48 -> 0
A50: 2.2. | B50: Nabava, doprema, izrada, postavljanje i skidanje dvostrane glatke daščane oplate za horizontalne i kose serklaže, presjeka 30/20 cm, sa svim potrebnim ukrutama i razuporama. HORIZONTALNI I KOSI SERKLAŽI. | F50: m2 | G50: 22.8 | I50: =G50*H50 -> 0
F52: 2. Tesarski radovi | H52: UKUPNO: | I52: =SUM(I48:I50) -> 0
A55: 3. Betonski radovi
A57: R. Br. | B57: Opis stavke | F57: J.M. | G57: Količina | H57: Jedinična cijena | I57: Ukupno
A59: 3.1. | B59: Nabava, doprema i ugradnja betona C25/30 u vertikalne serklaže presjeka 30/30 cm i visine do max. 3,0 u glatkoj oplati. Stavkom je obuhvaćena doprema betona iz tvornice betona, ugradba i njega betona nakon ugradbe. VERTIKALNI SERKLAŽI | C59: Betoniranje armiranih vertikalnih serklaža presjeka 25/25 cm i visine do max 3,50 m, betonom C25/30 u glatkoj oplati. Stavkom je obuhvaćena doprema betona iz tvornice betona, ugradba i njega betona nakon ugradbe. | D59: Betoniranje armiranih vertikalnih serklaža presjeka 25/25 cm i visine do max 3,50 m, betonom C25/30 u glatkoj oplati. Stavkom je obuhvaćena doprema betona iz tvornice betona, ugradba i njega betona nakon ugradbe. | E59: Betoniranje armiranih vertikalnih serklaža presjeka 25/25 cm i visine do max 3,50 m, betonom C25/30 u glatkoj oplati. Stavkom je obuhvaćena doprema betona iz tvornice betona, ugradba i njega betona nakon ugradbe. | F59: m3 | G59: 0.98 | I59: =G59*H59 -> 0
A61: 3.2. | B61: Nabava, doprema i ugradnja betona C25/30 u horizontalne serklaže presjeka 30/20 cm u glatkoj oplati. Stavkom je obuhvaćena doprema betona iz tvornice betona, ugradba i njega betona nakon ugradbe. HORIZONTALNI SERKLAŽI. | C61: Betoniranje armiranih vertikalnih serklaža presjeka 25/25 cm i visine do max 3,50 m, betonom C25/30 u glatkoj oplati. Stavkom je obuhvaćena doprema betona iz tvornice betona, ugradba i njega betona nakon ugradbe. | D61: Betoniranje armiranih vertikalnih serklaža presjeka 25/25 cm i visine do max 3,50 m, betonom C25/30 u glatkoj oplati. Stavkom je obuhvaćena doprema betona iz tvornice betona, ugradba i njega betona nakon ugradbe. | E61: Betoniranje armiranih vertikalnih serklaža presjeka 25/25 cm i visine do max 3,50 m, betonom C25/30 u glatkoj oplati. Stavkom je obuhvaćena doprema betona iz tvornice betona, ugradba i njega betona nakon ugradbe. | F61: m3 | G61: 3 | I61: =G61*H61 -> 0
F63: 3. Betonski radovi | H63: UKUPNO: | I63: =SUM(I59:I61) -> 0
A66: 4. Armirački radovi
A68: R. Br. | B68: Opis stavke | F68: J.M. | G68: Količina | H68: Jedinična cijena | I68: Ukupno
A70: 4.1. | B70: Nabava, dobava, sječenje, savijanje, ugradnja i postavljanje rebraste armature svih profila vertikalnih i horizontalnih serklaža, greda, nadvoja i sl. Armatura B500B. Stavkom obuhvatiti spoj postojeće i nove armature. | C70: Nabava, doprema, sječenje, savijanje, ugradnja i postavljanje rebraste armature svih profila trakastih temelja, nadtemeljnih zidova, vertikalnih,horizontalnih serklaža,greda i ukrutnih greda stropa. | D70: Nabava, doprema, sječenje, savijanje, ugradnja i postavljanje rebraste armature svih profila trakastih temelja, nadtemeljnih zidova, vertikalnih,horizontalnih serklaža,greda i ukrutnih greda stropa. | E70: Nabava, doprema, sječenje, savijanje, ugradnja i postavljanje rebraste armature svih profila trakastih temelja, nadtemeljnih zidova, vertikalnih,horizontalnih serklaža,greda i ukrutnih greda stropa. | F70: kg | G70: 796 | I70: =G70*H70 -> 0
F72: 4. Armirački radovi | H72: UKUPNO: | I72: =SUM(I70:I70) -> 0
A75: 5. Bravarski radovi
A77: R. Br. | B77: Opis stavke | F77: J.M. | G77: Količina | H77: Jedinična cijena | I77: Ukupno
A79: 5.1. | B79: Nabava, dobava i ugradnja svog potrebnog materijala, kao i izrada čelične nosive konstrukcije prema Glavnom projektu konstrukcije. U cijenu stavke uračunati sva spojna sredstva, podne ploče, papuče, zavare, vijke te ostali potrebani materijal, alat i rad, do izrade konstrukcije do potpune gotovosti. Izvođač je dužan izraditi radioničke nacrte te za iste zatražiti odobrenje i ovjeru nadzornog inženjera prije početka izvođenja bravarskih radova. | C79: Doprema, istovar i ugradnja svog potrebnog materijala, spravljanje vapneno-cementnog morta i zidanje nosivih zidova glinenom blok opekom d=25 cm. | D79: Doprema, istovar i ugradnja svog potrebnog materijala, spravljanje vapneno-cementnog morta i zidanje nosivih zidova glinenom blok opekom d=25 cm. | E79: Doprema, istovar i ugradnja svog potrebnog materijala, spravljanje vapneno-cementnog morta i zidanje nosivih zidova glinenom blok opekom d=25 cm. | F79: kg | G79: 5300 | I79: =G79*H79 -> 0
F81: 5. Bravarski radovi | H81: UKUPNO: | I81: =SUM(I79:I79) -> 0
A84: 6. Zidarski radovi
A86: R. Br. | B86: Opis stavke | F86: J.M. | G86: Količina | H86: Jedinična cijena | I86: Ukupno
A88: 6.1. | B88: Nabava, doprema, i ugradnja svog potrebnog materijala, kao i izrada vapneno-cementnog morta, za zid presjeka 30,0 cm glinenom blok opekom. U stavku uključen sav potreban alat, materijal i rad. ZABATNI ZID I NADOZID. | C88: Doprema, istovar i ugradnja svog potrebnog materijala, spravljanje vapneno-cementnog morta i zidanje nosivih zidova glinenom blok opekom d=25 cm. | D88: Doprema, istovar i ugradnja svog potrebnog materijala, spravljanje vapneno-cementnog morta i zidanje nosivih zidova glinenom blok opekom d=25 cm. | E88: Doprema, istovar i ugradnja svog potrebnog materijala, spravljanje vapneno-cementnog morta i zidanje nosivih zidova glinenom blok opekom d=25 cm. | F88: m3 | G88: 18.5 | I88: =G88*H88 -> 0
A90: 6.2. | B90: Nabava, doprema materijala i izrada cementnog estriha u sloju debljine 5,0 cm, iznad podne ploče, kao podloge završnom sloju poda. Estrih je potrebno armirati cemetnim vlaknima ili armaturom Q 131. U cijenu uključen sav potreban materijal, alat i rad. | C90: Doprema, postavljanje i skidanje montažne fasadne skele za vrijeme izvođenja zidarskih i fasaderskih radova. | D90: Doprema, postavljanje i skidanje montažne fasadne skele za vrijeme izvođenja zidarskih i fasaderskih radova. | E90: Doprema, postavljanje i skidanje montažne fasadne skele za vrijeme izvođenja zidarskih i fasaderskih radova. | F90: m2 | G90: 215 | I90: =G90*H90 -> 0
A92: 6.3. | B92: Nabava, doprema i ugradnja montažnih nadvoja u otvore. U cijenu stavke uračunat sav potreban mateijal, alat i rad za ugradnju montažnih nadvoja u ukupnu širinu zida. Gredica mora nalijegati minimalno 10,0 cm. Jedinična cijena po m' zida svjetlog otvora. | C92: Žbukanje unutarnjih zidova od blok opeke te okna lifta, sa obradom svih špaleta. Grubo žbukanje vapneno-cementnom temeljnom žbukom u sloju debljine cca 1,5 cm, finiranje mineralnom zaribanom žbukom u sloju do 3 mm. Prije samog žbukanja nanosi se sloj cementnog šprica, a na svim rubovima i kutevima se postavljaju lajsne za žbukanje. Stavka obuhvaća i druge predradnje, kao što je čišćenje zidova i zaštita stolarije te skela. | D92: Žbukanje unutarnjih zidova od blok opeke te okna lifta, sa obradom svih špaleta. Grubo žbukanje vapneno-cementnom temeljnom žbukom u sloju debljine cca 1,5 cm, finiranje mineralnom zaribanom žbukom u sloju do 3 mm. Prije samog žbukanja nanosi se sloj cementnog šprica, a na svim rubovima i kutevima se postavljaju lajsne za žbukanje. Stavka obuhvaća i druge predradnje, kao što je čišćenje zidova i zaštita stolarije te skela. | E92: Žbukanje unutarnjih zidova od blok opeke te okna lifta, sa obradom svih špaleta. Grubo žbukanje vapneno-cementnom temeljnom žbukom u sloju debljine cca 1,5 cm, finiranje mineralnom zaribanom žbukom u sloju do 3 mm. Prije samog žbukanja nanosi se sloj cementnog šprica, a na svim rubovima i kutevima se postavljaju lajsne za žbukanje. Stavka obuhvaća i druge predradnje, kao što je čišćenje zidova i zaštita stolarije te skela. | F92: m' | G92: 4 | I92: =G92*H92 -> 0
F94: 6. Zidarski radovi | H94: UKUPNO: | I94: =SUM(I88:I92) -> 0
A96: 7. Limarski radovi i odvodnja
A98: R. Br. | B98: Opis stavke | F98: J.M. | G98: Količina | H98: Jedinična cijena | I98: Ukupno
A100: 7.1. | B100: Nabava, doprema i montaža horizontalnih pravokutnih oluka 100 mm, izrađenih od poc. bojanog lima debljine 0,55 mm. Stavkom su obuhvaćene i obujmice za oluke, te sav potreban materijal i rad do potpune gotovosti stavke. | C100: Doprema i montaža vertikalnih kružnih oluka promjera Ø100 mm, izrađenih od poc. lima debljine 0,55 mm.Stavkom su obuhvaćene i obujmice za oluke. | D100: Doprema i montaža vertikalnih kružnih oluka promjera Ø100 mm, izrađenih od poc. lima debljine 0,55 mm.Stavkom su obuhvaćene i obujmice za oluke. | E100: Doprema i montaža vertikalnih kružnih oluka promjera Ø100 mm, izrađenih od poc. lima debljine 0,55 mm.Stavkom su obuhvaćene i obujmice za oluke. | F100: m' | G100: 30.8 | I100: =G100*H100 -> 0
A102: 7.2. | B102: Nabava, doprema i montaža vertikalnih pravokutnih oluka 100 mm, izrađenih od poc. bojanog lima debljine 0,55 mm. Stavkom su obuhvaćene i obujmice za oluke, te sav potreban materijal i rad do potpune gotovosti stavke. | C102: Doprema i montaža vertikalnih kružnih oluka promjera Ø100 mm, izrađenih od poc. lima debljine 0,55 mm.Stavkom su obuhvaćene i obujmice za oluke. | D102: Doprema i montaža vertikalnih kružnih oluka promjera Ø100 mm, izrađenih od poc. lima debljine 0,55 mm.Stavkom su obuhvaćene i obujmice za oluke. | E102: Doprema i montaža vertikalnih kružnih oluka promjera Ø100 mm, izrađenih od poc. lima debljine 0,55 mm.Stavkom su obuhvaćene i obujmice za oluke. | F102: m' | G102: 20 | I102: =G102*H102 -> 0
A104: 7.3. | B104: Nabava, dobava i ugradnja kanalice iz pocinčanog čeličnog lima s bočnim perforacijama za skupljanje voda na vanjsloj terasi. Građevinska širina kanala 130 mm, podesive visine pomoću vijaka za nivelaciju, duljina 500 ili 1000 mm, te međuelement za podešavanje duljine od 50-550 mm. Kanal se polaže direktno na sloj hidroizolacije. Kanal ima integrirani dosjed za rešetku širine 12,3 cm sa sistemom zaključavanja vijkom. Kanal podesive visine 55-78 mm. Nabava, dobava i ugradnja mosne rešetke izrađene je iz vruče pocinčanog čeličnog lima, klase A15 za pješačka opterećenja, dimenzija 123 mm x 1000 mm sa vijčanim zaključavanjem. Nabava, dobava i ugradnja 4 revizijska okvira iz pocinčanog čeličnog lima s bočnim perforacijama za skupljanje voda sa terase. Građevinska širina okvira i rešetke 400x400 mm, podesiva visina. Okvir se polaže direktno iznad slivnika i služi kao revizija. Nabava, dobava i montaža 2 krovna slivnika iz lijevanog željeza, s prirubnicom za uklještenje hidroizolacije, procijednim otvorima i horizontalnim odljevom DN50 u vertikale. | C104: Nabava, doprema i popločavanje podova protukliznim keramičkim pločicama i odgovarajućim keramičkim ljepilom. Boja i veličina keramičkih pločica, prema izboru projektamta ili Investitora.U stavci uračunato 15% otpada na urezivanje pločica. Po završetku polaganja, fuge se zapunjavaju masom za fugiranje. | D104: Nabava, doprema i popločavanje podova protukliznim keramičkim pločicama i odgovarajućim keramičkim ljepilom. Boja i veličina keramičkih pločica, prema izboru projektamta ili Investitora.U stavci uračunato 15% otpada na urezivanje pločica. Po završetku polaganja, fuge se zapunjavaju masom za fugiranje. | E104: Nabava, doprema i popločavanje podova protukliznim keramičkim pločicama i odgovarajućim keramičkim ljepilom. Boja i veličina keramičkih pločica, prema izboru projektamta ili Investitora.U stavci uračunato 15% otpada na urezivanje pločica. Po završetku polaganja, fuge se zapunjavaju masom za fugiranje. | F104: m' | G104: 30 | I104: =G104*H104 -> 0
A106: 7.4. | B106: Nabava, doprema i montaža opšava na spojevima zidnih i krovnih panela te svih ostalih spojeva koje je potrebno zatvoriti na zgradi, izrađenih od poc. bojanog lima debljine 0,55 mm, u širini 42,0 cm. Stavkom su obuhvaćene i obujmice, te sav potreban materijal i rad do potpune gotovosti stavke. | C106: Doprema i montaža vertikalnih kružnih oluka promjera Ø100 mm, izrađenih od poc. lima debljine 0,55 mm.Stavkom su obuhvaćene i obujmice za oluke. | D106: Doprema i montaža vertikalnih kružnih oluka promjera Ø100 mm, izrađenih od poc. lima debljine 0,55 mm.Stavkom su obuhvaćene i obujmice za oluke. | E106: Doprema i montaža vertikalnih kružnih oluka promjera Ø100 mm, izrađenih od poc. lima debljine 0,55 mm.Stavkom su obuhvaćene i obujmice za oluke. | F106: m' | G106: 128.8 | I106: =G106*H106 -> 0
A108: 7.5. | B108: Nabava, doprema i montaža opšava na spojevima otvora i panela te svih ostalih spojeva koje je potrebno zatvoriti na zgradi, izrađenih od poc. bojanog lima debljine 0,55 mm, u širini 33,0 cm. Stavkom su obuhvaćene i obujmice, te sav potreban materijal i rad do potpune gotovosti stavke. | C108: Doprema i montaža vertikalnih kružnih oluka promjera Ø100 mm, izrađenih od poc. lima debljine 0,55 mm.Stavkom su obuhvaćene i obujmice za oluke. | D108: Doprema i montaža vertikalnih kružnih oluka promjera Ø100 mm, izrađenih od poc. lima debljine 0,55 mm.Stavkom su obuhvaćene i obujmice za oluke. | E108: Doprema i montaža vertikalnih kružnih oluka promjera Ø100 mm, izrađenih od poc. lima debljine 0,55 mm.Stavkom su obuhvaćene i obujmice za oluke. | F108: m' | G108: 50 | I108: =G108*H108 -> 0
F110: 7. Limarski radovi i odvodnja | H110: UKUPNO: | I110: =SUM(I100:I108) -> 0
A114: 8. Izolaterski radovi
A116: R. Br. | B116: Opis stavke | F116: J.M. | G116: Količina | H116: Jedinična cijena | I116: Ukupno
A118: 8.1. | B118: Nabava, doprema i izrada hidroizolacije podova terase uključujući i sokl 20 cm u slojevima 1+1. Slojevi se sastoje od nanošenje temeljnog polimer-bitumenskog premaza i bitumenskih traka. Varenje dvije plastomerne bitumenske hidroizolacijske trake visoke kvalitete s preklopima od 10,0 cm. U stavku uračunat sav potreban materijal i rad. Preklopi se ne obračunavaju posebno. | C118: Radi kontrole upojnosti podloge, nanošenje temeljnog polimer-bitumenskog premaza IDROPRIMER ili jednakovrijedan 0,3 kg/m2. Varenje dvije plastomerne bitumenske hidroizolacijske trake visoke kvalitete kao TREND HS ili jednakovijedne ojačane sa netkanim poliesterskim filcom i stabilizirane u uzdužnom smjeru staklenim vlaknima debljine 4mm. Zadizanje hidroizolacije 20cm iznad kote terena s preklopima od 10 cm. | D118: Radi kontrole upojnosti podloge, nanošenje temeljnog polimer-bitumenskog premaza IDROPRIMER ili jednakovrijedan 0,3 kg/m2. Varenje dvije plastomerne bitumenske hidroizolacijske trake visoke kvalitete kao TREND HS ili jednakovijedne ojačane sa netkanim poliesterskim filcom i stabilizirane u uzdužnom smjeru staklenim vlaknima debljine 4mm. Zadizanje hidroizolacije 20cm iznad kote terena s preklopima od 10 cm. | E118: Radi kontrole upojnosti podloge, nanošenje temeljnog polimer-bitumenskog premaza IDROPRIMER ili jednakovrijedan 0,3 kg/m2. Varenje dvije plastomerne bitumenske hidroizolacijske trake visoke kvalitete kao TREND HS ili jednakovijedne ojačane sa netkanim poliesterskim filcom i stabilizirane u uzdužnom smjeru staklenim vlaknima debljine 4mm. Zadizanje hidroizolacije 20cm iznad kote terena s preklopima od 10 cm. | F118: m2 | G118: =66 -> 66 | I118: =G118*H118 -> 0
A120: 8.2. | B120: Nabava, doprema i izrada hidroizolacije podova wca na katu. Izolaciju je potrebno napraviti sa premazima i izradom na način, dvokopmponetnom smjesom. U stavku uračunat sav potreban materijal i rad. | C120: Radi kontrole upojnosti podloge, nanošenje temeljnog polimer-bitumenskog premaza IDROPRIMER ili jednakovrijedan 0,3 kg/m2. Varenje dvije plastomerne bitumenske hidroizolacijske trake visoke kvalitete kao TREND HS ili jednakovijedne ojačane sa netkanim poliesterskim filcom i stabilizirane u uzdužnom smjeru staklenim vlaknima debljine 4mm. Zadizanje hidroizolacije 20cm iznad kote terena s preklopima od 10 cm. | D120: Radi kontrole upojnosti podloge, nanošenje temeljnog polimer-bitumenskog premaza IDROPRIMER ili jednakovrijedan 0,3 kg/m2. Varenje dvije plastomerne bitumenske hidroizolacijske trake visoke kvalitete kao TREND HS ili jednakovijedne ojačane sa netkanim poliesterskim filcom i stabilizirane u uzdužnom smjeru staklenim vlaknima debljine 4mm. Zadizanje hidroizolacije 20cm iznad kote terena s preklopima od 10 cm. | E120: Radi kontrole upojnosti podloge, nanošenje temeljnog polimer-bitumenskog premaza IDROPRIMER ili jednakovrijedan 0,3 kg/m2. Varenje dvije plastomerne bitumenske hidroizolacijske trake visoke kvalitete kao TREND HS ili jednakovijedne ojačane sa netkanim poliesterskim filcom i stabilizirane u uzdužnom smjeru staklenim vlaknima debljine 4mm. Zadizanje hidroizolacije 20cm iznad kote terena s preklopima od 10 cm. | F120: m2 | G120: 14 | I120: =G120*H120 -> 0
A122: 8.3. | B122: Nabava, dobava i polaganje termoizolacije poda od tvrdih ploča XPS-a (100 kPa tlačne ćvrstoće), debljine 18,0 cm, na izvedenu podnu hidroizolaciju. U stavku je uračunat sav potreban materijal i rad. POD. | C122: Nabava, doprema i polaganje termoizolacije poda od tvrdih ploča XPS-a, debljine 8 cm, na izvedenu podnu hidroizolaciju. | D122: Nabava, doprema i polaganje termoizolacije poda od tvrdih ploča XPS-a, debljine 8 cm, na izvedenu podnu hidroizolaciju. | E122: Nabava, doprema i polaganje termoizolacije poda od tvrdih ploča XPS-a, debljine 8 cm, na izvedenu podnu hidroizolaciju. | F122: m2 | G122: 245 | I122: =G122*H122 -> 0
A124: 8.4. | B124: Nabava, dobava i polaganje PVC folije d=0,25 mm, kao zaštita toplinske izolacije s gornje i donje strane izolacije, u podu. U stavku je uračunat sav potreban materijal i rad. | F124: m2 | G124: 400 | I124: =G124*H124 -> 0
A126: 8.5. | B126: Nabava, dobava i polaganje parne brane d=0,25 mm, kao zaštita toplinske izolacije s donje strane, u stropu. U stavku je uračunat sav potreban materijal i rad. | F126: m2 | G126: 200 | I126: =G126*H126 -> 0
A128: 8.6. | B128: Nabava, doprema i ugradnja termoizolacije stropa mineralnom vunom debljine 20,0 cm (ʎ=0,038 W/mK). U stavku je uračunat sav potreban materijal i rad. STROP. | F128: m2 | G128: 150 | I128: =G128*H128 -> 0
A130: 8.7. | B130: Nabava, doprema i ugradnja termoizolacije stropa mineralnom vunom debljine 10,0 cm (ʎ=0,038 W/mK). U stavku je uračunat sav potreban materijal i rad. STROP. | F130: m2 | G130: 60 | I130: =G130*H130 -> 0
A132: 8.8. | B132: Nabava, doprema i ugradnja termoizolacije zida mineralnom vunom debljine 10,0 cm (ʎ=0,038 W/mK). U stavku je uračunat sav potreban materijal i rad. ZID. | F132: m2 | G132: 200 | I132: =G132*H132 -> 0
A134: 8.9. | B134: Nabava, doprema i ugradnja termoizolacije zida mineralnom vunom debljine 5,0 cm (ʎ=0,038 W/mK). U stavku je uračunat sav potreban materijal i rad. ZID. | F134: m2 | G134: 75 | I134: =G134*H134 -> 0
A136: 8.10. | B136: Nabava, dobava i postavljanje SUSTAVA KROVNIH PANELA na krovnu čeličnu konstrukciju. Debljina panela 50 mm, ispuna tvrdom poli-uretanskom pjenom (PUR), koeficijent prolaskatopline min. U<0,35 W/m2K. Paneli imitacija crijepa. RAL boja prirodni crijep. Paneli moraju biti nezapaljivi, odnosno minimalne klase gorivosti A2. Priložiti certifikat vatrootpornosti 30 minuta, certifikat higijenske ispravnosti te certifikat svih tehničkih karakteristika panela. | C136: Nabava, doprema i polaganje mineralne vune d=10 cm. | D136: Nabava, doprema i polaganje mineralne vune d=10 cm. | E136: Nabava, doprema i polaganje mineralne vune d=10 cm. | F136: m2 | G136: 138.23 | I136: =G136*H136 -> 0
A138: 8.11. | B138: Nabava, dobava i postavljanje SUSTAVA ZIDNIH PANELA na zidnu čeličnu konstrukciju. Debljina panela 120 mm, ispuna tvrdom poli-uretanskom pjenom (PUR), koeficijent prolaskatopline min. U<0,23 W/m2K. Paneli bez vidljivog spoja. RAL boja smeđa, u nijansi boje postojeće fasade zgrade. Paneli moraju biti nezapaljivi, odnosno minimalne klase gorivosti A2. Priložiti certifikat vatrootpornosti 30 minuta, certifikat higijenske ispravnosti te certifikat svih tehničkih karakteristika panela. | C138: Nabava, doprema i polaganje mineralne vune d=10 cm. | D138: Nabava, doprema i polaganje mineralne vune d=10 cm. | E138: Nabava, doprema i polaganje mineralne vune d=10 cm. | F138: m2 | G138: 87.6 | I138: =G138*H138 -> 0
F140: 8. Izolaterski radovi | H140: UKUPNO: | I140: =SUM(I120:I138) -> 0
A143: 9. Soboslikarski i ličilački radovi
A145: R. Br. | B145: Opis stavke | F145: J.M. | G145: Količina | H145: Jedinična cijena | I145: Ukupno
A147: 9.1. | B147: Nabava, dobava materijala za gletanje, gletanje i ličenje unutarnjih zidova od gipskartona, bijelom bojom za unutarnje radove. Stavkom je obuhvaćena i priprema i impregnacija podloge. RAL boja 9010. | C147: Doprema, postavljanje i skidanje montažne fasadne skele za vrijeme izvođenja zidarskih i fasaderskih radova. | D147: Doprema, postavljanje i skidanje montažne fasadne skele za vrijeme izvođenja zidarskih i fasaderskih radova. | E147: Doprema, postavljanje i skidanje montažne fasadne skele za vrijeme izvođenja zidarskih i fasaderskih radova. | F147: m2 | G147: 935.91 | I147: =G147*H147 -> 0
A149: 9.2. | B149: Nabava, dobava materijala za gletanje, gletanje i ličenje unutarnjih stropova od gipskartona, bijelom bojom za unutarnje radove. Stavkom je obuhvaćena i priprema i impregnacija podloge. RAL boja 9010. | C149: Doprema, postavljanje i skidanje montažne fasadne skele za vrijeme izvođenja zidarskih i fasaderskih radova. | D149: Doprema, postavljanje i skidanje montažne fasadne skele za vrijeme izvođenja zidarskih i fasaderskih radova. | E149: Doprema, postavljanje i skidanje montažne fasadne skele za vrijeme izvođenja zidarskih i fasaderskih radova. | F149: m2 | G149: 320 | I149: =G149*H149 -> 0
F151: 9. Soboslikarski i ličilački radovi | H151: UKUPNO: | I151: =SUM(I147:I149) -> 0
A154: 10. Gips - kartonski radovi
A156: R. Br. | B156: Opis stavke | F156: J.M. | G156: Količina | H156: Jedinična cijena | I156: Ukupno
A158: 10.1. | B158: Nabava, dobava i montiranje pregradnih zidova od gipskartonskih ploča za zid debljine 20,0 cm, sa ispunom od mineralne vune od 10,0 cm, do potpune gotovosti i spremnosti za gletanje i ličenje. U prostorima wc, kupaonice i sl., koristiti gipskarton otporan na vlagu. Zidovi se postavljaju sa duplim gipskartonskim pločama, na potkonstrukciju širine 15,0 cm. U stavku uračunata i potkonstrukcija. U cijenu uračunat sav rad i materijal. | F158: m² | G158: 128.2 | I158: =G158*H158 -> 0
A160: 10.2. | B160: Nabava, dobava i montiranje pregradnih zidova od gipskartonskih ploča za zid debljine 15,0 cm, sa ispunom od mineralne vune od 5,0 cm, do potpune gotovosti i spremnosti za gletanje i ličenje. U prostorima wc, kupaonice i sl., koristiti gipskarton otporan na vlagu. Zidovi se postavljaju sa duplim gipskartonskim pločama, na potkonstrukciju širine 5,0 cm. U stavku uračunata i potkonstrukcija. U cijenu uračunat sav rad i materijal. | F160: m² | G160: 126.5 | I160: =G160*H160 -> 0
A162: 10.3. | B162: Izrada obloge zida od gipskartonske ploče na pocinčanu podkonstrukciju i priprema do gletanja i ličenja, bez toplinske izolacije, do potpune gotovosti. U prostorima wc, kupaonice i sl., koristiti gipskarton otporan na vlagu. Zidovi se postavljaju sa duplim gipskartonskim pločama. U stavku uračunata i potkonstrukcija za montažu radijatora i klima uređaja na zid. U cijenu uračunat sav rad i materijal. | F162: m² | G162: 137.2 | I162: =G162*H162 -> 0
A164: 10.4. | B164: Izrada obloge stropa od gipskartonske ploče na pocinčanu podkonstrukciju i priprema do gletanja i ličenja, do potpune gotovosti. U strop se ne postavlja toplinska izolacija. U stavku uračunata i potkonstrukcija stropa. U cijenu uračunat sav rad i materijal. | F164: m² | G164: 320 | I164: =G164*H164 -> 0
F166: 10. Gips - kartonski radovi | H166: UKUPNO: | I166: =SUM(I158:I164) -> 0
A169: 11. Keramičarski radovi
A171: R. Br. | B171: Opis stavke | F171: J.M. | G171: Količina | H171: Jedinična cijena | I171: Ukupno
A173: 11.1. | B173: Nabava, dobava i popločavanje podova protukliznim keramičkim pločicama R10 i odgovarajućim keramičkim ljepilom. Pločice dimenzija 60*60 cm, I klasa. Po završetku polaganja, fuge se zapunjavaju masom za fugiranje. Stavka obuhvaća sav materijal i rad po potpune gotovosti stavke. | C173: Nabava, doprema i popločavanje podova protukliznim keramičkim pločicama i odgovarajućim keramičkim ljepilom. Boja i veličina keramičkih pločica, prema izboru projektamta ili Investitora.U stavci uračunato 15% otpada na urezivanje pločica. Po završetku polaganja, fuge se zapunjavaju masom za fugiranje. | D173: Nabava, doprema i popločavanje podova protukliznim keramičkim pločicama i odgovarajućim keramičkim ljepilom. Boja i veličina keramičkih pločica, prema izboru projektamta ili Investitora.U stavci uračunato 15% otpada na urezivanje pločica. Po završetku polaganja, fuge se zapunjavaju masom za fugiranje. | E173: Nabava, doprema i popločavanje podova protukliznim keramičkim pločicama i odgovarajućim keramičkim ljepilom. Boja i veličina keramičkih pločica, prema izboru projektamta ili Investitora.U stavci uračunato 15% otpada na urezivanje pločica. Po završetku polaganja, fuge se zapunjavaju masom za fugiranje. | F173: m2 | G173: 130 | I173: =G173*H173 -> 0
A175: 11.2. | B175: Nabava, dobava i popločavanje podova protukliznim keramičkim pločicama R10 i odgovarajućim keramičkim ljepilom - terasa. Pločice dimenzija 60*60 cm, I klasa.Po završetku polaganja, fuge se zapunjavaju masom za fugiranje. Stavka obuhvaća sav materijal i rad po potpune gotovosti stavke. | C175: Nabava, doprema i popločavanje podova protukliznim keramičkim pločicama i odgovarajućim keramičkim ljepilom. Boja i veličina keramičkih pločica, prema izboru projektamta ili Investitora.U stavci uračunato 15% otpada na urezivanje pločica. Po završetku polaganja, fuge se zapunjavaju masom za fugiranje. | D175: Nabava, doprema i popločavanje podova protukliznim keramičkim pločicama i odgovarajućim keramičkim ljepilom. Boja i veličina keramičkih pločica, prema izboru projektamta ili Investitora.U stavci uračunato 15% otpada na urezivanje pločica. Po završetku polaganja, fuge se zapunjavaju masom za fugiranje. | E175: Nabava, doprema i popločavanje podova protukliznim keramičkim pločicama i odgovarajućim keramičkim ljepilom. Boja i veličina keramičkih pločica, prema izboru projektamta ili Investitora.U stavci uračunato 15% otpada na urezivanje pločica. Po završetku polaganja, fuge se zapunjavaju masom za fugiranje. | F175: m2 | G175: 92 | I175: =G175*H175 -> 0
A177: 11.3. | B177: Nabava, dobava i oblaganje zidova sanitarnih čvorova keramičkim pločicama do 2,00 m visine i odgovarajućim keramičkim ljepilom. Pločice dimenzija 60*60 cm, I klasa. Po završetku polaganja, fuge se zapunjavaju masom za fugiranje. Stavka obuhvaća sav materijal i rad po potpune gotovosti stavke. | C177: Nabava, doprema i oblaganje zidova sanitarnih čvorova keramičkim pločicama do 2,00 cm visine i odgovarajućim keramičkim ljepilom.U stavci uračunato 15% otpada na urezivanje pločica Boja i veličina keramičkih pločica, prema izboru projektanta ili Investitora.Po završetku polaganja, fuge se zapunjavaju masom za fugiranje. | D177: Nabava, doprema i oblaganje zidova sanitarnih čvorova keramičkim pločicama do 2,00 cm visine i odgovarajućim keramičkim ljepilom.U stavci uračunato 15% otpada na urezivanje pločica Boja i veličina keramičkih pločica, prema izboru projektanta ili Investitora.Po završetku polaganja, fuge se zapunjavaju masom za fugiranje. | E177: Nabava, doprema i oblaganje zidova sanitarnih čvorova keramičkim pločicama do 2,00 cm visine i odgovarajućim keramičkim ljepilom.U stavci uračunato 15% otpada na urezivanje pločica Boja i veličina keramičkih pločica, prema izboru projektanta ili Investitora.Po završetku polaganja, fuge se zapunjavaju masom za fugiranje. | F177: m2 | G177: 79.52 | I177: =G177*H177 -> 0
A179: 11.4. | B179: Nabava, dobava i oblaganje zidnog sokla, visine 10,0 cm, keramičkim pločicama i odgovarajućim keramičkim ljepilom. Po završetku polaganja, fuge se zapunjavaju masom za fugiranje. | C179: Nabava, doprema i oblaganje zidnog sokla, visine 10 cm, keramičkim pločicama i odgovarajućim keramičkim ljepilom. Boja i veličina keramičkih pločica, prema izboru Investitora. Po završetku polaganja, fuge se zapunjavaju masom za fugiranje. | D179: Nabava, doprema i oblaganje zidnog sokla, visine 10 cm, keramičkim pločicama i odgovarajućim keramičkim ljepilom. Boja i veličina keramičkih pločica, prema izboru Investitora. Po završetku polaganja, fuge se zapunjavaju masom za fugiranje. | E179: Nabava, doprema i oblaganje zidnog sokla, visine 10 cm, keramičkim pločicama i odgovarajućim keramičkim ljepilom. Boja i veličina keramičkih pločica, prema izboru Investitora. Po završetku polaganja, fuge se zapunjavaju masom za fugiranje. | F179: m' | G179: 225.5 | I179: =G179*H179 -> 0
F181: 11. Keramičarski radovi | H181: UKUPNO: | I181: =SUM(I173:I179) -> 0
A184: 12. Prozori i vrata
A186: R. Br. | B186: Opis stavke | F186: J.M. | G186: Količina | H186: Jedinična cijena | I186: Ukupno
A188: 12.1. | B188: Izrada, dobava i montaža do potpune gotovosti ulaznih PVC u sistemu profila sa termo ispunom: profili s prekinutim toplinskim mostom dubine okvira 80 mm (5 mm +/-). Vrata opremljena protupanik kvakama, protupanik bravama, pritisnom pločoma. Ostakljenje “IZO” staklom 4+12+4+12+4=36 mm, međuprostor ispunjen plinom. U cijenu su uključeni i svi potrebni rubni opšavi iz aluminijskog plastificiranog lima u RAL-u prozora, te termoizolacija i hidroizolacija na spoju sa zidom. RAL boja tamno smeđa u boji postojećih prozora na zgradi. Stavkom obuhvatiti potkonstrukciju ugradnje prozora u zidni panel, komplet s opšavom, ispunjeno IZO staklom, rastera polja širine 178/220+59 cm. Detaljna izmjera na gradilištu. Izvođač je dužan prije izrade stolarije izraditi shemu stolarije te za istu zatražiti odobrenje i ovjeru nadzornog inženjera prije početka izvođenja. POZ 1 | F188: kom | G188: 1 | I188: =G188*H188 -> 0
A190: 12.2. | B190: Izrada, dobava i montaža do potpune gotovosti PVC balkonskih vrata u sistemu profila sa termo ispunom: profili s prekinutim toplinskim mostom dubine okvira 80 mm (5 mm +/-). RAL boja tamno smeđa u boji postojećih prozora na zgradi. Ostakljenje “IZO” staklom 4+12+4+12+4=36 mm, međuprostor ispunjen plinom. Balkonska vrata se ugrađuju na spoju sa zidom po sistemu RAL montaže. U cijenu su uključeni i svi potrebni rubni opšavi iz aluminijskog plastificiranog lima u RAL-u aluminijskih balkonskih vrata, te termoizolacija i hidroizolacija na spoju sa zidom. Stavkom obuhvatiti potkonstrukciju ugradnje u zidni panel, komplet s opšavom. Stavkom je potrebno urediti špalete. Obračun po komadu. Uw prozora, min 1,4.Rastera polja širine 90/210 cm. Uw min 1,4. Izvođač je dužan prije izrade stolarije izraditi shemu stolarije te za istu zatražiti odobrenje i ovjeru nadzornog inženjera prije početka izvođenja. POZ 2 | F190: kom | G190: 4 | I190: =G190*H190 -> 0
A192: 12.3. | B192: Izrada, dobava i montaža do potpune gotovosti PVC balkonskih vrata u sistemu profila sa termo ispunom: profili s prekinutim toplinskim mostom dubine okvira 80 mm (5 mm +/-). RAL boja tamno smeđa u boji postojećih prozora na zgradi. Ostakljenje “IZO” staklom 4+12+4+12+4=36 mm, međuprostor ispunjen plinom. Balkonska vrata se ugrađuju na spoju sa zidom po sistemu RAL montaže. U cijenu su uključeni i svi potrebni rubni opšavi iz aluminijskog plastificiranog lima u RAL-u aluminijskih balkonskih vrata, te termoizolacija i hidroizolacija na spoju sa zidom. Stavkom obuhvatiti potkonstrukciju ugradnje u zidni panel, komplet s opšavom. Stavkom je potrebno urediti špalete. Obračun po komadu. Uw prozora, min 1,4. Rastera polja širine 160/210 cm. Uw min 1,4. Izvođač je dužan prije izrade stolarije izraditi shemu stolarije te za istu zatražiti odobrenje i ovjeru nadzornog inženjera prije početka izvođenja. POZ 3 | F192: kom | G192: 2 | I192: =G192*H192 -> 0
A194: 12.4. | B194: Izrada, dobava i montaža do potpune gotovosti PVC balkonskih vrata u sistemu profila sa termo ispunom: profili s prekinutim toplinskim mostom dubine okvira 80 mm (5 mm +/-). RAL boja tamno smeđa u boji postojećih prozora na zgradi. Ostakljenje “IZO” staklom 4+12+4+12+4=36 mm, međuprostor ispunjen plinom. Balkonska vrata se ugrađuju na spoju sa zidom po sistemu RAL montaže. U cijenu su uključeni i svi potrebni rubni opšavi iz aluminijskog plastificiranog lima u RAL-u aluminijskih balkonskih vrata, te termoizolacija i hidroizolacija na spoju sa zidom. Stavkom obuhvatiti potkonstrukciju ugradnje u zidni panel, komplet s opšavom. Stavkom je potrebno urediti špalete. Obračun po komadu. Uw prozora, min 1,4.Rastera polja širine 180/210 cm. Uw min 1,4. Izvođač je dužan prije izrade stolarije izraditi shemu stolarije te za istu zatražiti odobrenje i ovjeru nadzornog inženjera prije početka izvođenja. POZ 4 | F194: kom | G194: 1 | I194: =G194*H194 -> 0
A196: 12.5. | B196: Izrada, dobava i montaža do potpune gotovosti PVC prozora u sistemu profila sa termo ispunom: profili s prekinutim toplinskim mostom dubine okvira 80 mm (5 mm +/-). RAL boja tamno smeđa u boji postojećih prozora na zgradi. Ostakljenje “IZO” staklom 4+12+4+12+4=36 mm, međuprostor ispunjen plinom. Prozor se ugrađuje na spoju sa zidom po sistemu RAL montaže. U cijenu su uključeni i svi potrebni rubni opšavi iz aluminijskog plastificiranog lima u RAL-u aluminijskih balkonskih vrata, te termoizolacija i hidroizolacija na spoju sa zidom. Stavkom obuhvatiti potkonstrukciju ugradnje u zidni panel, komplet s opšavom. Stavkom je potrebno urediti špalete unutrašnje i vanjske. U cijenu stavke uključiti i vanjsku prozorsku klupčicu od aluminijskog lima min d=15 cm i unutrašnju prozorsku klupčicu min d=15 cm od PVC-a. Obračun po komadu. Uw prozora, min 1,4. Rastera polja širine 100/90 cm. Izvođač je dužan prije izrade stolarije izraditi shemu stolarije te za istu zatražiti odobrenje i ovjeru nadzornog inženjera prije početka izvođenja. POZ 5 | F196: kom | G196: 2 | I196: =G196*H196 -> 0
A198: 12.6. | B198: Izrada, dobava i montaža do potpune gotovosti PVC prozora u sistemu profila sa termo ispunom: profili s prekinutim toplinskim mostom dubine okvira 80 mm (5 mm +/-). RAL boja tamno smeđa u boji postojećih prozora na zgradi. Ostakljenje “IZO” staklom 4+12+4+12+4=36 mm, međuprostor ispunjen plinom. Prozor se ugrađuje na spoju sa zidom po sistemu RAL montaže. U cijenu su uključeni i svi potrebni rubni opšavi iz aluminijskog plastificiranog lima u RAL-u aluminijskih balkonskih vrata, te termoizolacija i hidroizolacija na spoju sa zidom. Stavkom obuhvatiti potkonstrukciju ugradnje u zidni panel, komplet s opšavom. Stavkom je potrebno urediti špalete unutrašnje i vanjske. U cijenu stavke uključiti i vanjsku prozorsku klupčicu od aluminijskog lima min d=15 cm i unutrašnju prozorsku klupčicu min d=15 cm od PVC-a. Obračun po komadu. Uw prozora, min 1,4.Rastera polja širine 60/60 cm. Uw min 1,4. Izvođač je dužan prije izrade stolarije izraditi shemu stolarije te za istu zatražiti odobrenje i ovjeru nadzornog inženjera prije početka izvođenja. POZ 6 | F198: kom | G198: 2 | I198: =G198*H198 -> 0
A200: 12.7. | B200: Izrada, dobava i montaža do potpune gotovosti PVC u sistemu profila sa termo ispunom: profili s prekinutim toplinskim mostom dubine okvira 80 mm (5 mm +/-). Vrata opremljena protupanik kvakama, protupanik bravama, pritisnom pločoma. Ostakljenje “IZO” staklom 4+12+4+12+4=36 mm, međuprostor ispunjen plinom. RAL boja tamno smeđa u boji postojećih prozora na zgradi. U cijenu su uključeni i svi potrebni rubni opšavi iz aluminijskog plastificiranog lima u RAL-u aluminijskih prozora. Izvođač je dužan prije izrade stolarije izraditi shemu stolarije te za istu zatražiti odobrenje i ovjeru nadzornog inženjera prije početka izvođenja. Uw prozora, min 1,4. Raster polja širine 100/280 cm, s nadsvijetlom. Površina ostaklenja do 30 %. POZ 1a | F200: kom | G200: 1 | I200: =G200*H200 -> 0
F202: 12. Prozori i vrata | H202: UKUPNO: | I202: =SUM(I188:I200) -> 0
A205: 13. Stolarski radovi
A207: R. Br. | B207: Opis stavke | F207: J.M. | G207: Količina | H207: Jedinična cijena | I207: Ukupno
A209: 13.1. | B209: Izrada, doprema i montaža jednokrilnih, zaokretnih, unutarnjih, furniranih vrata s drvenim dovratnikom. Stolarska veličina kompletnih vrata 90/198,5 cm. Vratno krilo opremljeno kromiranom kvakom i štitnicima, usadnom bravom i komplet okovom. RAL boja bijela. Svjetla dimenzija 100/198,5. Izvođač je dužan prije izrade stolarije izraditi shemu stolarije te za istu zatražiti odobrenje i ovjeru nadzornog inženjera prije početka izvođenja. | C209: Doprema, postavljanje i skidanje montažne fasadne skele za vrijeme izvođenja zidarskih i fasaderskih radova. | D209: Doprema, postavljanje i skidanje montažne fasadne skele za vrijeme izvođenja zidarskih i fasaderskih radova. | E209: Doprema, postavljanje i skidanje montažne fasadne skele za vrijeme izvođenja zidarskih i fasaderskih radova. | F209: kom | G209: =3 -> 3 | I209: =G209*H209 -> 0
A211: 13.2. | B211: Izrada, doprema i montaža jednokrilnih, zaokretnih, unutarnjih, furniranih vrata s drvenim dovratnikom. Stolarska veličina kompletnih vrata 90/198,5 cm. Vratno krilo opremljeno kromiranom kvakom i štitnicima, usadnom bravom i komplet okovom. RAL boja bijela. Svjetla dimenzija 90/198,5. Izvođač je dužan prije izrade stolarije izraditi shemu stolarije te za istu zatražiti odobrenje i ovjeru nadzornog inženjera prije početka izvođenja. | C211: Doprema, postavljanje i skidanje montažne fasadne skele za vrijeme izvođenja zidarskih i fasaderskih radova. | D211: Doprema, postavljanje i skidanje montažne fasadne skele za vrijeme izvođenja zidarskih i fasaderskih radova. | E211: Doprema, postavljanje i skidanje montažne fasadne skele za vrijeme izvođenja zidarskih i fasaderskih radova. | F211: kom | G211: =9 -> 9 | I211: =G211*H211 -> 0
...

Sheet Vanjsko stubište
A1: VANJSKO STUBIŠTE
A3: NAPOMENA: Ove stavke troškovnika su sastavni dio općih uvjeta
A5: Kako se velika većina radova izvodi na katu, u stavke je potrebno uračunati i cijenu transporta i premještanja materijala i alata na istu, a sve u cilju zaštite radnika i trećih osoba.
A8: 1. Zemljani radovi
A10: R. Br. | B10: Opis stavke | F10: J.M. | G10: Količina | H10: Jedinična cijena | I10: Ukupno
A12: 1.1. | B12: Kombinirani strojno-ručni iskop tla za temelje stubišta, dimenzija prema projektu, do projektirane kote iskopa. TEMELJI STUBIŠTA. | C12: Kombinirani strojno-ručni iskop zemljišta za trakaste temelje do projektirane kote iskopa, utovar iskopane zemlje u kamion, prijevoz i privremeno odlaganje na lokaciji gradilišta. | D12: Kombinirani strojno-ručni iskop zemljišta za trakaste temelje do projektirane kote iskopa, utovar iskopane zemlje u kamion, prijevoz i privremeno odlaganje na lokaciji gradilišta. | E12: Kombinirani strojno-ručni iskop zemljišta za trakaste temelje do projektirane kote iskopa, utovar iskopane zemlje u kamion, prijevoz i privremeno odlaganje na lokaciji gradilišta. | F12: m3 | G12: 6.4 | I12: =G12*H12 -> 0
F14: 1. Zemljani radovi | H14: UKUPNO: | I14: =SUM(I6:I12) -> 0
A16: 2. Tesarski radovi
A18: R. Br. | B18: Opis stavke | F18: J.M. | G18: Količina | H18: Jedinična cijena | I18: Ukupno
A20: 2.1. | B20: Nabava, dobava, izrada, postavljanje i skidanje glatke daščane oplate za temelje, sa svim potrebnim ukrutama i razuporama. TEMELJI | C20: Doprema, izrada, postavljanje i skidanje jednostrane glatke daščane oplate za podnu ploču, visine 16 cm, sa svim potrebnim ukrutama i razuporama. | D20: Doprema, izrada, postavljanje i skidanje jednostrane glatke daščane oplate za podnu ploču, visine 16 cm, sa svim potrebnim ukrutama i razuporama. | E20: Doprema, izrada, postavljanje i skidanje jednostrane glatke daščane oplate za podnu ploču, visine 16 cm, sa svim potrebnim ukrutama i razuporama. | F20: m2 | G20: 6.98 | I20: =G20*H20 -> 0
F22: 2. Tesarski radovi | H22: UKUPNO: | I22: =SUM(I20:I20) -> 0
A25: 3. Betonski radovi
A27: R. Br. | B27: Opis stavke | F27: J.M. | G27: Količina | H27: Jedinična cijena | I27: Ukupno
A29: 3.1. | B29: Nabava, dobava i ugradnja betona C25/30 u trakaste temelje, širine 40,0 cm i visine cca. 90,0 cm. Stavkom je obuhvaćena doprema betona iz tvornice betona, ugradba i njega betona nakon ugradbe. TRAKASTI TEMELJI. | C29: Betoniranje trakastih temelja C25/30 visine do 90 cm. Stavkom je obuhvaćena doprema betona iz tvornice betona, ugradba i njega betona nakon ugradbe. | D29: Betoniranje trakastih temelja C25/30 visine do 90 cm. Stavkom je obuhvaćena doprema betona iz tvornice betona, ugradba i njega betona nakon ugradbe. | E29: Betoniranje trakastih temelja C25/30 visine do 90 cm. Stavkom je obuhvaćena doprema betona iz tvornice betona, ugradba i njega betona nakon ugradbe. | F29: m3 | G29: 5.94 | I29: =G29*H29 -> 0
F31: 3. Betonski radovi | H31: UKUPNO: | I31: =SUM(I29:I29) -> 0
A34: 4. Armirački radovi
A36: R. Br. | B36: Opis stavke | F36: J.M. | G36: Količina | H36: Jedinična cijena | I36: Ukupno
A38: 4.1. | B38: Nabava, dobava, sječenje, savijanje, ugradnja i postavljanje rebraste armature svih profila za temelje. Armatura B500B. | C38: Nabava, doprema, sječenje, savijanje, ugradnja i postavljanje rebraste armature svih profila trakastih temelja, nadtemeljnih zidova, vertikalnih,horizontalnih serklaža,greda i ukrutnih greda stropa. | D38: Nabava, doprema, sječenje, savijanje, ugradnja i postavljanje rebraste armature svih profila trakastih temelja, nadtemeljnih zidova, vertikalnih,horizontalnih serklaža,greda i ukrutnih greda stropa. | E38: Nabava, doprema, sječenje, savijanje, ugradnja i postavljanje rebraste armature svih profila trakastih temelja, nadtemeljnih zidova, vertikalnih,horizontalnih serklaža,greda i ukrutnih greda stropa. | F38: kg | G38: 950 | I38: =G38*H38 -> 0
F40: 4. Armirački radovi | H40: UKUPNO: | I40: =SUM(I38:I38) -> 0
A46: 5. Bravarski radovi
A48: R. Br. | B48: Opis stavke | F48: J.M. | G48: Količina | H48: Jedinična cijena | I48: Ukupno
A50: 5.1. | B50: Nabava, dobava i ugradnja svog potrebnog materijala, kao i izrada čelične nosive konstrukcije prema Glavnom projektu konstrukcije. U cijenu stavke uračunati sva spojna sredstva, podne ploče, papuče, zavare, vijke te ostali potrebani materijal, alat i rad, do izrade konstrukcije do potpune gotovosti. Izvođač je dužan izraditi radionički nacrt te za isti zatražiti odobrenje i ovjeru nadzornog inženjera prije početka izvođenja radova. | C50: Doprema, istovar i ugradnja svog potrebnog materijala, spravljanje vapneno-cementnog morta i zidanje nosivih zidova glinenom blok opekom d=25 cm. | D50: Doprema, istovar i ugradnja svog potrebnog materijala, spravljanje vapneno-cementnog morta i zidanje nosivih zidova glinenom blok opekom d=25 cm. | E50: Doprema, istovar i ugradnja svog potrebnog materijala, spravljanje vapneno-cementnog morta i zidanje nosivih zidova glinenom blok opekom d=25 cm. | F50: kg | G50: 1350 | I50: =G50*H50 -> 0
F52: 5. Bravarski radovi | H52: UKUPNO: | I52: =SUM(I50:I50) -> 0
A54: 6. Ostali radovi
A56: R. Br. | B56: Opis stavke | F56: J.M. | G56: Količina | H56: Jedinična cijena | I56: Ukupno
A58: 6.1. | B58: Nabava, dobava i ugradnja svog potrebnog materijala, kao i izrada čelične konstrukcije ograde s rukohvatom. Ukupna visina ograde je 1,1 m s vertikalnim ispunama na razmaku od 14,0 cm, profila 50*50 mm i ispune 25*25 mm. U cijenu stavke uračunati sva spojna sredstva, podne ploče, papuče, zavare, vijke te ostali potrebani materijal, alat i rad, do izrade konstrukcije do potpune gotovosti. Izvođač je dužan izraditi radionički nacrt te za isti zatražiti odobrenje i ovjeru nadzornog inženjera prije početka izvođenja radova. | C58: Doprema, istovar i ugradnja svog potrebnog materijala, spravljanje vapneno-cementnog morta i zidanje nosivih zidova glinenom blok opekom d=25 cm. | D58: Doprema, istovar i ugradnja svog potrebnog materijala, spravljanje vapneno-cementnog morta i zidanje nosivih zidova glinenom blok opekom d=25 cm. | E58: Doprema, istovar i ugradnja svog potrebnog materijala, spravljanje vapneno-cementnog morta i zidanje nosivih zidova glinenom blok opekom d=25 cm. | F58: m' | G58: 25 | I58: =G58*H58 -> 0
A60: 6.2. | B60: Nabava, dobava i ugradnja protukliznog gazišta, rešetkaste stepenice izrađene iz vruće pocinčanog materijala d=30/3 mm, otvori 33x33 mm, nosiva traka 30/2 mm, poprečna traka 8/2 mm. Gazište dimenzija 25*100 cm). Broj gazišta 35 komada. U cijenu uračunati sav rad i sredstva za rad. | C60: Doprema, postavljanje i skidanje montažne fasadne skele za vrijeme izvođenja zidarskih i fasaderskih radova. | D60: Doprema, postavljanje i skidanje montažne fasadne skele za vrijeme izvođenja zidarskih i fasaderskih radova. | E60: Doprema, postavljanje i skidanje montažne fasadne skele za vrijeme izvođenja zidarskih i fasaderskih radova. | F60: kpl | G60: 1 | I60: =G60*H60 -> 0
F62: 6. Ostali radovi | H62: UKUPNO: | I62: =SUM(I58:I60) -> 0
A82: REKAPITULACIJA
A84: 1. Zemljani radovi | I84: =I14 -> 0
A85: 2. Tesarski radovi | I85: =I22 -> 0
A86: 3. Betonski radovi | I86: =I31 -> 0
A87: 4. Armirački radovi | I87: =I40 -> 0
A88: 5. Bravarski radovi | I88: =I52 -> 0
A89: 6. Ostali radovi | I89: =I62 -> 0
H91: UKUPNO: | I91: =SUM(I84:I89) -> 0

Sheet Vodovod i kanalizacija
A1: VODOVOD I KANALIZACIJA
A3: NAPOMENA: Ove stavke troškovnika su sastavni dio općih uvjeta
A5: Kako se velika većina radova izvodi na katu, u stavke je potrebno uračunati i cijenu transporta i premještanja materijala i alata na istu, a sve u cilju zaštite radnika i trećih osoba.
A7: 1. Montažni radovi
A9: R. Br. | B9: Opis stavke | F9: J.M. | G9: Količina | H9: Jedinična cijena | I9: Ukupno
A11: 1.1. | B11: Nabava, dobava i ugradnja PP-R cijevi sa svim potrebnim fazonskim i spojnim elementima i brtvenim materijalom te izrada instalacije u građevini za radni tlak do 10 bara - hladna voda. U mjernu jedinicu stavke je potrebno uračunati i sve fazonske komade, koljena, spojeve i ostale dijelove koji nastaju spajanjem cijevi, kao i sam rad na spajanju dijelova cijevovoda do potpune gotovosti istog. Stavkom obuhvatiti i spoj na postojeću instalaicju vode. Dani su unutarnji promjeri cijevi.
B12: - PP-R cijevi fi 15 mm | F12: m' | G12: 24.6 | I12: =G12*H12 -> 0
B13: - PP-R cijevi fi 20 mm | F13: m' | G13: 20 | I13: =G13*H13 -> 0
A15: 1.2. | B15: Nabava, dobava i ugradnja PP-R cijevi sa svim potrebnim fazonskim i spojnim elementima i brtvenim materijalom te izrada instalacije u građevini za radni tlak do 10 bara - topla voda. U mjernu jedinicu stavke je potrebno uračunati i sve fazonske komade, koljena, spojeve i ostale dijelove koji nastaju spajanjem cijevi, kao i sam rad na spajanju dijelova cijevovoda do potpune gotovosti istog. Stavkom obuhvatiti i spoj na postojeću instalaicju vode. Dani su unutarnji promjeri cijevi.
B16: - PP-R cijevi fi 15 mm | F16: m' | G16: 24.6 | I16: =G16*H16 -> 0
B17: - PP-R cijevi fi 20 mm | F17: m' | G17: 20 | I17: =G17*H17 -> 0
A19: 1.3. | B19: Nabava, doprema i montaža podžbuknog ventila sa metalnom kromiranom kapom i metalnom kromiranom rozetom. U stavku je potrebno uračunati sav materijal i rad do gotovosti stavke.
B20: - nabava i ugradnja PP-R cijevi fi 15 mm | F20: kom | G20: 8 | I20: =G20*H20 -> 0
B21: - nabava i ugradnja PP-R cijevi fi 20 mm | F21: kom | G21: 8 | I21: =G21*H21 -> 0
A23: 1.4. | B23: Tlačna proba izvedene vodovodne instalacije sa osiguranjem potrebne količine vode za punjenje cjevovoda. Kontrola s radnim i kontrolnim manometrom, te ispuštanje vode po završenoj probi. Obuhvaćeno ispitivanje vanjske i unutarnje vodovodne mreže te izrada zapisnika o tlačnoj probi. Rezultate ispitivanja evidentirati kroz građevinski dnevnik. | F23: kom | G23: 2 | I23: =G23*H23 -> 0
A25: 1.5. | B25: Nabava, doprema na gradilište i montaža zidnih protupožarnih hidranata komplet s pripadajućom opremom: - tlačna cijev Ø 25 dužine 15 m sa spojnicama - kutni ventil Ms 2" sa stabilnom spojnicom (Al) Ø 25 mm - mlaznica Ø 25 mm Al sa zasunom - okretni nastavak Ms2" Obračun po kompletno ugrađenom hidrantu i ormarićem. | F25: kom | G25: 1 | I25: =G25*H25 -> 0
A27: 1.6. | B27: Nabava, doprema na gradilište i montaža vatrogasnih aparata. Obračun po kompletno ugrađenom aparatu. Tip S-6. | F27: kom | G27: 3 | I27: =G27*H27 -> 0
A29: 1.7. | B29: Ispiranje i dezinficiranje cjevovoda te pribavljanje sve atestne dokumentacije o ispitivanju vode. Vodu je potrebnu uzeti na 5 izljevnih mjesta, od strane nadležne ustanove, s ciljem dobivanja isprave o kvaliteti vode za piće. U stavku je uključena dezinfekcija i ispiranje cjevovoda do potpune ispravnosti vode prema ispitivanju i atestna dokumentacija. Rezultate ispitivanja evidentirati kroz građevinski dnevnik. | F29: kpl | G29: 1 | I29: =G29*H29 -> 0
F31: Instalacija vodovoda - 1. Montažni radovi | H31: UKUPNO: | I31: =SUM(I11:I29) -> 0
A34: 2. Sanitarna oprema
A36: R. Br. | B36: Opis stavke | F36: J.M. | G36: Količina | H36: Jedinična cijena | I36: Ukupno
A38: 2.1. | B38: Nabava, dobava i ugradnja kompletnog umivaonika. Komplet se sastoji od keramičkog umivaonika sa sifonom s ispustom d32 mm te ručne mješalice. Dimnezije umivaonika 50*42 cm, otvor dimnezija 47*27.5 cm, s odmakom od zida od 6,0 cm (mogućnost odstupanja svih dimenzija +/- 5 cm od zadanih vrijednosti). Montaža umivaonika na zid. Oblik pravokutni, boja bijela. Na umivaoniku s gornje strane otvor za mješalicu. Sav materijal s montažno instalacijskim elementima za umivaonik visine ugradnje 112 cm. Instalacijski element samonosiv za ugradnju u suhomontažnu zidnu ili predzidnu konstrukciju obloženu gipskartonskim pločama/žbukano, komplet s odvodnim koljenom d50 mm (sifon sive boje) i sifonskom brtvom 44/32 mm, pločom s armaturnim priključcima ½" s uključenom zvučnom izolacijom, vijcima za učvršćenje keramike i svim potrebnim pričvrsnim priborom i spojnim materijalom; Mješalica za umivaonik krom/sive boje, izljevna visina 6,7 cm ,ugradnja stojeća, izljevna dužina 10,7 cm, visina 13,8 cm, dubina 10,0 cm. Obračun po kompletno ugrađenoj i ispitanoj opremi, sa svim potrebnim materijalom i radom, u punoj funkcionalnosti. | F38: kom | G38: 2 | I38: =G38*H38 -> 0
A40: 2.2. | B40: Nabava, dobava i ugradnja štednih vodokotlića s wc školjkom. Komplet se sastoji od: -konzolne keramičke WC školjke I klase, za 6+3l ispiranje, odignute od poda 6 cm, - daska s poklopcem bijele boje od kvalitetne plastike, - zidnog nosača od inoxa s WC četkom, - zidnog držača toalet papira od inoxa. Sav materijal s montažno instalacijskim elementima za WC školjku visine ugradnje 112 cm s niskošumnim ugradbenim vodokotlićem za 6/3l ispiranje. Instalacijski element je samonosiv za ugradnju u suhomontažnu zidnu ili predzidnu konstrukciju obloženu gipskartonskim pločama/žbukano, komplet s integriranim kutnim ventilom priključka vode ½", niskošumnim uljevnim ventilom, odvodnim koljenom d90/110 mm sa zvučno izoliranom ubujmicom, spojnim komadom za WC školjku s brtvenim manžetama i setom zvučne izolacije, vijcima za učvršćenje keramike i svim potrebnim priborom za ugradnju prema uputama proizvođača i odgovarajuća tipka za dvokoličinsko ispiranje. Kotlić se oblaže keramikom. Mogućnost odstupanja svih dimenzija +/- 5 cm od zadanih vrijednosti. Obračun po kompletno ugrađenoj i ispitanoj opremi, sa svim potrebnim materijalom i radom, u punoj funkcionalnosti. | F40: kom | G40: 2 | I40: =G40*H40 -> 0
A42: 2.3. | B42: Nabava, dobava i ugradnja mješalice vode sa sudoperom, aktiviranje s prednje strane na pokret ruku, s mogućnošću promjene duljine toka vode, komplet s priključnim ventilom za vodu od 1/2", Mješalica za sudoper krom/sive boje, izljevna visina 6,7 cm ,ugradnja stojeća, izljevna dužina 10,7 cm, visina 13,8 cm, dubina 10,0 cm. Komplet čini i sudoper. Obračun po kompletno ugrađenoj i ispitanoj opremi, sa svim potrebnim materijalom i radom, u punoj funkcionalnosti. | F42: kom | G42: 1 | I42: =G42*H42 -> 0
F44: Instalacija vodovoda - 2. Sanitarna oprema | H44: UKUPNO: | I44: =SUM(I38:I42) -> 0
A47: INSTALACIJA KANALIZACIJE
A49: 3. Montažni radovi
A51: R. Br. | B51: Opis stavke | F51: J.M. | G51: Količina | H51: Jedinična cijena | I51: Ukupno
A53: 4.1. | B53: Nabava, dobava i ugradnja PVC kanalizacijskih cijevi s naglavnim spojevima i svim potrebnim fazonskim komadima koji nisu posebno specificirani, spojnim i brtvenim materijalom, materijalom za pričvršćenje i zavješenje, svi radovi i radna skela ukoliko je potrebna. Stavkom obuhvatiti i spoj na postojeću instalaicju vode. Stavka uključuje i izrada šliceva u zidovima i podovima, te popravke istih nakon ugradnje cijevi.
B54: - PVC DN 50 | F54: m' | G54: 5 | I54: =G54*H54 -> 0
B55: - PVC DN 70 | F55: m' | G55: 7.8 | I55: =G55*H55 -> 0
B56: - PVC DN 110 | F56: m' | G56: 9 | I56: =G56*H56 -> 0
B57: - revizijski komad fi 110 | F57: kom | G57: 3 | I57: =G57*H57 -> 0
A59: 4.2. | B59: Nabava, doprema na gradilište i ugradnja ventilacijskih kapa od PVC-a na završecima kanala vertikala (0,5 m od krova). U cijenu uključiti vrijednosti svih radova i materijal. | F59: kom | G59: 1 | I59: =G59*H59 -> 0
A61: 4.3. | B61: Nabava, doprema na gradilište i ugradnja kromiranih vratašaca 30x30 cm za reviziju kanalizacije unutar objekta. U cijenu uključiti vrijednost svih radova, materijala, do potpune gotovosti. | F61: kom | G61: 3 | I61: =G61*H61 -> 0
A65: 4.4. | B65: Ispitivanje vertikalne i horizontalne kanalizacije na protočnost i nepropusnost, te ispiranje kanalizacije. Rezultate ispitivanja evidentirati kroz građevinski dnevnik. | F65: kpl | G65: 1 | I65: =G65*H65 -> 0
F67: Instalacija kanalizacije - 4. Montažni radovi | H67: UKUPNO: | I67: =SUM(I53:I65) -> 0
A72: REKAPITULACIJA
A74: INSTALACIJA VODOVODA
A76: 1. Montažni radovi | I76: =I31 -> 0
A77: 2. Sanitarna oprema | I77: =I44 -> 0
A79: INSTALACIJA KANALIZACIJE
A81: 3. Montažni radovi | I81: =I67 -> 0
H83: UKUPNO: | I83: =SUM(I76:I81) -> 0

Sheet Elektroinstalacije
A2: ELEKTROTEHNIČKI RADOVI
A4: NAPOMENA: Ove stavke troškovnika su sastavni dio općih uvjeta
A6: Kako se velika većina radova izvodi na katu, u stavke je potrebno uračunati i cijenu transporta i premještanja materijala i alata na istu, a sve u cilju zaštite radnika i trećih osoba.
A7: Sav demontirani materijal kojeg korisnik prostora odluči zadržati pažljivo deponirati na gradilištu, a materijal koji se ne zadržava zbrinuti na pripadajučoj javnoj deponiji.
A9: redni | B9: opis opreme | C9: jed. | E9: jed. | F9: ukupna
A10: broj | B10: i radova | C10: mjera | D10: količina | E10: cijena | F10: cijena
B12: Građevina: Rekonstrukcija (nadogradnja i pruređenje prostora) doma za starije i nemoćne osobe
B13: Investitor: Dom za starije i nemoćne osobe Beli Manastir, OIB: 34580944535,
B14: Lokacija: Bana Jelačića 108, 31300 Beli Manastir, k.č.br. 2807/1, k.o. Beli Manastir
B16: NAPOMENA: Cijena za svaku točku ovog troškovnika mora obuhvatiti dobavu, montažu, spajanje, te dovođenje stavke u stanje potpune funkcionalnosti. U cijenu treba ukalkulirati sav spojni, montažni, pridržni i ostali materijal potreban za potpuno funkcioniranje pojedine stavke. Prilikom izrada ponude treba imati u vidu najnovije važeće propise za pojedine vrste instalacije. Izvođač je dužan prijenos, ugradnju i montažu opreme, kao i svu građevinsku pomoć izvesti o svom trošku, te sve radove nuditi u jediničnim cijenama predmetnog troškovnika. Svi razdjelnici trebaju biti sastavljeni, ispitani i isporučeni s natpisnom pločicom. Za potrebe priključenja uključiti radove spajanja na najbliži postojeći, razvodni ormar objekta.
A17: 1. | B17: NISKONAPONSKI PRIKLJUČAK I RAZVOD ELEKTRIČNE ENERGIJE
A19: 1. | B19: Napajanje razvodnog ormara oznake 'Rp' izvesti kabelom NYY-J 5x6 mm2 iz postojećeg ormara GRO. Izvršiti rekonstrukciju postojećeg ormara te ugraditi odlazni osigurač C20/3 A.
A20: 1.1. | B20: NYY-J 5x6 mm2 | C20: m | D20: 50 | E20: 0 | F20: =D20*E20 -> 0
A21: 1.2. | B21: CSS Φ 40 mm | C21: m | D21: 60 | E21: 0 | F21: =D21*E21 -> 0
A22: 1.3. | B22: automatski zaštitni prekidač C20/3 A | C22: kom | D22: 1 | E22: 0 | F22: =D22*E22 -> 0
A24: 2. | B24: Napajanje razvodnog ormara 'Rk' izvesti kabelom NYY-J 5x10 mm2 iz postojećeg ormara GRO. U ormar ugraditi odlazni osigurač C32/3 A.
A25: 2.1. | B25: NYY-J 5x10 mm2 | C25: m | D25: 50 | E25: 0 | F25: =D25*E25 -> 0
A26: 2.2. | B26: CSS Φ50 mm | C26: m | D26: 60 | E26: 0 | F26: =D26*E26 -> 0
A27: 2.3. | B27: automatski zaštitni prekidač C32/3 A | C27: kom | D27: 1 | E27: 0 | F27: =D27*E27 -> 0
A29: 3. | B29: Dobava, montaža, ugradnja u zid i spajanje zidnog plastičnog, razdjelnog ormara prizemlja 'Rp' s neprozirnim vratima, 3 reda x 18 modula, komplet sa svim potrebnim montažnim i spojnim priborom.
A30: 3.1. | B30: Rastavna sklopka 4P, 32 A, prekidna moć 15 kA | C30: kom | D30: 1 | E30: 0 | F30: =D30*E30 -> 0
A31: 3.2. | B31: RCD strujna zaštitna sklopka 40 A / 30 mA / 4P | C31: kom | D31: 1 | E31: 0 | F31: =D31*E31 -> 0
A32: 3.3. | B32: RCD strujna zaštitna sklopka 25 A / 30 mA / 4P | C32: kom | D32: 1 | E32: 0 | F32: =D32*E32 -> 0
A33: 3.4. | B33: Katodni odvodnik prenapona 3P+N, sa signalizacijom stanja, 15kA/20kA, tip 2 | C33: kom | D33: 1 | E33: 0 | F33: =D33*E33 -> 0
A34: 3.5. | B34: automatski zaštitni prekidači:
A35: 3.5.1. | B35: C16 A, prekidna moć 10 kA, 1P | C35: kom | D35: 10 | E35: 0 | F35: =D35*E35 -> 0
A36: 3.5.2. | B36: C10 A, prekidna moć 10 kA, 1P | C36: kom | D36: 5 | E36: 0 | F36: =D36*E36 -> 0
A37: 3.5.3. | B37: C6 A, prekidna moć 10 kA, 1P | C37: kom | D37: 2 | E37: 0 | F37: =D37*E37 -> 0
A38: 3.6. | B38: Impulsni relej 16A, 230 V | C38: kom | D38: 1 | E38: 0 | F38: =D38*E38 -> 0
A39: 3.7. | B39: Naponski okidač za rastavnu sklopku 220-240V 50/60Hz | C39: kom | D39: 1 | E39: 0 | F39: =D39*E39 -> 0
A40: 3.8. | B40: zidni razdjeli ormar Rp | C40: kom | D40: 1 | E40: 0 | F40: =D40*E40 -> 0
B42: Napomena: Sve komplet sa rednim stezaljkama, sabirnicama, kabelskim uvodnicama, spojnim vodičima P/F odgovarajućeg presjeka i boje izolacije, kabelskim kanalicama, natpisnim i upozornim pločicama, te ostalim sitnim materijalom i priključnim priborom. Pristupačne dijelove pod naponom prekriti izolacijskom pločom. Ugraditi džep za dokumentaciju. U cijenu uključiti vrijednost svih potrebnih radova i materijala
A45: 4. | B45: Dobava, montaža, ugradnja u zid i spajanje zidnog, plastičnog razdjelnog ormara potkrovlja oznake 'Rk' s neprozirnim vratima, 4 reda x 18 modula, komplet sa svim potrebnim montažnim i spojnim priborom.
A46: 4.1. | B46: Rastavna sklopka 4P, 32 A, prekidna moć 15 kA | C46: kom | D46: 1 | E46: 0 | F46: =D46*E46 -> 0
A47: 4.2. | B47: RCD strujna zaštitna sklopka 40 A / 30 mA / 4P | C47: kom | D47: 2 | E47: 0 | F47: =D47*E47 -> 0
A48: 4.3. | B48: RCD strujna zaštitna sklopka 25 A / 30 mA / 4P | C48: kom | D48: 1 | E48: 0 | F48: =D48*E48 -> 0
A49: 4.4. | B49: Katodni odvodnik prenapona 3P+N, sa signalizacijom stanja, 15kA/20kA, tip 2 | C49: kom | D49: 1 | E49: 0 | F49: =D49*E49 -> 0
A50: 4.5. | B50: automatski zaštitni prekidači:
A51: 4.5.1. | B51: C16 A, prekidna moć 10 kA, 1P | C51: kom | D51: 22 | E51: 0 | F51: =D51*E51 -> 0
A52: 4.5.2. | B52: C10 A, prekidna moć 10 kA, 1P | C52: kom | D52: 8 | E52: 0 | F52: =D52*E52 -> 0
A53: 4.5.3. | B53: C6 A, prekidna moć 10 kA, 1P | C53: kom | D53: 2 | E53: 0 | F53: =D53*E53 -> 0
A54: 4.5.4. | B54: C20 A, prekidna moć 10 kA, 1P | C54: kom | D54: 1 | E54: 0 | F54: =D54*E54 -> 0
A55: 4.6. | B55: Impulsni relej, 16A, 230 V | C55: kom | D55: 2 | E55: 0 | F55: =D55*E55 -> 0
A56: 4.7. | B56: zidni razdjeli ormar Rk | C56: kom | D56: 1 | E56: 0 | F56: =D56*E56 -> 0
B57: Napomena: Sve komplet sa rednim stezaljkama, sabirnicama, kabelskim uvodnicama, spojnim vodičima P/F odgovarajućeg presjeka i boje izolacije, kabelskim kanalicama, natpisnim i upozornim pločicama, te ostalim sitnim materijalom i priključnim priborom. Pristupačne dijelove pod naponom prekriti izolacijskom pločom. Ugraditi džep za dokumentaciju. U cijenu uključiti vrijednost svih potrebnih radova i materijala
A59: 5. | B59: Isporučiti, ugraditi i spojiti kutiju za dopunsko izjednačanje potencijala 'SIP' | C59: kom | D59: 2 | E59: 0 | F59: =D59*E59 -> 0
B62: UKUPNO 1: | F62: =SUM(F19:F60) -> 0
A65: 2. | B65: ELEKTRIČNA INSTALACIJA JAKE STRUJE
A67: 2.1. | B67: KABELI I INSTALACIJSKI PRIBOR
A69: 1. | B69: Dobava i polaganje u zid od blok ili pune opeke p/ž i u instalacijske cijevi, instalacijskih vodova, kabela (nakon polaganja obračunati stvarno utrošene količine):
B70: NYM-J 3x1.5 mm2 | C70: m | D70: 550 | E70: 0 | F70: =E70*D70 -> 0
B71: NYM-J 3x2.5 mm2 | C71: m | D71: 480 | E71: 0 | F71: =E71*D71 -> 0
B72: NYM-J 5x2.5 mm2 | C72: m | D72: 30 | E72: 0 | F72: =E72*D72 -> 0
B73: NYM-J 5x1.5 mm2 | C73: m | D73: 50 | E73: 0 | F73: =E73*D73 -> 0
B74: NYM-J 3x4 mm2 | C74: m | D74: 20 | E74: 0 | F74: =E74*D74 -> 0
A76: 2. | B76: Dobava i polaganje u zid/strop/pod od betona, bloka ili pune opeke p/ž . Komplet sa svim razvodnim i prolaznim kutijama:
B77: CSS cijev Φ40mm | C77: m | D77: 80 | E77: 0 | F77: =E77*D77 -> 0
B78: CSS cijev Φ32mm | C78: m | D78: 150 | E78: 0 | F78: =E78*D78 -> 0
B79: CSS cijev Φ25mm | C79: m | D79: 300 | E79: 0 | F79: =E79*D79 -> 0
B80: CSS cijev Φ16mm | C80: m | D80: 320 | E80: 0 | F80: =E80*D80 -> 0
B81: Komplet s montažom cijevi sa žljebljenjem zida, uvlačenjem vodova te montažom odgovarajućih razvodnih kutija prema potrebi.
B83: UKUPNO 2.1: | F83: =SUM(F69:F82) -> 0
A85: 2.2. | B85: RASVJETA, PRIKLJUČNICE I OSTALA TROŠILA
A87: 1. | B87: Isporuka i montaža na zid/strop i spajanje rasvjetnih tijela komplet s montažnim i spojnim priborom.
A88: 1.1. | B88: Nadgradna svjetiljka (oznaka na nacrtu A1), LED izvor svjetlosti, čelično kućište, pokrov od prizmatičnog difuzora, UGR<19, širina snopa distribucije svjetla 80-90°, efektivni svjetosni tok ili svjetlosni tok svjetiljke s uračunatim gubicima u optičkom sustavu min 3700 lm, snaga sistema max 31 W (LED izvor+driver), ukupna svjetlosna iskoristivost svjetiljke sa uračunatim gubicima u optičkom sustavu min. 119 lm/W, životni vijek LED modula ≥50.000 radnih sati uz 75 % održavanja inicijalnog svjetlosnog toka, temperatura boje svjetlosti 4000K, zaštita od prodora stranog tijela ≥IP20 dimenzije svjetilje min. 1200x200x50 mm (dozvoljeno odstupanje ±15%). | C88: kom | D88: 21 | E88: 0 | F88: =E88*D88 -> 0
A89: 1.2. | B89: Ovjesna linijska LED svjetiljka, (oznaka na nacrtu A2) mikroprizmatični difuzor, aluminijsko kućište, snaga sistema max. 42 W, svjetlosni tok svjetiljke min. 5177 lm, ukupna svjetlosna iskoristivost svjetiljke min. 123 lm/W, životni vijek LED modula ≥60.000 radnih sati uz 80% održavanja inicijalnog svjetlosnog toka, ≥IP40, ≥IK04, temperatura boje svjetlosti 4000K, svjetiljka dimenzija približno 1700x50x70 mm (dozvoljeno odstupanje ±15%). | C89: kom | D89: 1 | E89: 0 | F89: =E89*D89 -> 0
A90: 1.3. | B90: Ovjesna linijska LED svjetiljka, (oznaka na nacrtu A3) mikroprizmatični difuzor, aluminijsko kućište, snaga sistema max. 42 W, svjetlosni tok svjetiljke min. 5177 lm, ukupna svjetlosna iskoristivost svjetiljke min. 123 lm/W, životni vijek LED modula ≥60.000 radnih sati uz 80% održavanja inicijalnog svjetlosnog toka, ≥IP40, ≥IK04, temperatura boje svjetlosti 4000K svjetiljka dimenzija približno 1700x50x70 mm (dozvoljeno odstupanje ±15%). | C90: kom | D90: 1 | E90: 0 | F90: =E90*D90 -> 0
A91: 1.4. | B91: Ovjesna linijska LED svjetiljka, (oznaka na nacrtu A4) mikroprizmatični difuzor, aluminijsko kućište, snaga sistema max. 42 W, svjetlosni tok svjetiljke min. 5177 lm, ukupna svjetlosna iskoristivost svjetiljke min. 123 lm/W, životni vijek LED modula ≥60.000 radnih sati uz min. 80% održavanja inicijalnog svjetlosnog toka, ≥IP40, ≥IK04, temperatura boje svjetlosti 4000K, dimenzija približno 1700x50x70 mm (dozvoljeno odstupanje ±15%). | C91: kom | D91: 1 | E91: 0 | F91: =E91*D91 -> 0
A92: 1.4.1. | B92: Ovjesni pribor tip A | C92: kom | D92: 1 | E92: 0 | F92: =E92*D92 -> 0
A93: 1.4.2. | B93: Ovjesni pribor tip B | C93: kom | D93: 5 | E93: 0 | F93: =E93*D93 -> 0
A94: 1.4.3. | B94: Spojni komad | C94: kom | D94: 2 | E94: 0 | F94: =E94*D94 -> 0
A95: 1.5. | B95: Svjetiljka nadgradna, LED izvor svjetlosti, (oznaka na nacrtu A5) aluminijsko kućište, kut distribucije svjetla 80°-85°, efektivni svjetosni tok ili svjetlosni tok svjetiljke s uračunatim gubicima u optičkom sustavu min 2100 lm, snaga sistema max 21 W (LED izvor+driver), ukupna svjetlosna i skoristivost svjetiljke min. 100 lm/W, životni vijek LED modula ≥50.000 radnih sati uz 70% održavanja inicijalnog svjetlosnog toka, maksimalna dozvoljena udarna struja pokretanja 28,9 A pri Tref=0,0016ms, Ra>80, temperatura boje svjetlosti 4000K, zaštita min. IP44, dimenzije svjetiljke približno ф200x50 mm (dozvoljeno odstupanje ±15%). | C95: kom | D95: 3 | E95: 0 | F95: =E95*D95 -> 0
A96: 1.6. | B96: Svjetiljka nadgradna, LED izvor svjetlosti, (oznaka na nacrtu A6) UV stabilno plastično kućište, difuzor od UV stabilnog polikarbonata, efektivni svjetosni tok ili svjetlosni tok svjetiljke s uračunatim gubicima u optičkom sustavu min. 2780 lm, snaga sistema max. 24 W (LED izvor+driver), ukupna svjetlosna iskoristivost svjetiljke sa uračunatim gubicima u optičkom sustavu min. 115 lm/W, životni vijek LED modula≥50.000 radnih sati uz 90% održavanja inicijalnog svjetlosnog toka, uzvrat boje Ra>80, temperatura boje svjetlosti 4000K, zaštita min. IP54, mehanička zaštita svjetiljke min. IK10, rad na maksimalnoj temperaturi okoline +35°C, dimenzije svjetiljke približno ф300x90 mm (dozvoljeno odstupanje ±10%). | C96: kom | D96: 8 | E96: 0 | F96: =E96*D96 -> 0
A97: 1.7. | B97: Zidna nadgradna LED svjetiljka, (oznaka na nacrtu A7) aluminijsko kućište, snage max. 14W, svjetlosni tok min. 1050 lm, ukupna svjetlosn a iskoristivost svjetiljke min. 72 lm/W, životni vijek LED modula L70B50 ≥50.000 radnih sati uz 70% održavanja inicijalnog svjetlosnog toka, temperatura boje svjetlosti 4000K, Ra>80, IP44, IK04, svjetiljka maksimalne dužine 600 mm. (dozvoljeno odstupanje ±10%). | C97: kom | D97: 2 | E97: 0 | F97: =E97*D97 -> 0
A98: 1.8. | B98: Nadgradna zidna svjetiljka, (oznaka na nacrtu A8) LED izvor svjetlosti, aluminijsko kućište, efektivni svjetosni tok ili svjetlosni tok svjetiljke s uračunatim gubicima u optičkom sustavu min 105 lm, snaga sistema max 6 W (LED izvor+driver), ukupna svjetlosna i skoristivost svjetiljke min. 17,5 lm/W, životni vijek LED modula pri L70B30 ≥36.000 radnih sati uz 70% održavanja inicijalnog svjetlosnog toka, Ra>80, temperatura boje svjetlosti 3000K, zaštita od prodora stranog tijela min. IP20, dimenzije minimalno 90x80x80 mm (dozvoljeno odstupanje ±10%). | C98: kom | D98: 4 | E98: 0 | F98: =E98*D98 -> 0
A100: 1.9. | B100: Ugradna svjetiljka, (oznaka na nacrtu A9) LED izvor svjetlosti, aluminijsko kućište, visoko sjajni odsijač, UGR<19, efektivni svjetosni tok ili svjetlosni tok svjetiljke s uračunatim gubicima u optičkom sustavu min. 1200lm, snaga sistema max 12W (LED izvor+driver), ukupna svjetlosna iskoristivost svjetiljke min. 104 lm/W, životni vijek LED modula pri L70B50 ≥60.000 radnih sati uz 70% održavanja inicijalnog svjetlosnog toka, Ra>80, temperatura boje svjetlosti 4000K, zaštita ≥IP44, PF≥0,9. | C100: kom | D100: 4 | E100: 0 | F100: =E100*D100 -> 0
... A106: 1.13.1. | B106: PIKTOGRAM STRELICA DOLJE (150X300) | C106: kom | D106: 4 | E106: 0 | F106: =E106*D106 -> 0
A108: 2. | B108: Dobava, ugradnja u zidove od gips kartonskih ploča i zidove od betona ili opeke, te spajanje slijedeće modularne instalacijske opreme
B109: Sklopke, komplet s ugradbenom kutijom, držačem i okvirom
A111: 2.1 | B111: obična sklopka 10A, 230V, 2 modula s okvirom, nosačem i ugradbenom kutijom za 2 modula | C111: kom | D111: 17 | E111: 0 | F111: =E111*D111 -> 0
A113: 2.2 | B113: izmjenična sklopka 10A, 230V, 2 modula s okvirom, nosačem i ugradbenom kutijom za 2 modula | C113: kom | D113: 6 | E113: 0 | F113: =E113*D113 -> 0
A115: 2.3. | B115: tipkalo 6A, 250V, širine 2 modula | C115: kom | D115: 14 | E115: 0 | F115: =E115*D115 -> 0
A117: 3. | B117: Dobava, ugradnja i spajanje sljedeće instalacijske opreme:
B119: Priključnice, komplet s ugradbenom kutijom, držačem i okvirom
A120: 3.1 | B120: Priključnica 230V, 16A, 2P+E, 2 modula s okvirom, nosačem i ugradbenom kutijom za 2 modula | C120: kom | D120: 34 | E120: 0 | F120: =E120*D120 -> 0
A122: 3.2 | B122: Priključnica 230V sa zaštitnim poklopcem, 16A, 2P+E, 2 modula s okvirom, nosačem i ugradbenom kutijom za 2 modula | C122: kom | D122: 6 | E122: 0 | F122: =E122*D122 -> 0
A124: 3.3 | B124: Priključnica dvostruka 230V, 16A, 2P+E, 2x2 modula, s okvirom za 4 modula, nosačem i ugradbenom kutijom za 4 modula | C124: kom | D124: 2 | E124: 0 | F124: =E124*D124 -> 0
A126: 4. | B126: Dobava, ugradnja i spajanje priključnice za fiksni spoj, 5 stezaljki, p/ž | C126: kom | D126: 3 | E126: 0 | F126: =E126*D126 -> 0
A128: 5. | B128: Dobava, montaža i spajanje podne kutije za opremanje (12M) komplet s poklopcem, okvirom, ugradbenom kutijom za ugradnju i mogućnošću fiksiranja, stavka uključuje: 4 x Priključnica 230V s poklopcem, 16A, 2P+E, 2 modula 4x KAT.6 RJ45 priključnica, 1MODUL | C128: kpl | D128: 1 | E128: 0 | F128: =E128*D128 -> 0
A130: 6. | B130: Dobava, montaža i ugradnja sljedećeg modularnog seta: Priključnica 230V, 16A, 2P+E, 2 modula (2 kom.) KAT.6 RJ45 priključnica, 1 modul (2 kom.) okvir za 7 modula (1 kom.) nosač okvira za 7 modula (1. kom) ugradbena kutija (1 kom.) slijepi modul 1M (1 kom.) | C130: kpl | D130: 14 | E130: 0 | F130: =E130*D130 -> 0
A132: 7. | B132: Dobava, montaža i spajanje tipkala RJP za isklop razdjelnice u nuždi, za vanjsku montažu, stupnja zaštite IP65 | C132: kom | D132: 1 | E132: 0 | F132: =E132*D132 -> 0
A133: 8. | B133: Izvesti spajanje el. uređaja na el. instalaciju (termostati, klime, el.rolete i sl.) | C133: kpl | D133: 1 | E133: 0 | F133: =D133*E133 -> 0
B135: UKUPNO 2.2. | F135: =SUM(F87:F134) -> 0
B137: UKUPNO 2. | F137: =SUM(F83+F135) -> 0
A140: 3. | B140: INSTALACIJA SUSTAVA ZAŠTITE OD MUNJE (LPS) I IZJEDNAČENJA POTENCIJALA
A142: 1. | B142: Dobava i polaganje u zid od blok ili pune opeke p/ž i u instalacijske cijevi, instalacijskih vodova sa svim potrebnim razvodnim kutijama, opremljenim odgovarajućim stezaljkama. Sljedećih kabela: (nakon polaganja obračunati stvarno utrošene količine)
B143: H05V-K 1x6 mm2 | C143: m | D143: 80 | E143: 0 | F143: =D143*E143 -> 0
B144: H07V-R 1x10 mm2 | C144: m | D144: 40 | E144: 0 | F144: =D144*E144 -> 0
B145: H07V-R 1x16 mm2 | C145: m | D145: 25 | E145: 0 | F145: =D145*E145 -> 0
A147: 2. | B147: Izrada galvanskog premoštenja brojila vode i plina vodom H07V-R 10 mm2 i odgovarajućim antikorozivnim obujmicama. | C147: pauš. | D147: 1 | E147: 0 | F147: =D147*E147 -> 0
...

Sheet Strojarske instalacije
A1: Strojarski radovi
A3: NAPOMENA: Ove stavke troškovnika su sastavni dio općih uvjeta
A5: Sav demontirani materijal kojeg korisnik prostora odluči zadržati pažljivo deponirati na gradilištu, a materijal koji se ne zadržava zbrinuti na pripadajučoj javnoj deponiji.
A7: Cijena za svaku točku ovog troškovnika mora obuhvatiti dobavu, montažu, spajanje, te dovođenje stavke u stanje potpune funkcionalnosti. U cijenu treba ukalkulirati sav spojni, montažni, pridržni i ostali materijal potreban za potpuno funkcioniranje pojedine stavke. Izvođač je dužan prijenos, ugradnju i montažu opreme, kao i svu građevinsku pomoć izvesti o svom trošku, te sve radove nuditi u jediničnim cijenama predmetnog troškovnika
A8: redni | B8: opis opreme | C8: jed. | E8: jed. | F8: ukupna
A9: broj | B9: i radova | C9: mjera | D9: količina | E9: cijena | F9: cijena
A11: A MULTI SPLIT SUSTAV HLAĐENJA
A13: 1.0.0. | B13: Vanjske jedinice
A16: 1.1.1.
B17: Vanjska jedinica multi split sustava, s radnom tvari R-32, za spajanje do 4 unutarnje jedinice, namjenjena za vanjsku montažu - zaštićena od vremenskih utjecaja, s ugrađenim inverter kompresorom, zrakom hlađenim kondenzatorom i svim potrebnim elementima za zaštitu i kontrolu. Napomena: navedene vrijednosti opreme mogu odstupati do 10%
B18: Slijedećih tehničkih karakteristika:
B19: Hlađenje:
B20: Qh (maks./nom.) = 8,9/6,8 kW
B21: SEER= 8,54/7,29
B22: Grijanje:
B23: Qg (maks./nom.) = 11,10/8,6 kW
B24: SCOP= 4,65/3,83
C25: kom | D25: 1 | F25: =D25*E25 -> 0
A34: 1.1.2.
B35: Vanjska jedinica multi split sustava, s radnom tvari R-32, za spajanje do 2 unutarnje jedinice, namjenjena za vanjsku montažu - zaštićena od vremenskih utjecaja, s ugrađenim inverter kompresorom, zrakom hlađenim kondenzatorom i svim potrebnim elementima za zaštitu i kontrolu. Napomena: navedene vrijednosti opreme mogu odstupati do 10%
B37: Slijedećih tehničkih karakteristika:
B38: Hlađenje:
B39: Qh (maks./nom.) = 5,5/5,00 kW
B40: SEER= 8,80/8,51
B41: Grijanje:
B42: Qg (maks./nom.)= 6,3/5,6 kW
B43: SCOP= 4,79/4,61
C44: kom | D44: 1 | F44: =D44*E44 -> 0
A46: 2.0.0. | B46: Unutarnje jedinice
A47: 2.1.0. | B47: Profesionalna unutarnja zidna jedinica s maskom predviđena za montažu na zid, opremljena ventilatorom, 5-brzinskim elektromotorom, izmjenjivačem topline s direktnom ekspanzijom freona, te svim potrebnim elementima za filtriranje, zaštitu, kontrolu i regulaciju uređaja i temperature. Stavkom obuhvatiti sav potreban materijal i rad za odvoz kondenzata PVC cijevima fi 20 mm, do vanjske površine terasa. Napomena: navedene vrijednosti opreme mogu odstupati do 10%.
A49: 2.1.1. | B49: Tehničke karakteristike uređaja:
B50: Qh= 1,7 kW
B51: Qg= 1,9 kW
B52: N = 0,023 / 0,029 kW - 230 V - 50 Hz
B53: Stavka uključuje bežični daljinski upravljač sa 7-dnevnim timerom i ugrađenim WiFi sučeljem.
C54: kom | D54: 4 | F54: =D54*E54 -> 0
A59: 2.1.2. | B59: Tehničke karakteristike uređaja:
B60: Qh = 2,0 kW (1,3-2,6)
B61: Qg = 2,5 kW (1,3-3,5)
B62: N = 0,023 / 0,029 kW - 230 V - 50 Hz
C63: kom | D63: 1 | F63: =D63*E63 -> 0
A65: 2.1.3. | B65: Tehničke karakteristike uređaja:
B66: Qh = 3,4 kW (1,4-4,0)
B67: Qg = 4,0 kW (1,4-5,2)
B68: N = 0,027 / 0,030 kW - 230 V - 50 Hz
C69: kom | D69: 1 | F69: =D69*E69 -> 0
E71: UKUPNO A: | F71: =SUM(F24:F69) -> 0
A74: B . RADIJATORSKO GRIJANJE
A76: 1.0.0. | B76: Radijatori i pripadajuća oprema
B78: Čelični ventil kompakt radijatori sa priključkom u sredini, opremljeni kutnom priključnom garniturom i termostatskom glavom te konzolama za vješanje o zidslijedećih tipova i veličina:
B79: 11VM 600/400 | C79: kom | D79: 1 | F79: =D79*E79 -> 0
B80: 11VM 600/520 | C80: kom | D80: 1 | F80: =D80*E80 -> 0
B81: 21VM-S 600/400 | C81: kom | D81: 1 | F81: =D81*E81 -> 0
B82: 21VM-S 600/520 | C82: kom | D82: 7 | F82: =D82*E82 -> 0
B83: 21VM-S 600/600 | C83: kom | D83: 1 | F83: =D83*E83 -> 0
B84: 21VM-S 600/720 | C84: kom | D84: 1 | F84: =D84*E84 -> 0
E85: UKUPNO 1.0.0: | F85: =SUM(F79:F84) -> 0
A86: 2.0.0. | B86: Cijevni materijal i izolacija
B87: (Čelične cijevi Ø42,4x3,25, Cu cijevi Ø22x1, Ø28x1,5 i Ø35x1,5, PE-Al-PE cijevi Ø16x2 sa pripadajućim fitinzima , prelaznim komadima i izolacijom ) | C87: kom | D87: 1 | F87: =D87*E87 -> 0
E88: UKUPNO 2.0.0: | F88: =F87 -> 0
A89: 3.0.0. | B89: Oprema toplinske stanice
A91: 3.0.1. | B91: Cirkulacijska jedinica sastojeći se od: cirkulacijske pumpe, elektromotornog troputnog mješajučeg ventila, elektronskog regulatora sa pripadajućim osjetnicima za vođenje temperature polaznog voda prema vanjskoj temperaturi,sve sklopljeno u jednu cjelinu ,obloženo tvrdom termoizolacijom. Stavkom obuhvatiti građevinske radove probijanja kroz nosivi zid te njegovo vraćanje u prvobitno stanje. | C91: kom | D91: 1 | F91: =D91*E91 -> 0
A93: 3.0.2. | B93: Hidraulička skretnica, razdjelnici i ostala armatura potrebna za povezivanje na postojeći toplinski izvor u objektu | C93: kom | D93: 1 | F93: =D93*E93 -> 0
E94: UKUPNO 3.0.0: | F94: =SUM(F91:F93) -> 0
A97: 4.0.1. | B97: Demontaža stare te montaža nove instalacije do pune pogonske gotovosti. | C97: kom | D97: 1 | F97: =D97*E97 -> 0
A99: 4.0.2. | B99: Ispitivanja nove instalacije, koja uključuje tlačnu probu i probni rad sustava. Rezultate ispitivanja evidentirati kroz građevinski dnevnik. | C99: kom | D99: 1 | F99: =D99*E99 -> 0
E101: UKUPNO 4..0.0: | F101: =SUM(F97:F99) -> 0
E104: SVEUKUPNO : | F104: =F71+F85+F88+F94+F101 -> 0

Sheet Rekapitulacija
A1: REKAPITULACIJA
A3: 1. Građevinsko - obrtnički radovi | I3: ='Građ.-obrt. radovi'!I288 -> 0
A4: 2. Vanjsko stubište | I4: ='Vanjsko stubište'!I91 -> 0
A5: 3. Vodovod i kanalizacija | I5: ='Vodovod i kanalizacija'!I83 -> 0
A6: 4. Elektro instalacije | I6: =Elektroinstalacije!E238 -> 0
A7: 5. Strojarske instalacije | I7: ='Strojarske instalacije'!F104 -> 0
H9: UKUPNO: | I9: =SUM(I3:I7) -> 0
H10: PDV: | I10: =0.25*I9 -> 0
H11: UKUPNO S PDV-om: | I11: =I9+I10 -> 0
